{"text_format":"1","workbook":"xlsx","n_sheets":9,"sheets":["事前相談書","mkrain","runoff","逐次計算（概算）","浸透計算","逐次計算（浸透考慮）","調節計算（自然調節方式）","調節計算（自然調節方式_2段）","調節計算（ポンプ）"],"not_rendered":{"charts":0,"images":0,"macros":0,"external_links":0,"defined_names":1,"comments":0,"pivot_tables":0},"unopened":[],"bounds":{"document_bytes":16777216,"sheet_cells":100000,"rows_first":2000,"rows_last":500,"rows_between":2000,"halvings":0,"cell_chars":16384,"cell_head_chars":4096},"cells_cut":0,"cells_raw":0,"read":"whole","date_system":"1900"}

{"sheet":"事前相談書","index":0,"n_rows":25,"n_cols":32,"rows_kept":25,"cut":false,"hidden":false,"merged":[[5,6,5,13],[17,1,18,5],[18,6,19,6],[20,6,21,6],[22,6,23,6],[7,6,9,13],[10,6,12,13],[13,6,15,13],[36,1,36,13],[36,20,36,32],[16,25,17,25],[17,20,18,24],[18,25,19,25],[16,7,17,13],[18,7,19,13],[16,6,17,6],[20,25,21,25],[22,25,23,25],[20,7,21,13],[22,7,23,13],[24,7,24,10],[24,12,24,13]]}
[]
[null,null,null,null,null,null,null,null,null,null,null,"№","－",null,null,null,null,null,null,null,null,null,null,null,null,null,null,null,null,null,"№","－"]
[null,"雨 水 浸 透 阻 害 行 為 事 前 相 談 書",null,null,null,null,null,null,null,null,null,null,null,null,null,null,null,null,null,null,"雨 水 浸 透 阻 害 行 為 許 可 事 前 相 談 書"]
[]
[]
[null,"事前相談日時",null,null,null,null,"　　　令和　　年　　月　　日（　）　：　　～　　：",null,null,null,null,null,null,null,null,null,null,null,null,null,"事前相談日時",null,null,null,null,"　　　○○年○○月○○日（○）XX：XX～　　："]
[]
[]
[null,"事業区域に含まれる地域の名称",null,null,null,null,null,null,null,null,null,null,null,null,null,null,null,null,null,null,"事業区域に含まれる地域の名称",null,null,null,null,"　○○市○○町101番地、102番地、103番地"]
[]
[]
[null,"事業区域の面積",null,null,null,null,null,null,null,null,null,null,null,null,null,null,null,null,null,null,"事業区域の面積",null,null,null,null,"　0.250ha"]
[]
[]
[null,"予定する事業の計画の内容",null,null,null,null,null,null,null,null,null,null,null,null,null,null,null,null,null,null,"予定する事業の計画の内容",null,null,null,null,"　分譲住宅（１５宅地）の宅地造成"]
[]
[null,null,null,null,null,null,"住　所",null,null,null,null,null,null,null,null,null,null,null,null,null,null,null,null,null,null,"住　所"]
[null,"事業主又は建築主等の住所・氏名",null,null,null,null,null,null,null,null,null,null,null,null,null,null,null,null,null,null,"事業主又は建築主等の住所・氏名",null,null,null,null,null,null,"○○○○住宅建設株式会社"]
[null,null,null,null,null,null,"氏　名",null,null,null,null,null,null,null,null,null,null,null,null,null,null,null,null,null,null,"氏　名",null,"代表取締役　　○○　○○"]
[]
[null,null,null,null,null,null,"住　所",null,null,null,null,null,null,null,null,null,null,null,null,null,null,null,null,null,null,"住　所"]
[null,null,null,null,null,null,null,null,null,null,null,null,null,null,null,null,null,null,null,null,null,null,null,null,null,null,null,"○○市○○町１－１－１"]
[null,"代理人等の住所・氏名・連絡先",null,null,null,null,"氏　名",null,null,null,null,null,null,null,null,null,null,null,null,null,"代理人等の住所・氏名・連絡先",null,null,null,null,"氏　名",null,"○○○設計事務所株式会社"]
[]
[null,null,null,null,null,null,"連絡先",null,null,null,null,"担当者名",null,null,null,null,null,null,null,null,null,null,null,null,null,"連絡先","XXX","（XXX","）XXXX",null,"担当者名　○○"]

{"sheet":"mkrain","index":1,"n_rows":147,"n_cols":8,"rows_kept":147,"cut":false,"hidden":true,"merged":[]}
[null,"降雨ハイエト",null,null,null,null,{"$f":"MAX(G4:G147)","v":{"$error":"#REF!"}}]
[null,"埼玉県南部","埼玉県北部","東京都","茨城県",null,"対象エリア"]
[]
[null,4.0869999999999997,2.9617,4.0747,2.6570999999999998,1,{"$f":"ROUND(IF(#REF!=mkrain!B$2,mkrain!B4,IF(#REF!=mkrain!C$2,mkrain!C4,IF(#REF!=mkrain!D$2,mkrain!D4,mkrain!E4))),1)","v":{"$error":"#REF!"}},"対象エリアによって参照を変更する"]
[null,4.1269,2.9901,4.1143000000000001,2.6827999999999999,2,{"$f":"ROUND(IF(#REF!=mkrain!B$2,mkrain!B5,IF(#REF!=mkrain!C$2,mkrain!C5,IF(#REF!=mkrain!D$2,mkrain!D5,mkrain!E5))),1)","v":{"$error":"#REF!"}}]
[null,4.1677,3.0192000000000001,4.1548999999999996,2.7090999999999998,3,{"$f":"ROUND(IF(#REF!=mkrain!B$2,mkrain!B6,IF(#REF!=mkrain!C$2,mkrain!C6,IF(#REF!=mkrain!D$2,mkrain!D6,mkrain!E6))),1)","v":{"$error":"#REF!"}}]
[null,4.2096,3.0489999999999999,4.1966000000000001,2.7361,4,{"$f":"ROUND(IF(#REF!=mkrain!B$2,mkrain!B7,IF(#REF!=mkrain!C$2,mkrain!C7,IF(#REF!=mkrain!D$2,mkrain!D7,mkrain!E7))),1)","v":{"$error":"#REF!"}}]
[null,4.2525000000000004,3.0794999999999999,4.2393000000000001,2.7637999999999998,5,{"$f":"ROUND(IF(#REF!=mkrain!B$2,mkrain!B8,IF(#REF!=mkrain!C$2,mkrain!C8,IF(#REF!=mkrain!D$2,mkrain!D8,mkrain!E8))),1)","v":{"$error":"#REF!"}}]
[null,4.2965,3.1107999999999998,4.2830000000000004,2.7921,6,{"$f":"ROUND(IF(#REF!=mkrain!B$2,mkrain!B9,IF(#REF!=mkrain!C$2,mkrain!C9,IF(#REF!=mkrain!D$2,mkrain!D9,mkrain!E9))),1)","v":{"$error":"#REF!"}}]
[null,4.3417000000000003,3.1429999999999998,4.3280000000000003,2.8212000000000002,7,{"$f":"ROUND(IF(#REF!=mkrain!B$2,mkrain!B10,IF(#REF!=mkrain!C$2,mkrain!C10,IF(#REF!=mkrain!D$2,mkrain!D10,mkrain!E10))),1)","v":{"$error":"#REF!"}}]
[null,4.3879999999999999,3.1760000000000002,4.3741000000000003,2.8511000000000002,8,{"$f":"ROUND(IF(#REF!=mkrain!B$2,mkrain!B11,IF(#REF!=mkrain!C$2,mkrain!C11,IF(#REF!=mkrain!D$2,mkrain!D11,mkrain!E11))),1)","v":{"$error":"#REF!"}}]
[null,4.4356,3.2098,4.4214000000000002,2.8816999999999999,9,{"$f":"ROUND(IF(#REF!=mkrain!B$2,mkrain!B12,IF(#REF!=mkrain!C$2,mkrain!C12,IF(#REF!=mkrain!D$2,mkrain!D12,mkrain!E12))),1)","v":{"$error":"#REF!"}}]
[null,4.4844999999999997,3.2446000000000002,4.47,2.9131999999999998,10,{"$f":"ROUND(IF(#REF!=mkrain!B$2,mkrain!B13,IF(#REF!=mkrain!C$2,mkrain!C13,IF(#REF!=mkrain!D$2,mkrain!D13,mkrain!E13))),1)","v":{"$error":"#REF!"}}]
[null,4.5347999999999997,3.2803,4.5199999999999996,2.9456000000000002,11,{"$f":"ROUND(IF(#REF!=mkrain!B$2,mkrain!B14,IF(#REF!=mkrain!C$2,mkrain!C14,IF(#REF!=mkrain!D$2,mkrain!D14,mkrain!E14))),1)","v":{"$error":"#REF!"}}]
[null,4.5864000000000003,3.3170000000000002,4.5713999999999997,2.9788999999999999,12,{"$f":"ROUND(IF(#REF!=mkrain!B$2,mkrain!B15,IF(#REF!=mkrain!C$2,mkrain!C15,IF(#REF!=mkrain!D$2,mkrain!D15,mkrain!E15))),1)","v":{"$error":"#REF!"}}]
[null,4.6395999999999997,3.3548,4.6242000000000001,3.0131000000000001,13,{"$f":"ROUND(IF(#REF!=mkrain!B$2,mkrain!B16,IF(#REF!=mkrain!C$2,mkrain!C16,IF(#REF!=mkrain!D$2,mkrain!D16,mkrain!E16))),1)","v":{"$error":"#REF!"}}]
[null,4.6943000000000001,3.3936000000000002,4.6786000000000003,3.0482999999999998,14,{"$f":"ROUND(IF(#REF!=mkrain!B$2,mkrain!B17,IF(#REF!=mkrain!C$2,mkrain!C17,IF(#REF!=mkrain!D$2,mkrain!D17,mkrain!E17))),1)","v":{"$error":"#REF!"}}]
[null,4.7506000000000004,3.4336000000000002,4.7346000000000004,3.0844999999999998,15,{"$f":"ROUND(IF(#REF!=mkrain!B$2,mkrain!B18,IF(#REF!=mkrain!C$2,mkrain!C18,IF(#REF!=mkrain!D$2,mkrain!D18,mkrain!E18))),1)","v":{"$error":"#REF!"}}]
[null,4.8086000000000002,3.4748000000000001,4.7923,3.1219000000000001,16,{"$f":"ROUND(IF(#REF!=mkrain!B$2,mkrain!B19,IF(#REF!=mkrain!C$2,mkrain!C19,IF(#REF!=mkrain!D$2,mkrain!D19,mkrain!E19))),1)","v":{"$error":"#REF!"}}]
[null,4.8684000000000003,3.5171999999999999,4.8517999999999999,3.1602999999999999,17,{"$f":"ROUND(IF(#REF!=mkrain!B$2,mkrain!B20,IF(#REF!=mkrain!C$2,mkrain!C20,IF(#REF!=mkrain!D$2,mkrain!D20,mkrain!E20))),1)","v":{"$error":"#REF!"}}]
[null,4.9301000000000004,3.5609000000000002,4.9131,3.2,18,{"$f":"ROUND(IF(#REF!=mkrain!B$2,mkrain!B21,IF(#REF!=mkrain!C$2,mkrain!C21,IF(#REF!=mkrain!D$2,mkrain!D21,mkrain!E21))),1)","v":{"$error":"#REF!"}}]
[null,4.9936999999999996,3.6059999999999999,4.9763999999999999,3.2410000000000001,19,{"$f":"ROUND(IF(#REF!=mkrain!B$2,mkrain!B22,IF(#REF!=mkrain!C$2,mkrain!C22,IF(#REF!=mkrain!D$2,mkrain!D22,mkrain!E22))),1)","v":{"$error":"#REF!"}}]
[null,5.0594000000000001,3.6526000000000001,5.0416999999999996,3.2831999999999999,20,{"$f":"ROUND(IF(#REF!=mkrain!B$2,mkrain!B23,IF(#REF!=mkrain!C$2,mkrain!C23,IF(#REF!=mkrain!D$2,mkrain!D23,mkrain!E23))),1)","v":{"$error":"#REF!"}}]
[null,5.1273,3.7006999999999999,5.1092000000000004,3.3269000000000002,21,{"$f":"ROUND(IF(#REF!=mkrain!B$2,mkrain!B24,IF(#REF!=mkrain!C$2,mkrain!C24,IF(#REF!=mkrain!D$2,mkrain!D24,mkrain!E24))),1)","v":{"$error":"#REF!"}}]
[null,5.1974999999999998,3.7504,5.1790000000000003,3.3719999999999999,22,{"$f":"ROUND(IF(#REF!=mkrain!B$2,mkrain!B25,IF(#REF!=mkrain!C$2,mkrain!C25,IF(#REF!=mkrain!D$2,mkrain!D25,mkrain!E25))),1)","v":{"$error":"#REF!"}}]
[null,5.2701000000000002,3.8018000000000001,5.2511999999999999,3.4186999999999999,23,{"$f":"ROUND(IF(#REF!=mkrain!B$2,mkrain!B26,IF(#REF!=mkrain!C$2,mkrain!C26,IF(#REF!=mkrain!D$2,mkrain!D26,mkrain!E26))),1)","v":{"$error":"#REF!"}}]
[null,5.3452999999999999,3.855,5.3258999999999999,3.4670000000000001,24,{"$f":"ROUND(IF(#REF!=mkrain!B$2,mkrain!B27,IF(#REF!=mkrain!C$2,mkrain!C27,IF(#REF!=mkrain!D$2,mkrain!D27,mkrain!E27))),1)","v":{"$error":"#REF!"}}]
[null,5.4231999999999996,3.9100999999999999,5.4032999999999998,3.5171000000000001,25,{"$f":"ROUND(IF(#REF!=mkrain!B$2,mkrain!B28,IF(#REF!=mkrain!C$2,mkrain!C28,IF(#REF!=mkrain!D$2,mkrain!D28,mkrain!E28))),1)","v":{"$error":"#REF!"}}]
[null,5.5038999999999998,3.9672000000000001,5.4836,3.5689000000000002,26,{"$f":"ROUND(IF(#REF!=mkrain!B$2,mkrain!B29,IF(#REF!=mkrain!C$2,mkrain!C29,IF(#REF!=mkrain!D$2,mkrain!D29,mkrain!E29))),1)","v":{"$error":"#REF!"}}]
[null,5.5876999999999999,4.0265000000000004,5.5667999999999997,3.6227,27,{"$f":"ROUND(IF(#REF!=mkrain!B$2,mkrain!B30,IF(#REF!=mkrain!C$2,mkrain!C30,IF(#REF!=mkrain!D$2,mkrain!D30,mkrain!E30))),1)","v":{"$error":"#REF!"}}]
[null,5.6746999999999996,4.0879000000000003,5.6532999999999998,3.6785999999999999,28,{"$f":"ROUND(IF(#REF!=mkrain!B$2,mkrain!B31,IF(#REF!=mkrain!C$2,mkrain!C31,IF(#REF!=mkrain!D$2,mkrain!D31,mkrain!E31))),1)","v":{"$error":"#REF!"}}]
[null,5.7651000000000003,4.1517999999999997,5.7431000000000001,3.7366999999999999,29,{"$f":"ROUND(IF(#REF!=mkrain!B$2,mkrain!B32,IF(#REF!=mkrain!C$2,mkrain!C32,IF(#REF!=mkrain!D$2,mkrain!D32,mkrain!E32))),1)","v":{"$error":"#REF!"}}]
[null,5.8590999999999998,4.2182000000000004,5.8365999999999998,3.7970999999999999,30,{"$f":"ROUND(IF(#REF!=mkrain!B$2,mkrain!B33,IF(#REF!=mkrain!C$2,mkrain!C33,IF(#REF!=mkrain!D$2,mkrain!D33,mkrain!E33))),1)","v":{"$error":"#REF!"}}]
[null,5.9570999999999996,4.2873000000000001,5.9339000000000004,3.8599000000000001,31,{"$f":"ROUND(IF(#REF!=mkrain!B$2,mkrain!B34,IF(#REF!=mkrain!C$2,mkrain!C34,IF(#REF!=mkrain!D$2,mkrain!D34,mkrain!E34))),1)","v":{"$error":"#REF!"}}]
[null,6.0590999999999999,4.3593000000000002,6.0354000000000001,3.9253999999999998,32,{"$f":"ROUND(IF(#REF!=mkrain!B$2,mkrain!B35,IF(#REF!=mkrain!C$2,mkrain!C35,IF(#REF!=mkrain!D$2,mkrain!D35,mkrain!E35))),1)","v":{"$error":"#REF!"}}]
[null,6.1656000000000004,4.4344000000000001,6.1412000000000004,3.9937999999999998,33,{"$f":"ROUND(IF(#REF!=mkrain!B$2,mkrain!B36,IF(#REF!=mkrain!C$2,mkrain!C36,IF(#REF!=mkrain!D$2,mkrain!D36,mkrain!E36))),1)","v":{"$error":"#REF!"}}]
[null,6.2767999999999997,4.5126999999999997,6.2516999999999996,4.0651000000000002,34,{"$f":"ROUND(IF(#REF!=mkrain!B$2,mkrain!B37,IF(#REF!=mkrain!C$2,mkrain!C37,IF(#REF!=mkrain!D$2,mkrain!D37,mkrain!E37))),1)","v":{"$error":"#REF!"}}]
[null,6.3930999999999996,4.5946999999999996,6.3673000000000002,4.1397000000000004,35,{"$f":"ROUND(IF(#REF!=mkrain!B$2,mkrain!B38,IF(#REF!=mkrain!C$2,mkrain!C38,IF(#REF!=mkrain!D$2,mkrain!D38,mkrain!E38))),1)","v":{"$error":"#REF!"}}]
[null,6.5148999999999999,4.6803999999999997,6.4882,4.2178000000000004,36,{"$f":"ROUND(IF(#REF!=mkrain!B$2,mkrain!B39,IF(#REF!=mkrain!C$2,mkrain!C39,IF(#REF!=mkrain!D$2,mkrain!D39,mkrain!E39))),1)","v":{"$error":"#REF!"}}]
[null,6.6425000000000001,4.7702,6.6150000000000002,4.2996999999999996,37,{"$f":"ROUND(IF(#REF!=mkrain!B$2,mkrain!B40,IF(#REF!=mkrain!C$2,mkrain!C40,IF(#REF!=mkrain!D$2,mkrain!D40,mkrain!E40))),1)","v":{"$error":"#REF!"}}]
[null,6.7765000000000004,4.8643999999999998,6.7481999999999998,4.3855000000000004,38,{"$f":"ROUND(IF(#REF!=mkrain!B$2,mkrain!B41,IF(#REF!=mkrain!C$2,mkrain!C41,IF(#REF!=mkrain!D$2,mkrain!D41,mkrain!E41))),1)","v":{"$error":"#REF!"}}]
[null,6.9173,4.9634,6.8880999999999997,4.4757999999999996,39,{"$f":"ROUND(IF(#REF!=mkrain!B$2,mkrain!B42,IF(#REF!=mkrain!C$2,mkrain!C42,IF(#REF!=mkrain!D$2,mkrain!D42,mkrain!E42))),1)","v":{"$error":"#REF!"}}]
[null,7.0655000000000001,5.0675999999999997,7.0353000000000003,4.5708000000000002,40,{"$f":"ROUND(IF(#REF!=mkrain!B$2,mkrain!B43,IF(#REF!=mkrain!C$2,mkrain!C43,IF(#REF!=mkrain!D$2,mkrain!D43,mkrain!E43))),1)","v":{"$error":"#REF!"}}]
[null,7.2218,5.1773999999999996,7.1905999999999999,4.6710000000000003,41,{"$f":"ROUND(IF(#REF!=mkrain!B$2,mkrain!B44,IF(#REF!=mkrain!C$2,mkrain!C44,IF(#REF!=mkrain!D$2,mkrain!D44,mkrain!E44))),1)","v":{"$error":"#REF!"}}]
[null,7.3868999999999998,5.2933000000000003,7.3547000000000002,4.7766999999999999,42,{"$f":"ROUND(IF(#REF!=mkrain!B$2,mkrain!B45,IF(#REF!=mkrain!C$2,mkrain!C45,IF(#REF!=mkrain!D$2,mkrain!D45,mkrain!E45))),1)","v":{"$error":"#REF!"}}]
[null,7.5616000000000003,5.4157999999999999,7.5282,4.8886000000000003,43,{"$f":"ROUND(IF(#REF!=mkrain!B$2,mkrain!B46,IF(#REF!=mkrain!C$2,mkrain!C46,IF(#REF!=mkrain!D$2,mkrain!D46,mkrain!E46))),1)","v":{"$error":"#REF!"}}]
[null,7.7468000000000004,5.5457000000000001,7.7122000000000002,5.0072000000000001,44,{"$f":"ROUND(IF(#REF!=mkrain!B$2,mkrain!B47,IF(#REF!=mkrain!C$2,mkrain!C47,IF(#REF!=mkrain!D$2,mkrain!D47,mkrain!E47))),1)","v":{"$error":"#REF!"}}]
[null,7.9436,5.6836000000000002,7.9076000000000004,5.1332000000000004,45,{"$f":"ROUND(IF(#REF!=mkrain!B$2,mkrain!B48,IF(#REF!=mkrain!C$2,mkrain!C48,IF(#REF!=mkrain!D$2,mkrain!D48,mkrain!E48))),1)","v":{"$error":"#REF!"}}]
[null,8.1531000000000002,5.8303000000000003,8.1158000000000001,5.2674000000000003,46,{"$f":"ROUND(IF(#REF!=mkrain!B$2,mkrain!B49,IF(#REF!=mkrain!C$2,mkrain!C49,IF(#REF!=mkrain!D$2,mkrain!D49,mkrain!E49))),1)","v":{"$error":"#REF!"}}]
[null,8.3766999999999996,5.9867999999999997,8.3378999999999994,5.4104999999999999,47,{"$f":"ROUND(IF(#REF!=mkrain!B$2,mkrain!B50,IF(#REF!=mkrain!C$2,mkrain!C50,IF(#REF!=mkrain!D$2,mkrain!D50,mkrain!E50))),1)","v":{"$error":"#REF!"}}]
[null,8.6159999999999997,6.1542000000000003,8.5755999999999997,5.5636000000000001,48,{"$f":"ROUND(IF(#REF!=mkrain!B$2,mkrain!B51,IF(#REF!=mkrain!C$2,mkrain!C51,IF(#REF!=mkrain!D$2,mkrain!D51,mkrain!E51))),1)","v":{"$error":"#REF!"}}]
[null,8.8727,6.3337000000000003,8.8306000000000004,5.7279,49,{"$f":"ROUND(IF(#REF!=mkrain!B$2,mkrain!B52,IF(#REF!=mkrain!C$2,mkrain!C52,IF(#REF!=mkrain!D$2,mkrain!D52,mkrain!E52))),1)","v":{"$error":"#REF!"}}]
[null,9.1491000000000007,6.5267999999999997,9.1051000000000002,5.9047000000000001,50,{"$f":"ROUND(IF(#REF!=mkrain!B$2,mkrain!B53,IF(#REF!=mkrain!C$2,mkrain!C53,IF(#REF!=mkrain!D$2,mkrain!D53,mkrain!E53))),1)","v":{"$error":"#REF!"}}]
[null,9.4474999999999998,6.7351999999999999,9.4016000000000002,6.0956000000000001,51,{"$f":"ROUND(IF(#REF!=mkrain!B$2,mkrain!B54,IF(#REF!=mkrain!C$2,mkrain!C54,IF(#REF!=mkrain!D$2,mkrain!D54,mkrain!E54))),1)","v":{"$error":"#REF!"}}]
[null,9.7708999999999993,6.9608999999999996,9.7227999999999994,6.3025000000000002,52,{"$f":"ROUND(IF(#REF!=mkrain!B$2,mkrain!B55,IF(#REF!=mkrain!C$2,mkrain!C55,IF(#REF!=mkrain!D$2,mkrain!D55,mkrain!E55))),1)","v":{"$error":"#REF!"}}]
[null,10.1229,7.2064000000000004,10.0725,6.5277000000000003,53,{"$f":"ROUND(IF(#REF!=mkrain!B$2,mkrain!B56,IF(#REF!=mkrain!C$2,mkrain!C56,IF(#REF!=mkrain!D$2,mkrain!D56,mkrain!E56))),1)","v":{"$error":"#REF!"}}]
[null,10.5075,7.4745999999999997,10.454599999999999,6.7736999999999998,54,{"$f":"ROUND(IF(#REF!=mkrain!B$2,mkrain!B57,IF(#REF!=mkrain!C$2,mkrain!C57,IF(#REF!=mkrain!D$2,mkrain!D57,mkrain!E57))),1)","v":{"$error":"#REF!"}}]
[null,10.9299,7.7689000000000004,10.8742,7.0438999999999998,55,{"$f":"ROUND(IF(#REF!=mkrain!B$2,mkrain!B58,IF(#REF!=mkrain!C$2,mkrain!C58,IF(#REF!=mkrain!D$2,mkrain!D58,mkrain!E58))),1)","v":{"$error":"#REF!"}}]
[null,11.3962,8.0937000000000001,11.3376,7.3422000000000001,56,{"$f":"ROUND(IF(#REF!=mkrain!B$2,mkrain!B59,IF(#REF!=mkrain!C$2,mkrain!C59,IF(#REF!=mkrain!D$2,mkrain!D59,mkrain!E59))),1)","v":{"$error":"#REF!"}}]
[null,11.914300000000001,8.4544999999999995,11.852399999999999,7.6737000000000002,57,{"$f":"ROUND(IF(#REF!=mkrain!B$2,mkrain!B60,IF(#REF!=mkrain!C$2,mkrain!C60,IF(#REF!=mkrain!D$2,mkrain!D60,mkrain!E60))),1)","v":{"$error":"#REF!"}}]
[null,12.4937,8.8577999999999992,12.4283,8.0446000000000009,58,{"$f":"ROUND(IF(#REF!=mkrain!B$2,mkrain!B61,IF(#REF!=mkrain!C$2,mkrain!C61,IF(#REF!=mkrain!D$2,mkrain!D61,mkrain!E61))),1)","v":{"$error":"#REF!"}}]
[null,13.1469,9.3124000000000002,13.077500000000001,8.4627999999999997,59,{"$f":"ROUND(IF(#REF!=mkrain!B$2,mkrain!B62,IF(#REF!=mkrain!C$2,mkrain!C62,IF(#REF!=mkrain!D$2,mkrain!D62,mkrain!E62))),1)","v":{"$error":"#REF!"}}]
[null,13.889799999999999,9.8294999999999995,13.8162,8.9387000000000008,60,{"$f":"ROUND(IF(#REF!=mkrain!B$2,mkrain!B63,IF(#REF!=mkrain!C$2,mkrain!C63,IF(#REF!=mkrain!D$2,mkrain!D63,mkrain!E63))),1)","v":{"$error":"#REF!"}}]
[null,14.743499999999999,10.4239,14.6653,9.4861000000000004,61,{"$f":"ROUND(IF(#REF!=mkrain!B$2,mkrain!B64,IF(#REF!=mkrain!C$2,mkrain!C64,IF(#REF!=mkrain!D$2,mkrain!D64,mkrain!E64))),1)","v":{"$error":"#REF!"}}]
[null,15.736700000000001,11.1158,15.653600000000001,10.1236,62,{"$f":"ROUND(IF(#REF!=mkrain!B$2,mkrain!B65,IF(#REF!=mkrain!C$2,mkrain!C65,IF(#REF!=mkrain!D$2,mkrain!D65,mkrain!E65))),1)","v":{"$error":"#REF!"}}]
[null,16.909099999999999,11.9335,16.820699999999999,10.8772,63,{"$f":"ROUND(IF(#REF!=mkrain!B$2,mkrain!B66,IF(#REF!=mkrain!C$2,mkrain!C66,IF(#REF!=mkrain!D$2,mkrain!D66,mkrain!E66))),1)","v":{"$error":"#REF!"}}]
[null,18.317499999999999,12.9176,18.223800000000001,11.7844,64,{"$f":"ROUND(IF(#REF!=mkrain!B$2,mkrain!B67,IF(#REF!=mkrain!C$2,mkrain!C67,IF(#REF!=mkrain!D$2,mkrain!D67,mkrain!E67))),1)","v":{"$error":"#REF!"}}]
[null,20.046700000000001,14.129300000000001,19.948,12.901199999999999,65,{"$f":"ROUND(IF(#REF!=mkrain!B$2,mkrain!B68,IF(#REF!=mkrain!C$2,mkrain!C68,IF(#REF!=mkrain!D$2,mkrain!D68,mkrain!E68))),1)","v":{"$error":"#REF!"}}]
[null,22.229099999999999,15.6655,22.126999999999999,14.3164,66,{"$f":"ROUND(IF(#REF!=mkrain!B$2,mkrain!B69,IF(#REF!=mkrain!C$2,mkrain!C69,IF(#REF!=mkrain!D$2,mkrain!D69,mkrain!E69))),1)","v":{"$error":"#REF!"}}]
[null,25.085100000000001,17.690000000000001,24.983499999999999,16.178999999999998,67,{"$f":"ROUND(IF(#REF!=mkrain!B$2,mkrain!B70,IF(#REF!=mkrain!C$2,mkrain!C70,IF(#REF!=mkrain!D$2,mkrain!D70,mkrain!E70))),1)","v":{"$error":"#REF!"}}]
[null,29.012899999999998,20.505800000000001,28.922000000000001,18.762599999999999,68,{"$f":"ROUND(IF(#REF!=mkrain!B$2,mkrain!B71,IF(#REF!=mkrain!C$2,mkrain!C71,IF(#REF!=mkrain!D$2,mkrain!D71,mkrain!E71))),1)","v":{"$error":"#REF!"}}]
[null,34.82,24.7499,34.7682,22.634899999999998,69,{"$f":"ROUND(IF(#REF!=mkrain!B$2,mkrain!B72,IF(#REF!=mkrain!C$2,mkrain!C72,IF(#REF!=mkrain!D$2,mkrain!D72,mkrain!E72))),1)","v":{"$error":"#REF!"}}]
[null,44.465800000000002,32.059399999999997,44.544400000000003,29.223600000000001,70,{"$f":"ROUND(IF(#REF!=mkrain!B$2,mkrain!B73,IF(#REF!=mkrain!C$2,mkrain!C73,IF(#REF!=mkrain!D$2,mkrain!D73,mkrain!E73))),1)","v":{"$error":"#REF!"}}]
[null,64.504400000000004,48.560499999999998,65.132000000000005,43.628399999999999,71,{"$f":"ROUND(IF(#REF!=mkrain!B$2,mkrain!B74,IF(#REF!=mkrain!C$2,mkrain!C74,IF(#REF!=mkrain!D$2,mkrain!D74,mkrain!E74))),1)","v":{"$error":"#REF!"}}]
[null,155.57599999999999,172.3177,164.08529999999999,127.002,72,{"$f":"ROUND(IF(#REF!=mkrain!B$2,mkrain!B75,IF(#REF!=mkrain!C$2,mkrain!C75,IF(#REF!=mkrain!D$2,mkrain!D75,mkrain!E75))),1)","v":{"$error":"#REF!"}}]
[null,86.984200000000001,69.827200000000005,88.694000000000003,61.113900000000001,73,{"$f":"ROUND(IF(#REF!=mkrain!B$2,mkrain!B76,IF(#REF!=mkrain!C$2,mkrain!C76,IF(#REF!=mkrain!D$2,mkrain!D76,mkrain!E76))),1)","v":{"$error":"#REF!"}}]
[null,52.301299999999998,38.279200000000003,52.548999999999999,34.7346,74,{"$f":"ROUND(IF(#REF!=mkrain!B$2,mkrain!B77,IF(#REF!=mkrain!C$2,mkrain!C77,IF(#REF!=mkrain!D$2,mkrain!D77,mkrain!E77))),1)","v":{"$error":"#REF!"}}]
[null,38.9467,27.834099999999999,38.940399999999997,25.428599999999999,75,{"$f":"ROUND(IF(#REF!=mkrain!B$2,mkrain!B78,IF(#REF!=mkrain!C$2,mkrain!C78,IF(#REF!=mkrain!D$2,mkrain!D78,mkrain!E78))),1)","v":{"$error":"#REF!"}}]
[null,31.602,22.385200000000001,31.524999999999999,20.480899999999998,76,{"$f":"ROUND(IF(#REF!=mkrain!B$2,mkrain!B79,IF(#REF!=mkrain!C$2,mkrain!C79,IF(#REF!=mkrain!D$2,mkrain!D79,mkrain!E79))),1)","v":{"$error":"#REF!"}}]
[null,26.878699999999998,18.9709,26.7805,17.355399999999999,77,{"$f":"ROUND(IF(#REF!=mkrain!B$2,mkrain!B80,IF(#REF!=mkrain!C$2,mkrain!C80,IF(#REF!=mkrain!D$2,mkrain!D80,mkrain!E80))),1)","v":{"$error":"#REF!"}}]
[null,23.553799999999999,16.6023,23.4512,15.178800000000001,78,{"$f":"ROUND(IF(#REF!=mkrain!B$2,mkrain!B81,IF(#REF!=mkrain!C$2,mkrain!C81,IF(#REF!=mkrain!D$2,mkrain!D81,mkrain!E81))),1)","v":{"$error":"#REF!"}}]
[null,21.0702,14.848699999999999,20.9695,13.5641,79,{"$f":"ROUND(IF(#REF!=mkrain!B$2,mkrain!B82,IF(#REF!=mkrain!C$2,mkrain!C82,IF(#REF!=mkrain!D$2,mkrain!D82,mkrain!E82))),1)","v":{"$error":"#REF!"}}]
[null,19.135100000000001,13.49,19.038900000000002,12.311999999999999,80,{"$f":"ROUND(IF(#REF!=mkrain!B$2,mkrain!B83,IF(#REF!=mkrain!C$2,mkrain!C83,IF(#REF!=mkrain!D$2,mkrain!D83,mkrain!E83))),1)","v":{"$error":"#REF!"}}]
[null,17.5793,12.4015,17.488299999999999,11.3086,81,{"$f":"ROUND(IF(#REF!=mkrain!B$2,mkrain!B84,IF(#REF!=mkrain!C$2,mkrain!C84,IF(#REF!=mkrain!D$2,mkrain!D84,mkrain!E84))),1)","v":{"$error":"#REF!"}}]
[null,16.297499999999999,11.5067,16.2117,10.4839,82,{"$f":"ROUND(IF(#REF!=mkrain!B$2,mkrain!B85,IF(#REF!=mkrain!C$2,mkrain!C85,IF(#REF!=mkrain!D$2,mkrain!D85,mkrain!E85))),1)","v":{"$error":"#REF!"}}]
[null,15.220499999999999,10.7561,15.139900000000001,9.7921999999999993,83,{"$f":"ROUND(IF(#REF!=mkrain!B$2,mkrain!B86,IF(#REF!=mkrain!C$2,mkrain!C86,IF(#REF!=mkrain!D$2,mkrain!D86,mkrain!E86))),1)","v":{"$error":"#REF!"}}]
[null,14.3012,10.1159,14.2254,9.2025000000000006,84,{"$f":"ROUND(IF(#REF!=mkrain!B$2,mkrain!B87,IF(#REF!=mkrain!C$2,mkrain!C87,IF(#REF!=mkrain!D$2,mkrain!D87,mkrain!E87))),1)","v":{"$error":"#REF!"}}]
[null,13.5059,9.5623000000000005,13.4345,8.6928000000000001,85,{"$f":"ROUND(IF(#REF!=mkrain!B$2,mkrain!B88,IF(#REF!=mkrain!C$2,mkrain!C88,IF(#REF!=mkrain!D$2,mkrain!D88,mkrain!E88))),1)","v":{"$error":"#REF!"}}]
[null,12.8102,9.0780999999999992,12.742800000000001,8.2471999999999994,86,{"$f":"ROUND(IF(#REF!=mkrain!B$2,mkrain!B89,IF(#REF!=mkrain!C$2,mkrain!C89,IF(#REF!=mkrain!D$2,mkrain!D89,mkrain!E89))),1)","v":{"$error":"#REF!"}}]
[null,12.195600000000001,8.6502999999999997,12.132,7.8537999999999997,87,{"$f":"ROUND(IF(#REF!=mkrain!B$2,mkrain!B90,IF(#REF!=mkrain!C$2,mkrain!C90,IF(#REF!=mkrain!D$2,mkrain!D90,mkrain!E90))),1)","v":{"$error":"#REF!"}}]
[null,11.648199999999999,8.2691999999999997,11.587999999999999,7.5034999999999998,88,{"$f":"ROUND(IF(#REF!=mkrain!B$2,mkrain!B91,IF(#REF!=mkrain!C$2,mkrain!C91,IF(#REF!=mkrain!D$2,mkrain!D91,mkrain!E91))),1)","v":{"$error":"#REF!"}}]
[null,11.1571,7.9272,11.1,7.1891999999999996,89,{"$f":"ROUND(IF(#REF!=mkrain!B$2,mkrain!B92,IF(#REF!=mkrain!C$2,mkrain!C92,IF(#REF!=mkrain!D$2,mkrain!D92,mkrain!E92))),1)","v":{"$error":"#REF!"}}]
[null,10.7136,7.6181999999999999,10.6593,6.9055,90,{"$f":"ROUND(IF(#REF!=mkrain!B$2,mkrain!B93,IF(#REF!=mkrain!C$2,mkrain!C93,IF(#REF!=mkrain!D$2,mkrain!D93,mkrain!E93))),1)","v":{"$error":"#REF!"}}]
[null,10.3108,7.3375000000000004,10.2592,6.6478999999999999,91,{"$f":"ROUND(IF(#REF!=mkrain!B$2,mkrain!B94,IF(#REF!=mkrain!C$2,mkrain!C94,IF(#REF!=mkrain!D$2,mkrain!D94,mkrain!E94))),1)","v":{"$error":"#REF!"}}]
[null,9.9430999999999994,7.0810000000000004,9.8939000000000004,6.4127000000000001,92,{"$f":"ROUND(IF(#REF!=mkrain!B$2,mkrain!B95,IF(#REF!=mkrain!C$2,mkrain!C95,IF(#REF!=mkrain!D$2,mkrain!D95,mkrain!E95))),1)","v":{"$error":"#REF!"}}]
[null,9.6059000000000001,6.8457999999999997,9.5588999999999995,6.1970000000000001,93,{"$f":"ROUND(IF(#REF!=mkrain!B$2,mkrain!B96,IF(#REF!=mkrain!C$2,mkrain!C96,IF(#REF!=mkrain!D$2,mkrain!D96,mkrain!E96))),1)","v":{"$error":"#REF!"}}]
[null,9.2954000000000008,6.6289999999999996,9.2504000000000008,5.9983000000000004,94,{"$f":"ROUND(IF(#REF!=mkrain!B$2,mkrain!B97,IF(#REF!=mkrain!C$2,mkrain!C97,IF(#REF!=mkrain!D$2,mkrain!D97,mkrain!E97))),1)","v":{"$error":"#REF!"}}]
[null,9.0083000000000002,6.4284999999999997,8.9652999999999992,5.8147000000000002,95,{"$f":"ROUND(IF(#REF!=mkrain!B$2,mkrain!B98,IF(#REF!=mkrain!C$2,mkrain!C98,IF(#REF!=mkrain!D$2,mkrain!D98,mkrain!E98))),1)","v":{"$error":"#REF!"}}]
[null,8.7420000000000009,6.2423000000000002,8.7007999999999992,5.6443000000000003,96,{"$f":"ROUND(IF(#REF!=mkrain!B$2,mkrain!B99,IF(#REF!=mkrain!C$2,mkrain!C99,IF(#REF!=mkrain!D$2,mkrain!D99,mkrain!E99))),1)","v":{"$error":"#REF!"}}]
[null,8.4943000000000008,6.0690999999999997,8.4547000000000008,5.4856999999999996,97,{"$f":"ROUND(IF(#REF!=mkrain!B$2,mkrain!B100,IF(#REF!=mkrain!C$2,mkrain!C100,IF(#REF!=mkrain!D$2,mkrain!D100,mkrain!E100))),1)","v":{"$error":"#REF!"}}]
[null,8.2629999999999999,5.9073000000000002,8.2249999999999996,5.3376999999999999,98,{"$f":"ROUND(IF(#REF!=mkrain!B$2,mkrain!B101,IF(#REF!=mkrain!C$2,mkrain!C101,IF(#REF!=mkrain!D$2,mkrain!D101,mkrain!E101))),1)","v":{"$error":"#REF!"}}]
[null,8.0466999999999995,5.7557999999999998,8.01,5.1992000000000003,99,{"$f":"ROUND(IF(#REF!=mkrain!B$2,mkrain!B102,IF(#REF!=mkrain!C$2,mkrain!C102,IF(#REF!=mkrain!D$2,mkrain!D102,mkrain!E102))),1)","v":{"$error":"#REF!"}}]
[null,7.8437000000000001,5.6135999999999999,7.8083999999999998,5.0693000000000001,100,{"$f":"ROUND(IF(#REF!=mkrain!B$2,mkrain!B103,IF(#REF!=mkrain!C$2,mkrain!C103,IF(#REF!=mkrain!D$2,mkrain!D103,mkrain!E103))),1)","v":{"$error":"#REF!"}}]
[null,7.6528,5.4798,7.6188000000000002,4.9470999999999998,101,{"$f":"ROUND(IF(#REF!=mkrain!B$2,mkrain!B104,IF(#REF!=mkrain!C$2,mkrain!C104,IF(#REF!=mkrain!D$2,mkrain!D104,mkrain!E104))),1)","v":{"$error":"#REF!"}}]
[null,7.4729999999999999,5.3536999999999999,7.4401999999999999,4.8319000000000001,102,{"$f":"ROUND(IF(#REF!=mkrain!B$2,mkrain!B105,IF(#REF!=mkrain!C$2,mkrain!C105,IF(#REF!=mkrain!D$2,mkrain!D105,mkrain!E105))),1)","v":{"$error":"#REF!"}}]
[null,7.3032000000000004,5.2344999999999997,7.2714999999999996,4.7230999999999996,103,{"$f":"ROUND(IF(#REF!=mkrain!B$2,mkrain!B106,IF(#REF!=mkrain!C$2,mkrain!C106,IF(#REF!=mkrain!D$2,mkrain!D106,mkrain!E106))),1)","v":{"$error":"#REF!"}}]
[null,7.1425999999999998,5.1218000000000004,7.1119000000000003,4.6201999999999996,104,{"$f":"ROUND(IF(#REF!=mkrain!B$2,mkrain!B107,IF(#REF!=mkrain!C$2,mkrain!C107,IF(#REF!=mkrain!D$2,mkrain!D107,mkrain!E107))),1)","v":{"$error":"#REF!"}}]
[null,6.9904000000000002,5.0148999999999999,6.9607000000000001,4.5227000000000004,105,{"$f":"ROUND(IF(#REF!=mkrain!B$2,mkrain!B108,IF(#REF!=mkrain!C$2,mkrain!C108,IF(#REF!=mkrain!D$2,mkrain!D108,mkrain!E108))),1)","v":{"$error":"#REF!"}}]
[null,6.8460000000000001,4.9132999999999996,6.8171999999999997,4.4301000000000004,106,{"$f":"ROUND(IF(#REF!=mkrain!B$2,mkrain!B109,IF(#REF!=mkrain!C$2,mkrain!C109,IF(#REF!=mkrain!D$2,mkrain!D109,mkrain!E109))),1)","v":{"$error":"#REF!"}}]
[null,6.7085999999999997,4.8167999999999997,6.6807999999999996,4.3421000000000003,107,{"$f":"ROUND(IF(#REF!=mkrain!B$2,mkrain!B110,IF(#REF!=mkrain!C$2,mkrain!C110,IF(#REF!=mkrain!D$2,mkrain!D110,mkrain!E110))),1)","v":{"$error":"#REF!"}}]
[null,6.5778999999999996,4.7248000000000001,6.5509000000000004,4.2583000000000002,108,{"$f":"ROUND(IF(#REF!=mkrain!B$2,mkrain!B111,IF(#REF!=mkrain!C$2,mkrain!C111,IF(#REF!=mkrain!D$2,mkrain!D111,mkrain!E111))),1)","v":{"$error":"#REF!"}}]
[null,6.4532999999999996,4.6369999999999996,6.4269999999999996,4.1783000000000001,109,{"$f":"ROUND(IF(#REF!=mkrain!B$2,mkrain!B112,IF(#REF!=mkrain!C$2,mkrain!C112,IF(#REF!=mkrain!D$2,mkrain!D112,mkrain!E112))),1)","v":{"$error":"#REF!"}}]
[null,6.3342999999999998,4.5532000000000004,6.3087999999999997,4.1020000000000003,110,{"$f":"ROUND(IF(#REF!=mkrain!B$2,mkrain!B113,IF(#REF!=mkrain!C$2,mkrain!C113,IF(#REF!=mkrain!D$2,mkrain!D113,mkrain!E113))),1)","v":{"$error":"#REF!"}}]
[null,6.2206000000000001,4.4730999999999996,6.1958000000000002,4.0290999999999997,111,{"$f":"ROUND(IF(#REF!=mkrain!B$2,mkrain!B114,IF(#REF!=mkrain!C$2,mkrain!C114,IF(#REF!=mkrain!D$2,mkrain!D114,mkrain!E114))),1)","v":{"$error":"#REF!"}}]
[null,6.1117999999999997,4.3963999999999999,6.0876999999999999,3.9592000000000001,112,{"$f":"ROUND(IF(#REF!=mkrain!B$2,mkrain!B115,IF(#REF!=mkrain!C$2,mkrain!C115,IF(#REF!=mkrain!D$2,mkrain!D115,mkrain!E115))),1)","v":{"$error":"#REF!"}}]
[null,6.0075000000000003,4.3228999999999997,5.9840999999999998,3.8923000000000001,113,{"$f":"ROUND(IF(#REF!=mkrain!B$2,mkrain!B116,IF(#REF!=mkrain!C$2,mkrain!C116,IF(#REF!=mkrain!D$2,mkrain!D116,mkrain!E116))),1)","v":{"$error":"#REF!"}}]
[null,5.9076000000000004,4.2523999999999997,5.8848000000000003,3.8281999999999998,114,{"$f":"ROUND(IF(#REF!=mkrain!B$2,mkrain!B117,IF(#REF!=mkrain!C$2,mkrain!C117,IF(#REF!=mkrain!D$2,mkrain!D117,mkrain!E117))),1)","v":{"$error":"#REF!"}}]
[null,5.8116000000000003,4.1845999999999997,5.7893999999999997,3.7665999999999999,115,{"$f":"ROUND(IF(#REF!=mkrain!B$2,mkrain!B118,IF(#REF!=mkrain!C$2,mkrain!C118,IF(#REF!=mkrain!D$2,mkrain!D118,mkrain!E118))),1)","v":{"$error":"#REF!"}}]
[null,5.7194000000000003,4.1195000000000004,5.6978,3.7073999999999998,116,{"$f":"ROUND(IF(#REF!=mkrain!B$2,mkrain!B119,IF(#REF!=mkrain!C$2,mkrain!C119,IF(#REF!=mkrain!D$2,mkrain!D119,mkrain!E119))),1)","v":{"$error":"#REF!"}}]
[null,5.6307999999999998,4.0568999999999997,5.6096000000000004,3.6503999999999999,117,{"$f":"ROUND(IF(#REF!=mkrain!B$2,mkrain!B120,IF(#REF!=mkrain!C$2,mkrain!C120,IF(#REF!=mkrain!D$2,mkrain!D120,mkrain!E120))),1)","v":{"$error":"#REF!"}}]
[null,5.5453999999999999,3.9965999999999999,5.5247999999999999,3.5956000000000001,118,{"$f":"ROUND(IF(#REF!=mkrain!B$2,mkrain!B121,IF(#REF!=mkrain!C$2,mkrain!C121,IF(#REF!=mkrain!D$2,mkrain!D121,mkrain!E121))),1)","v":{"$error":"#REF!"}}]
[null,5.4631999999999996,3.9384000000000001,5.4431000000000003,3.5428000000000002,119,{"$f":"ROUND(IF(#REF!=mkrain!B$2,mkrain!B122,IF(#REF!=mkrain!C$2,mkrain!C122,IF(#REF!=mkrain!D$2,mkrain!D122,mkrain!E122))),1)","v":{"$error":"#REF!"}}]
[null,5.3838999999999997,3.8822999999999999,5.3642000000000003,3.4918,120,{"$f":"ROUND(IF(#REF!=mkrain!B$2,mkrain!B123,IF(#REF!=mkrain!C$2,mkrain!C123,IF(#REF!=mkrain!D$2,mkrain!D123,mkrain!E123))),1)","v":{"$error":"#REF!"}}]
[null,5.3074000000000003,3.8281999999999998,5.2881999999999998,3.4426000000000001,121,{"$f":"ROUND(IF(#REF!=mkrain!B$2,mkrain!B124,IF(#REF!=mkrain!C$2,mkrain!C124,IF(#REF!=mkrain!D$2,mkrain!D124,mkrain!E124))),1)","v":{"$error":"#REF!"}}]
[null,5.2335000000000003,3.7759,5.2148000000000003,3.3952,122,{"$f":"ROUND(IF(#REF!=mkrain!B$2,mkrain!B125,IF(#REF!=mkrain!C$2,mkrain!C125,IF(#REF!=mkrain!D$2,mkrain!D125,mkrain!E125))),1)","v":{"$error":"#REF!"}}]
[null,5.1620999999999997,3.7254,5.1437999999999997,3.3492999999999999,123,{"$f":"ROUND(IF(#REF!=mkrain!B$2,mkrain!B126,IF(#REF!=mkrain!C$2,mkrain!C126,IF(#REF!=mkrain!D$2,mkrain!D126,mkrain!E126))),1)","v":{"$error":"#REF!"}}]
[null,5.0930999999999997,3.6764999999999999,5.0751999999999997,3.3048999999999999,124,{"$f":"ROUND(IF(#REF!=mkrain!B$2,mkrain!B127,IF(#REF!=mkrain!C$2,mkrain!C127,IF(#REF!=mkrain!D$2,mkrain!D127,mkrain!E127))),1)","v":{"$error":"#REF!"}}]
[null,5.0263,3.6291000000000002,5.0087999999999999,3.2618999999999998,125,{"$f":"ROUND(IF(#REF!=mkrain!B$2,mkrain!B128,IF(#REF!=mkrain!C$2,mkrain!C128,IF(#REF!=mkrain!D$2,mkrain!D128,mkrain!E128))),1)","v":{"$error":"#REF!"}}]
[null,4.9617000000000004,3.5832999999999999,4.9444999999999997,3.2202999999999999,126,{"$f":"ROUND(IF(#REF!=mkrain!B$2,mkrain!B129,IF(#REF!=mkrain!C$2,mkrain!C129,IF(#REF!=mkrain!D$2,mkrain!D129,mkrain!E129))),1)","v":{"$error":"#REF!"}}]
[null,4.899,3.5388999999999999,4.8822000000000001,3.18,127,{"$f":"ROUND(IF(#REF!=mkrain!B$2,mkrain!B130,IF(#REF!=mkrain!C$2,mkrain!C130,IF(#REF!=mkrain!D$2,mkrain!D130,mkrain!E130))),1)","v":{"$error":"#REF!"}}]
[null,4.8383000000000003,3.4958,4.8217999999999996,3.141,128,{"$f":"ROUND(IF(#REF!=mkrain!B$2,mkrain!B131,IF(#REF!=mkrain!C$2,mkrain!C131,IF(#REF!=mkrain!D$2,mkrain!D131,mkrain!E131))),1)","v":{"$error":"#REF!"}}]
[null,4.7793999999999999,3.4540000000000002,4.7632000000000003,3.1031,129,{"$f":"ROUND(IF(#REF!=mkrain!B$2,mkrain!B132,IF(#REF!=mkrain!C$2,mkrain!C132,IF(#REF!=mkrain!D$2,mkrain!D132,mkrain!E132))),1)","v":{"$error":"#REF!"}}]
[null,4.7222,3.4134000000000002,4.7064000000000004,3.0663,130,{"$f":"ROUND(IF(#REF!=mkrain!B$2,mkrain!B133,IF(#REF!=mkrain!C$2,mkrain!C133,IF(#REF!=mkrain!D$2,mkrain!D133,mkrain!E133))),1)","v":{"$error":"#REF!"}}]
[null,4.6666999999999996,3.3740000000000001,4.6512000000000002,3.0306000000000002,131,{"$f":"ROUND(IF(#REF!=mkrain!B$2,mkrain!B134,IF(#REF!=mkrain!C$2,mkrain!C134,IF(#REF!=mkrain!D$2,mkrain!D134,mkrain!E134))),1)","v":{"$error":"#REF!"}}]
[null,4.6128,3.3357000000000001,4.5975999999999999,2.9958,132,{"$f":"ROUND(IF(#REF!=mkrain!B$2,mkrain!B135,IF(#REF!=mkrain!C$2,mkrain!C135,IF(#REF!=mkrain!D$2,mkrain!D135,mkrain!E135))),1)","v":{"$error":"#REF!"}}]
[null,4.5603999999999996,3.2985000000000002,4.5454999999999997,2.9621,133,{"$f":"ROUND(IF(#REF!=mkrain!B$2,mkrain!B136,IF(#REF!=mkrain!C$2,mkrain!C136,IF(#REF!=mkrain!D$2,mkrain!D136,mkrain!E136))),1)","v":{"$error":"#REF!"}}]
[null,4.5095000000000001,3.2623000000000002,4.4947999999999997,2.9293,134,{"$f":"ROUND(IF(#REF!=mkrain!B$2,mkrain!B137,IF(#REF!=mkrain!C$2,mkrain!C137,IF(#REF!=mkrain!D$2,mkrain!D137,mkrain!E137))),1)","v":{"$error":"#REF!"}}]
[null,4.4599000000000002,3.2271000000000001,4.4455,2.8974000000000002,135,{"$f":"ROUND(IF(#REF!=mkrain!B$2,mkrain!B138,IF(#REF!=mkrain!C$2,mkrain!C138,IF(#REF!=mkrain!D$2,mkrain!D138,mkrain!E138))),1)","v":{"$error":"#REF!"}}]
[null,4.4116999999999997,3.1928000000000001,4.3975999999999997,2.8662999999999998,136,{"$f":"ROUND(IF(#REF!=mkrain!B$2,mkrain!B139,IF(#REF!=mkrain!C$2,mkrain!C139,IF(#REF!=mkrain!D$2,mkrain!D139,mkrain!E139))),1)","v":{"$error":"#REF!"}}]
[null,4.3647,3.1594000000000002,4.3507999999999996,2.8361000000000001,137,{"$f":"ROUND(IF(#REF!=mkrain!B$2,mkrain!B140,IF(#REF!=mkrain!C$2,mkrain!C140,IF(#REF!=mkrain!D$2,mkrain!D140,mkrain!E140))),1)","v":{"$error":"#REF!"}}]
[null,4.319,3.1267999999999998,4.3052999999999999,2.8066,138,{"$f":"ROUND(IF(#REF!=mkrain!B$2,mkrain!B141,IF(#REF!=mkrain!C$2,mkrain!C141,IF(#REF!=mkrain!D$2,mkrain!D141,mkrain!E141))),1)","v":{"$error":"#REF!"}}]
[null,4.2744,3.0951,4.2610000000000001,2.7778999999999998,139,{"$f":"ROUND(IF(#REF!=mkrain!B$2,mkrain!B142,IF(#REF!=mkrain!C$2,mkrain!C142,IF(#REF!=mkrain!D$2,mkrain!D142,mkrain!E142))),1)","v":{"$error":"#REF!"}}]
[null,4.2309000000000001,3.0642,4.2178000000000004,2.7498999999999998,140,{"$f":"ROUND(IF(#REF!=mkrain!B$2,mkrain!B143,IF(#REF!=mkrain!C$2,mkrain!C143,IF(#REF!=mkrain!D$2,mkrain!D143,mkrain!E143))),1)","v":{"$error":"#REF!"}}]
[null,4.1885000000000003,3.0339999999999998,4.1756000000000002,2.7225000000000001,141,{"$f":"ROUND(IF(#REF!=mkrain!B$2,mkrain!B144,IF(#REF!=mkrain!C$2,mkrain!C144,IF(#REF!=mkrain!D$2,mkrain!D144,mkrain!E144))),1)","v":{"$error":"#REF!"}}]
[null,4.1471999999999998,3.0045000000000002,4.1345000000000001,2.6959,142,{"$f":"ROUND(IF(#REF!=mkrain!B$2,mkrain!B145,IF(#REF!=mkrain!C$2,mkrain!C145,IF(#REF!=mkrain!D$2,mkrain!D145,mkrain!E145))),1)","v":{"$error":"#REF!"}}]
[null,4.1069000000000004,2.9758,4.0944000000000003,2.6699000000000002,143,{"$f":"ROUND(IF(#REF!=mkrain!B$2,mkrain!B146,IF(#REF!=mkrain!C$2,mkrain!C146,IF(#REF!=mkrain!D$2,mkrain!D146,mkrain!E146))),1)","v":{"$error":"#REF!"}}]
[null,4.0674999999999999,2.9477000000000002,4.0552000000000001,2.6444999999999999,144,{"$f":"ROUND(IF(#REF!=mkrain!B$2,mkrain!B147,IF(#REF!=mkrain!C$2,mkrain!C147,IF(#REF!=mkrain!D$2,mkrain!D147,mkrain!E147))),1)","v":{"$error":"#REF!"}}]

{"sheet":"runoff","index":2,"n_rows":148,"n_cols":3,"rows_kept":148,"cut":false,"hidden":true,"merged":[]}
[null,{"$f":"MAX(B4:B148)","v":{"$error":"#REF!"}},{"$f":"MAX(C4:C148)","v":{"$error":"#REF!"}}]
[null,"行為前","行為後"]
[null,"流出量","流出量"]
["00:00:00",0,0]
["00:10:00",{"$f":"ROUND(1/360*#REF!*mkrain!$G4*#REF!,5)","v":{"$error":"#REF!"}},{"$f":"ROUND(1/360*#REF!*mkrain!$G4*#REF!,5)","v":{"$error":"#REF!"}}]
["00:20:00",{"$f":"ROUND(1/360*#REF!*mkrain!$G5*#REF!,5)","v":{"$error":"#REF!"}},{"$f":"ROUND(1/360*#REF!*mkrain!$G5*#REF!,5)","v":{"$error":"#REF!"}}]
["00:30:00",{"$f":"ROUND(1/360*#REF!*mkrain!$G6*#REF!,5)","v":{"$error":"#REF!"}},{"$f":"ROUND(1/360*#REF!*mkrain!$G6*#REF!,5)","v":{"$error":"#REF!"}}]
["00:40:00",{"$f":"ROUND(1/360*#REF!*mkrain!$G7*#REF!,5)","v":{"$error":"#REF!"}},{"$f":"ROUND(1/360*#REF!*mkrain!$G7*#REF!,5)","v":{"$error":"#REF!"}}]
["00:50:00",{"$f":"ROUND(1/360*#REF!*mkrain!$G8*#REF!,5)","v":{"$error":"#REF!"}},{"$f":"ROUND(1/360*#REF!*mkrain!$G8*#REF!,5)","v":{"$error":"#REF!"}}]
["01:00:00",{"$f":"ROUND(1/360*#REF!*mkrain!$G9*#REF!,5)","v":{"$error":"#REF!"}},{"$f":"ROUND(1/360*#REF!*mkrain!$G9*#REF!,5)","v":{"$error":"#REF!"}}]
["01:10:00",{"$f":"ROUND(1/360*#REF!*mkrain!$G10*#REF!,5)","v":{"$error":"#REF!"}},{"$f":"ROUND(1/360*#REF!*mkrain!$G10*#REF!,5)","v":{"$error":"#REF!"}}]
["01:20:00",{"$f":"ROUND(1/360*#REF!*mkrain!$G11*#REF!,5)","v":{"$error":"#REF!"}},{"$f":"ROUND(1/360*#REF!*mkrain!$G11*#REF!,5)","v":{"$error":"#REF!"}}]
["01:30:00",{"$f":"ROUND(1/360*#REF!*mkrain!$G12*#REF!,5)","v":{"$error":"#REF!"}},{"$f":"ROUND(1/360*#REF!*mkrain!$G12*#REF!,5)","v":{"$error":"#REF!"}}]
["01:40:00",{"$f":"ROUND(1/360*#REF!*mkrain!$G13*#REF!,5)","v":{"$error":"#REF!"}},{"$f":"ROUND(1/360*#REF!*mkrain!$G13*#REF!,5)","v":{"$error":"#REF!"}}]
["01:50:00",{"$f":"ROUND(1/360*#REF!*mkrain!$G14*#REF!,5)","v":{"$error":"#REF!"}},{"$f":"ROUND(1/360*#REF!*mkrain!$G14*#REF!,5)","v":{"$error":"#REF!"}}]
["02:00:00",{"$f":"ROUND(1/360*#REF!*mkrain!$G15*#REF!,5)","v":{"$error":"#REF!"}},{"$f":"ROUND(1/360*#REF!*mkrain!$G15*#REF!,5)","v":{"$error":"#REF!"}}]
["02:10:00",{"$f":"ROUND(1/360*#REF!*mkrain!$G16*#REF!,5)","v":{"$error":"#REF!"}},{"$f":"ROUND(1/360*#REF!*mkrain!$G16*#REF!,5)","v":{"$error":"#REF!"}}]
["02:20:00",{"$f":"ROUND(1/360*#REF!*mkrain!$G17*#REF!,5)","v":{"$error":"#REF!"}},{"$f":"ROUND(1/360*#REF!*mkrain!$G17*#REF!,5)","v":{"$error":"#REF!"}}]
["02:30:00",{"$f":"ROUND(1/360*#REF!*mkrain!$G18*#REF!,5)","v":{"$error":"#REF!"}},{"$f":"ROUND(1/360*#REF!*mkrain!$G18*#REF!,5)","v":{"$error":"#REF!"}}]
["02:40:00",{"$f":"ROUND(1/360*#REF!*mkrain!$G19*#REF!,5)","v":{"$error":"#REF!"}},{"$f":"ROUND(1/360*#REF!*mkrain!$G19*#REF!,5)","v":{"$error":"#REF!"}}]
["02:50:00",{"$f":"ROUND(1/360*#REF!*mkrain!$G20*#REF!,5)","v":{"$error":"#REF!"}},{"$f":"ROUND(1/360*#REF!*mkrain!$G20*#REF!,5)","v":{"$error":"#REF!"}}]
["03:00:00",{"$f":"ROUND(1/360*#REF!*mkrain!$G21*#REF!,5)","v":{"$error":"#REF!"}},{"$f":"ROUND(1/360*#REF!*mkrain!$G21*#REF!,5)","v":{"$error":"#REF!"}}]
["03:10:00",{"$f":"ROUND(1/360*#REF!*mkrain!$G22*#REF!,5)","v":{"$error":"#REF!"}},{"$f":"ROUND(1/360*#REF!*mkrain!$G22*#REF!,5)","v":{"$error":"#REF!"}}]
["03:20:00",{"$f":"ROUND(1/360*#REF!*mkrain!$G23*#REF!,5)","v":{"$error":"#REF!"}},{"$f":"ROUND(1/360*#REF!*mkrain!$G23*#REF!,5)","v":{"$error":"#REF!"}}]
["03:30:00",{"$f":"ROUND(1/360*#REF!*mkrain!$G24*#REF!,5)","v":{"$error":"#REF!"}},{"$f":"ROUND(1/360*#REF!*mkrain!$G24*#REF!,5)","v":{"$error":"#REF!"}}]
["03:40:00",{"$f":"ROUND(1/360*#REF!*mkrain!$G25*#REF!,5)","v":{"$error":"#REF!"}},{"$f":"ROUND(1/360*#REF!*mkrain!$G25*#REF!,5)","v":{"$error":"#REF!"}}]
["03:50:00",{"$f":"ROUND(1/360*#REF!*mkrain!$G26*#REF!,5)","v":{"$error":"#REF!"}},{"$f":"ROUND(1/360*#REF!*mkrain!$G26*#REF!,5)","v":{"$error":"#REF!"}}]
["04:00:00",{"$f":"ROUND(1/360*#REF!*mkrain!$G27*#REF!,5)","v":{"$error":"#REF!"}},{"$f":"ROUND(1/360*#REF!*mkrain!$G27*#REF!,5)","v":{"$error":"#REF!"}}]
["04:10:00",{"$f":"ROUND(1/360*#REF!*mkrain!$G28*#REF!,5)","v":{"$error":"#REF!"}},{"$f":"ROUND(1/360*#REF!*mkrain!$G28*#REF!,5)","v":{"$error":"#REF!"}}]
["04:20:00",{"$f":"ROUND(1/360*#REF!*mkrain!$G29*#REF!,5)","v":{"$error":"#REF!"}},{"$f":"ROUND(1/360*#REF!*mkrain!$G29*#REF!,5)","v":{"$error":"#REF!"}}]
["04:30:00",{"$f":"ROUND(1/360*#REF!*mkrain!$G30*#REF!,5)","v":{"$error":"#REF!"}},{"$f":"ROUND(1/360*#REF!*mkrain!$G30*#REF!,5)","v":{"$error":"#REF!"}}]
["04:40:00",{"$f":"ROUND(1/360*#REF!*mkrain!$G31*#REF!,5)","v":{"$error":"#REF!"}},{"$f":"ROUND(1/360*#REF!*mkrain!$G31*#REF!,5)","v":{"$error":"#REF!"}}]
["04:50:00",{"$f":"ROUND(1/360*#REF!*mkrain!$G32*#REF!,5)","v":{"$error":"#REF!"}},{"$f":"ROUND(1/360*#REF!*mkrain!$G32*#REF!,5)","v":{"$error":"#REF!"}}]
["05:00:00",{"$f":"ROUND(1/360*#REF!*mkrain!$G33*#REF!,5)","v":{"$error":"#REF!"}},{"$f":"ROUND(1/360*#REF!*mkrain!$G33*#REF!,5)","v":{"$error":"#REF!"}}]
["05:10:00",{"$f":"ROUND(1/360*#REF!*mkrain!$G34*#REF!,5)","v":{"$error":"#REF!"}},{"$f":"ROUND(1/360*#REF!*mkrain!$G34*#REF!,5)","v":{"$error":"#REF!"}}]
["05:20:00",{"$f":"ROUND(1/360*#REF!*mkrain!$G35*#REF!,5)","v":{"$error":"#REF!"}},{"$f":"ROUND(1/360*#REF!*mkrain!$G35*#REF!,5)","v":{"$error":"#REF!"}}]
["05:30:00",{"$f":"ROUND(1/360*#REF!*mkrain!$G36*#REF!,5)","v":{"$error":"#REF!"}},{"$f":"ROUND(1/360*#REF!*mkrain!$G36*#REF!,5)","v":{"$error":"#REF!"}}]
["05:40:00",{"$f":"ROUND(1/360*#REF!*mkrain!$G37*#REF!,5)","v":{"$error":"#REF!"}},{"$f":"ROUND(1/360*#REF!*mkrain!$G37*#REF!,5)","v":{"$error":"#REF!"}}]
["05:50:00",{"$f":"ROUND(1/360*#REF!*mkrain!$G38*#REF!,5)","v":{"$error":"#REF!"}},{"$f":"ROUND(1/360*#REF!*mkrain!$G38*#REF!,5)","v":{"$error":"#REF!"}}]
["06:00:00",{"$f":"ROUND(1/360*#REF!*mkrain!$G39*#REF!,5)","v":{"$error":"#REF!"}},{"$f":"ROUND(1/360*#REF!*mkrain!$G39*#REF!,5)","v":{"$error":"#REF!"}}]
["06:10:00",{"$f":"ROUND(1/360*#REF!*mkrain!$G40*#REF!,5)","v":{"$error":"#REF!"}},{"$f":"ROUND(1/360*#REF!*mkrain!$G40*#REF!,5)","v":{"$error":"#REF!"}}]
["06:20:00",{"$f":"ROUND(1/360*#REF!*mkrain!$G41*#REF!,5)","v":{"$error":"#REF!"}},{"$f":"ROUND(1/360*#REF!*mkrain!$G41*#REF!,5)","v":{"$error":"#REF!"}}]
["06:30:00",{"$f":"ROUND(1/360*#REF!*mkrain!$G42*#REF!,5)","v":{"$error":"#REF!"}},{"$f":"ROUND(1/360*#REF!*mkrain!$G42*#REF!,5)","v":{"$error":"#REF!"}}]
["06:40:00",{"$f":"ROUND(1/360*#REF!*mkrain!$G43*#REF!,5)","v":{"$error":"#REF!"}},{"$f":"ROUND(1/360*#REF!*mkrain!$G43*#REF!,5)","v":{"$error":"#REF!"}}]
["06:50:00",{"$f":"ROUND(1/360*#REF!*mkrain!$G44*#REF!,5)","v":{"$error":"#REF!"}},{"$f":"ROUND(1/360*#REF!*mkrain!$G44*#REF!,5)","v":{"$error":"#REF!"}}]
["07:00:00",{"$f":"ROUND(1/360*#REF!*mkrain!$G45*#REF!,5)","v":{"$error":"#REF!"}},{"$f":"ROUND(1/360*#REF!*mkrain!$G45*#REF!,5)","v":{"$error":"#REF!"}}]
["07:10:00",{"$f":"ROUND(1/360*#REF!*mkrain!$G46*#REF!,5)","v":{"$error":"#REF!"}},{"$f":"ROUND(1/360*#REF!*mkrain!$G46*#REF!,5)","v":{"$error":"#REF!"}}]
["07:20:00",{"$f":"ROUND(1/360*#REF!*mkrain!$G47*#REF!,5)","v":{"$error":"#REF!"}},{"$f":"ROUND(1/360*#REF!*mkrain!$G47*#REF!,5)","v":{"$error":"#REF!"}}]
["07:30:00",{"$f":"ROUND(1/360*#REF!*mkrain!$G48*#REF!,5)","v":{"$error":"#REF!"}},{"$f":"ROUND(1/360*#REF!*mkrain!$G48*#REF!,5)","v":{"$error":"#REF!"}}]
["07:40:00",{"$f":"ROUND(1/360*#REF!*mkrain!$G49*#REF!,5)","v":{"$error":"#REF!"}},{"$f":"ROUND(1/360*#REF!*mkrain!$G49*#REF!,5)","v":{"$error":"#REF!"}}]
["07:50:00",{"$f":"ROUND(1/360*#REF!*mkrain!$G50*#REF!,5)","v":{"$error":"#REF!"}},{"$f":"ROUND(1/360*#REF!*mkrain!$G50*#REF!,5)","v":{"$error":"#REF!"}}]
["08:00:00",{"$f":"ROUND(1/360*#REF!*mkrain!$G51*#REF!,5)","v":{"$error":"#REF!"}},{"$f":"ROUND(1/360*#REF!*mkrain!$G51*#REF!,5)","v":{"$error":"#REF!"}}]
["08:10:00",{"$f":"ROUND(1/360*#REF!*mkrain!$G52*#REF!,5)","v":{"$error":"#REF!"}},{"$f":"ROUND(1/360*#REF!*mkrain!$G52*#REF!,5)","v":{"$error":"#REF!"}}]
["08:20:00",{"$f":"ROUND(1/360*#REF!*mkrain!$G53*#REF!,5)","v":{"$error":"#REF!"}},{"$f":"ROUND(1/360*#REF!*mkrain!$G53*#REF!,5)","v":{"$error":"#REF!"}}]
["08:30:00",{"$f":"ROUND(1/360*#REF!*mkrain!$G54*#REF!,5)","v":{"$error":"#REF!"}},{"$f":"ROUND(1/360*#REF!*mkrain!$G54*#REF!,5)","v":{"$error":"#REF!"}}]
["08:40:00",{"$f":"ROUND(1/360*#REF!*mkrain!$G55*#REF!,5)","v":{"$error":"#REF!"}},{"$f":"ROUND(1/360*#REF!*mkrain!$G55*#REF!,5)","v":{"$error":"#REF!"}}]
["08:50:00",{"$f":"ROUND(1/360*#REF!*mkrain!$G56*#REF!,5)","v":{"$error":"#REF!"}},{"$f":"ROUND(1/360*#REF!*mkrain!$G56*#REF!,5)","v":{"$error":"#REF!"}}]
["09:00:00",{"$f":"ROUND(1/360*#REF!*mkrain!$G57*#REF!,5)","v":{"$error":"#REF!"}},{"$f":"ROUND(1/360*#REF!*mkrain!$G57*#REF!,5)","v":{"$error":"#REF!"}}]
["09:10:00",{"$f":"ROUND(1/360*#REF!*mkrain!$G58*#REF!,5)","v":{"$error":"#REF!"}},{"$f":"ROUND(1/360*#REF!*mkrain!$G58*#REF!,5)","v":{"$error":"#REF!"}}]
["09:20:00",{"$f":"ROUND(1/360*#REF!*mkrain!$G59*#REF!,5)","v":{"$error":"#REF!"}},{"$f":"ROUND(1/360*#REF!*mkrain!$G59*#REF!,5)","v":{"$error":"#REF!"}}]
["09:30:00",{"$f":"ROUND(1/360*#REF!*mkrain!$G60*#REF!,5)","v":{"$error":"#REF!"}},{"$f":"ROUND(1/360*#REF!*mkrain!$G60*#REF!,5)","v":{"$error":"#REF!"}}]
["09:40:00",{"$f":"ROUND(1/360*#REF!*mkrain!$G61*#REF!,5)","v":{"$error":"#REF!"}},{"$f":"ROUND(1/360*#REF!*mkrain!$G61*#REF!,5)","v":{"$error":"#REF!"}}]
["09:50:00",{"$f":"ROUND(1/360*#REF!*mkrain!$G62*#REF!,5)","v":{"$error":"#REF!"}},{"$f":"ROUND(1/360*#REF!*mkrain!$G62*#REF!,5)","v":{"$error":"#REF!"}}]
["10:00:00",{"$f":"ROUND(1/360*#REF!*mkrain!$G63*#REF!,5)","v":{"$error":"#REF!"}},{"$f":"ROUND(1/360*#REF!*mkrain!$G63*#REF!,5)","v":{"$error":"#REF!"}}]
["10:10:00",{"$f":"ROUND(1/360*#REF!*mkrain!$G64*#REF!,5)","v":{"$error":"#REF!"}},{"$f":"ROUND(1/360*#REF!*mkrain!$G64*#REF!,5)","v":{"$error":"#REF!"}}]
["10:20:00",{"$f":"ROUND(1/360*#REF!*mkrain!$G65*#REF!,5)","v":{"$error":"#REF!"}},{"$f":"ROUND(1/360*#REF!*mkrain!$G65*#REF!,5)","v":{"$error":"#REF!"}}]
["10:30:00",{"$f":"ROUND(1/360*#REF!*mkrain!$G66*#REF!,5)","v":{"$error":"#REF!"}},{"$f":"ROUND(1/360*#REF!*mkrain!$G66*#REF!,5)","v":{"$error":"#REF!"}}]
["10:40:00",{"$f":"ROUND(1/360*#REF!*mkrain!$G67*#REF!,5)","v":{"$error":"#REF!"}},{"$f":"ROUND(1/360*#REF!*mkrain!$G67*#REF!,5)","v":{"$error":"#REF!"}}]
["10:50:00",{"$f":"ROUND(1/360*#REF!*mkrain!$G68*#REF!,5)","v":{"$error":"#REF!"}},{"$f":"ROUND(1/360*#REF!*mkrain!$G68*#REF!,5)","v":{"$error":"#REF!"}}]
["11:00:00",{"$f":"ROUND(1/360*#REF!*mkrain!$G69*#REF!,5)","v":{"$error":"#REF!"}},{"$f":"ROUND(1/360*#REF!*mkrain!$G69*#REF!,5)","v":{"$error":"#REF!"}}]
["11:10:00",{"$f":"ROUND(1/360*#REF!*mkrain!$G70*#REF!,5)","v":{"$error":"#REF!"}},{"$f":"ROUND(1/360*#REF!*mkrain!$G70*#REF!,5)","v":{"$error":"#REF!"}}]
["11:20:00",{"$f":"ROUND(1/360*#REF!*mkrain!$G71*#REF!,5)","v":{"$error":"#REF!"}},{"$f":"ROUND(1/360*#REF!*mkrain!$G71*#REF!,5)","v":{"$error":"#REF!"}}]
["11:30:00",{"$f":"ROUND(1/360*#REF!*mkrain!$G72*#REF!,5)","v":{"$error":"#REF!"}},{"$f":"ROUND(1/360*#REF!*mkrain!$G72*#REF!,5)","v":{"$error":"#REF!"}}]
["11:40:00",{"$f":"ROUND(1/360*#REF!*mkrain!$G73*#REF!,5)","v":{"$error":"#REF!"}},{"$f":"ROUND(1/360*#REF!*mkrain!$G73*#REF!,5)","v":{"$error":"#REF!"}}]
["11:50:00",{"$f":"ROUND(1/360*#REF!*mkrain!$G74*#REF!,5)","v":{"$error":"#REF!"}},{"$f":"ROUND(1/360*#REF!*mkrain!$G74*#REF!,5)","v":{"$error":"#REF!"}}]
["12:00:00",{"$f":"ROUND(1/360*#REF!*mkrain!$G75*#REF!,5)","v":{"$error":"#REF!"}},{"$f":"ROUND(1/360*#REF!*mkrain!$G75*#REF!,5)","v":{"$error":"#REF!"}}]
["12:10:00",{"$f":"ROUND(1/360*#REF!*mkrain!$G76*#REF!,5)","v":{"$error":"#REF!"}},{"$f":"ROUND(1/360*#REF!*mkrain!$G76*#REF!,5)","v":{"$error":"#REF!"}}]
["12:20:00",{"$f":"ROUND(1/360*#REF!*mkrain!$G77*#REF!,5)","v":{"$error":"#REF!"}},{"$f":"ROUND(1/360*#REF!*mkrain!$G77*#REF!,5)","v":{"$error":"#REF!"}}]
["12:30:00",{"$f":"ROUND(1/360*#REF!*mkrain!$G78*#REF!,5)","v":{"$error":"#REF!"}},{"$f":"ROUND(1/360*#REF!*mkrain!$G78*#REF!,5)","v":{"$error":"#REF!"}}]
["12:40:00",{"$f":"ROUND(1/360*#REF!*mkrain!$G79*#REF!,5)","v":{"$error":"#REF!"}},{"$f":"ROUND(1/360*#REF!*mkrain!$G79*#REF!,5)","v":{"$error":"#REF!"}}]
["12:50:00",{"$f":"ROUND(1/360*#REF!*mkrain!$G80*#REF!,5)","v":{"$error":"#REF!"}},{"$f":"ROUND(1/360*#REF!*mkrain!$G80*#REF!,5)","v":{"$error":"#REF!"}}]
["13:00:00",{"$f":"ROUND(1/360*#REF!*mkrain!$G81*#REF!,5)","v":{"$error":"#REF!"}},{"$f":"ROUND(1/360*#REF!*mkrain!$G81*#REF!,5)","v":{"$error":"#REF!"}}]
["13:10:00",{"$f":"ROUND(1/360*#REF!*mkrain!$G82*#REF!,5)","v":{"$error":"#REF!"}},{"$f":"ROUND(1/360*#REF!*mkrain!$G82*#REF!,5)","v":{"$error":"#REF!"}}]
["13:20:00",{"$f":"ROUND(1/360*#REF!*mkrain!$G83*#REF!,5)","v":{"$error":"#REF!"}},{"$f":"ROUND(1/360*#REF!*mkrain!$G83*#REF!,5)","v":{"$error":"#REF!"}}]
["13:30:00",{"$f":"ROUND(1/360*#REF!*mkrain!$G84*#REF!,5)","v":{"$error":"#REF!"}},{"$f":"ROUND(1/360*#REF!*mkrain!$G84*#REF!,5)","v":{"$error":"#REF!"}}]
["13:40:00",{"$f":"ROUND(1/360*#REF!*mkrain!$G85*#REF!,5)","v":{"$error":"#REF!"}},{"$f":"ROUND(1/360*#REF!*mkrain!$G85*#REF!,5)","v":{"$error":"#REF!"}}]
["13:50:00",{"$f":"ROUND(1/360*#REF!*mkrain!$G86*#REF!,5)","v":{"$error":"#REF!"}},{"$f":"ROUND(1/360*#REF!*mkrain!$G86*#REF!,5)","v":{"$error":"#REF!"}}]
["14:00:00",{"$f":"ROUND(1/360*#REF!*mkrain!$G87*#REF!,5)","v":{"$error":"#REF!"}},{"$f":"ROUND(1/360*#REF!*mkrain!$G87*#REF!,5)","v":{"$error":"#REF!"}}]
["14:10:00",{"$f":"ROUND(1/360*#REF!*mkrain!$G88*#REF!,5)","v":{"$error":"#REF!"}},{"$f":"ROUND(1/360*#REF!*mkrain!$G88*#REF!,5)","v":{"$error":"#REF!"}}]
["14:20:00",{"$f":"ROUND(1/360*#REF!*mkrain!$G89*#REF!,5)","v":{"$error":"#REF!"}},{"$f":"ROUND(1/360*#REF!*mkrain!$G89*#REF!,5)","v":{"$error":"#REF!"}}]
["14:30:00",{"$f":"ROUND(1/360*#REF!*mkrain!$G90*#REF!,5)","v":{"$error":"#REF!"}},{"$f":"ROUND(1/360*#REF!*mkrain!$G90*#REF!,5)","v":{"$error":"#REF!"}}]
["14:40:00",{"$f":"ROUND(1/360*#REF!*mkrain!$G91*#REF!,5)","v":{"$error":"#REF!"}},{"$f":"ROUND(1/360*#REF!*mkrain!$G91*#REF!,5)","v":{"$error":"#REF!"}}]
["14:50:00",{"$f":"ROUND(1/360*#REF!*mkrain!$G92*#REF!,5)","v":{"$error":"#REF!"}},{"$f":"ROUND(1/360*#REF!*mkrain!$G92*#REF!,5)","v":{"$error":"#REF!"}}]
["15:00:00",{"$f":"ROUND(1/360*#REF!*mkrain!$G93*#REF!,5)","v":{"$error":"#REF!"}},{"$f":"ROUND(1/360*#REF!*mkrain!$G93*#REF!,5)","v":{"$error":"#REF!"}}]
["15:10:00",{"$f":"ROUND(1/360*#REF!*mkrain!$G94*#REF!,5)","v":{"$error":"#REF!"}},{"$f":"ROUND(1/360*#REF!*mkrain!$G94*#REF!,5)","v":{"$error":"#REF!"}}]
["15:20:00",{"$f":"ROUND(1/360*#REF!*mkrain!$G95*#REF!,5)","v":{"$error":"#REF!"}},{"$f":"ROUND(1/360*#REF!*mkrain!$G95*#REF!,5)","v":{"$error":"#REF!"}}]
["15:30:00",{"$f":"ROUND(1/360*#REF!*mkrain!$G96*#REF!,5)","v":{"$error":"#REF!"}},{"$f":"ROUND(1/360*#REF!*mkrain!$G96*#REF!,5)","v":{"$error":"#REF!"}}]
["15:40:00",{"$f":"ROUND(1/360*#REF!*mkrain!$G97*#REF!,5)","v":{"$error":"#REF!"}},{"$f":"ROUND(1/360*#REF!*mkrain!$G97*#REF!,5)","v":{"$error":"#REF!"}}]
["15:50:00",{"$f":"ROUND(1/360*#REF!*mkrain!$G98*#REF!,5)","v":{"$error":"#REF!"}},{"$f":"ROUND(1/360*#REF!*mkrain!$G98*#REF!,5)","v":{"$error":"#REF!"}}]
["16:00:00",{"$f":"ROUND(1/360*#REF!*mkrain!$G99*#REF!,5)","v":{"$error":"#REF!"}},{"$f":"ROUND(1/360*#REF!*mkrain!$G99*#REF!,5)","v":{"$error":"#REF!"}}]
["16:10:00",{"$f":"ROUND(1/360*#REF!*mkrain!$G100*#REF!,5)","v":{"$error":"#REF!"}},{"$f":"ROUND(1/360*#REF!*mkrain!$G100*#REF!,5)","v":{"$error":"#REF!"}}]
["16:20:00",{"$f":"ROUND(1/360*#REF!*mkrain!$G101*#REF!,5)","v":{"$error":"#REF!"}},{"$f":"ROUND(1/360*#REF!*mkrain!$G101*#REF!,5)","v":{"$error":"#REF!"}}]
["16:30:00",{"$f":"ROUND(1/360*#REF!*mkrain!$G102*#REF!,5)","v":{"$error":"#REF!"}},{"$f":"ROUND(1/360*#REF!*mkrain!$G102*#REF!,5)","v":{"$error":"#REF!"}}]
["16:40:00",{"$f":"ROUND(1/360*#REF!*mkrain!$G103*#REF!,5)","v":{"$error":"#REF!"}},{"$f":"ROUND(1/360*#REF!*mkrain!$G103*#REF!,5)","v":{"$error":"#REF!"}}]
["16:50:00",{"$f":"ROUND(1/360*#REF!*mkrain!$G104*#REF!,5)","v":{"$error":"#REF!"}},{"$f":"ROUND(1/360*#REF!*mkrain!$G104*#REF!,5)","v":{"$error":"#REF!"}}]
["17:00:00",{"$f":"ROUND(1/360*#REF!*mkrain!$G105*#REF!,5)","v":{"$error":"#REF!"}},{"$f":"ROUND(1/360*#REF!*mkrain!$G105*#REF!,5)","v":{"$error":"#REF!"}}]
["17:10:00",{"$f":"ROUND(1/360*#REF!*mkrain!$G106*#REF!,5)","v":{"$error":"#REF!"}},{"$f":"ROUND(1/360*#REF!*mkrain!$G106*#REF!,5)","v":{"$error":"#REF!"}}]
["17:20:00",{"$f":"ROUND(1/360*#REF!*mkrain!$G107*#REF!,5)","v":{"$error":"#REF!"}},{"$f":"ROUND(1/360*#REF!*mkrain!$G107*#REF!,5)","v":{"$error":"#REF!"}}]
["17:30:00",{"$f":"ROUND(1/360*#REF!*mkrain!$G108*#REF!,5)","v":{"$error":"#REF!"}},{"$f":"ROUND(1/360*#REF!*mkrain!$G108*#REF!,5)","v":{"$error":"#REF!"}}]
["17:40:00",{"$f":"ROUND(1/360*#REF!*mkrain!$G109*#REF!,5)","v":{"$error":"#REF!"}},{"$f":"ROUND(1/360*#REF!*mkrain!$G109*#REF!,5)","v":{"$error":"#REF!"}}]
["17:50:00",{"$f":"ROUND(1/360*#REF!*mkrain!$G110*#REF!,5)","v":{"$error":"#REF!"}},{"$f":"ROUND(1/360*#REF!*mkrain!$G110*#REF!,5)","v":{"$error":"#REF!"}}]
["18:00:00",{"$f":"ROUND(1/360*#REF!*mkrain!$G111*#REF!,5)","v":{"$error":"#REF!"}},{"$f":"ROUND(1/360*#REF!*mkrain!$G111*#REF!,5)","v":{"$error":"#REF!"}}]
["18:10:00",{"$f":"ROUND(1/360*#REF!*mkrain!$G112*#REF!,5)","v":{"$error":"#REF!"}},{"$f":"ROUND(1/360*#REF!*mkrain!$G112*#REF!,5)","v":{"$error":"#REF!"}}]
["18:20:00",{"$f":"ROUND(1/360*#REF!*mkrain!$G113*#REF!,5)","v":{"$error":"#REF!"}},{"$f":"ROUND(1/360*#REF!*mkrain!$G113*#REF!,5)","v":{"$error":"#REF!"}}]
["18:30:00",{"$f":"ROUND(1/360*#REF!*mkrain!$G114*#REF!,5)","v":{"$error":"#REF!"}},{"$f":"ROUND(1/360*#REF!*mkrain!$G114*#REF!,5)","v":{"$error":"#REF!"}}]
["18:40:00",{"$f":"ROUND(1/360*#REF!*mkrain!$G115*#REF!,5)","v":{"$error":"#REF!"}},{"$f":"ROUND(1/360*#REF!*mkrain!$G115*#REF!,5)","v":{"$error":"#REF!"}}]
["18:50:00",{"$f":"ROUND(1/360*#REF!*mkrain!$G116*#REF!,5)","v":{"$error":"#REF!"}},{"$f":"ROUND(1/360*#REF!*mkrain!$G116*#REF!,5)","v":{"$error":"#REF!"}}]
["19:00:00",{"$f":"ROUND(1/360*#REF!*mkrain!$G117*#REF!,5)","v":{"$error":"#REF!"}},{"$f":"ROUND(1/360*#REF!*mkrain!$G117*#REF!,5)","v":{"$error":"#REF!"}}]
["19:10:00",{"$f":"ROUND(1/360*#REF!*mkrain!$G118*#REF!,5)","v":{"$error":"#REF!"}},{"$f":"ROUND(1/360*#REF!*mkrain!$G118*#REF!,5)","v":{"$error":"#REF!"}}]
["19:20:00",{"$f":"ROUND(1/360*#REF!*mkrain!$G119*#REF!,5)","v":{"$error":"#REF!"}},{"$f":"ROUND(1/360*#REF!*mkrain!$G119*#REF!,5)","v":{"$error":"#REF!"}}]
["19:30:00",{"$f":"ROUND(1/360*#REF!*mkrain!$G120*#REF!,5)","v":{"$error":"#REF!"}},{"$f":"ROUND(1/360*#REF!*mkrain!$G120*#REF!,5)","v":{"$error":"#REF!"}}]
["19:40:00",{"$f":"ROUND(1/360*#REF!*mkrain!$G121*#REF!,5)","v":{"$error":"#REF!"}},{"$f":"ROUND(1/360*#REF!*mkrain!$G121*#REF!,5)","v":{"$error":"#REF!"}}]
["19:50:00",{"$f":"ROUND(1/360*#REF!*mkrain!$G122*#REF!,5)","v":{"$error":"#REF!"}},{"$f":"ROUND(1/360*#REF!*mkrain!$G122*#REF!,5)","v":{"$error":"#REF!"}}]
["20:00:00",{"$f":"ROUND(1/360*#REF!*mkrain!$G123*#REF!,5)","v":{"$error":"#REF!"}},{"$f":"ROUND(1/360*#REF!*mkrain!$G123*#REF!,5)","v":{"$error":"#REF!"}}]
["20:10:00",{"$f":"ROUND(1/360*#REF!*mkrain!$G124*#REF!,5)","v":{"$error":"#REF!"}},{"$f":"ROUND(1/360*#REF!*mkrain!$G124*#REF!,5)","v":{"$error":"#REF!"}}]
["20:20:00",{"$f":"ROUND(1/360*#REF!*mkrain!$G125*#REF!,5)","v":{"$error":"#REF!"}},{"$f":"ROUND(1/360*#REF!*mkrain!$G125*#REF!,5)","v":{"$error":"#REF!"}}]
["20:30:00",{"$f":"ROUND(1/360*#REF!*mkrain!$G126*#REF!,5)","v":{"$error":"#REF!"}},{"$f":"ROUND(1/360*#REF!*mkrain!$G126*#REF!,5)","v":{"$error":"#REF!"}}]
["20:40:00",{"$f":"ROUND(1/360*#REF!*mkrain!$G127*#REF!,5)","v":{"$error":"#REF!"}},{"$f":"ROUND(1/360*#REF!*mkrain!$G127*#REF!,5)","v":{"$error":"#REF!"}}]
["20:50:00",{"$f":"ROUND(1/360*#REF!*mkrain!$G128*#REF!,5)","v":{"$error":"#REF!"}},{"$f":"ROUND(1/360*#REF!*mkrain!$G128*#REF!,5)","v":{"$error":"#REF!"}}]
["21:00:00",{"$f":"ROUND(1/360*#REF!*mkrain!$G129*#REF!,5)","v":{"$error":"#REF!"}},{"$f":"ROUND(1/360*#REF!*mkrain!$G129*#REF!,5)","v":{"$error":"#REF!"}}]
["21:10:00",{"$f":"ROUND(1/360*#REF!*mkrain!$G130*#REF!,5)","v":{"$error":"#REF!"}},{"$f":"ROUND(1/360*#REF!*mkrain!$G130*#REF!,5)","v":{"$error":"#REF!"}}]
["21:20:00",{"$f":"ROUND(1/360*#REF!*mkrain!$G131*#REF!,5)","v":{"$error":"#REF!"}},{"$f":"ROUND(1/360*#REF!*mkrain!$G131*#REF!,5)","v":{"$error":"#REF!"}}]
["21:30:00",{"$f":"ROUND(1/360*#REF!*mkrain!$G132*#REF!,5)","v":{"$error":"#REF!"}},{"$f":"ROUND(1/360*#REF!*mkrain!$G132*#REF!,5)","v":{"$error":"#REF!"}}]
["21:40:00",{"$f":"ROUND(1/360*#REF!*mkrain!$G133*#REF!,5)","v":{"$error":"#REF!"}},{"$f":"ROUND(1/360*#REF!*mkrain!$G133*#REF!,5)","v":{"$error":"#REF!"}}]
["21:50:00",{"$f":"ROUND(1/360*#REF!*mkrain!$G134*#REF!,5)","v":{"$error":"#REF!"}},{"$f":"ROUND(1/360*#REF!*mkrain!$G134*#REF!,5)","v":{"$error":"#REF!"}}]
["22:00:00",{"$f":"ROUND(1/360*#REF!*mkrain!$G135*#REF!,5)","v":{"$error":"#REF!"}},{"$f":"ROUND(1/360*#REF!*mkrain!$G135*#REF!,5)","v":{"$error":"#REF!"}}]
["22:10:00",{"$f":"ROUND(1/360*#REF!*mkrain!$G136*#REF!,5)","v":{"$error":"#REF!"}},{"$f":"ROUND(1/360*#REF!*mkrain!$G136*#REF!,5)","v":{"$error":"#REF!"}}]
["22:20:00",{"$f":"ROUND(1/360*#REF!*mkrain!$G137*#REF!,5)","v":{"$error":"#REF!"}},{"$f":"ROUND(1/360*#REF!*mkrain!$G137*#REF!,5)","v":{"$error":"#REF!"}}]
["22:30:00",{"$f":"ROUND(1/360*#REF!*mkrain!$G138*#REF!,5)","v":{"$error":"#REF!"}},{"$f":"ROUND(1/360*#REF!*mkrain!$G138*#REF!,5)","v":{"$error":"#REF!"}}]
["22:40:00",{"$f":"ROUND(1/360*#REF!*mkrain!$G139*#REF!,5)","v":{"$error":"#REF!"}},{"$f":"ROUND(1/360*#REF!*mkrain!$G139*#REF!,5)","v":{"$error":"#REF!"}}]
["22:50:00",{"$f":"ROUND(1/360*#REF!*mkrain!$G140*#REF!,5)","v":{"$error":"#REF!"}},{"$f":"ROUND(1/360*#REF!*mkrain!$G140*#REF!,5)","v":{"$error":"#REF!"}}]
["23:00:00",{"$f":"ROUND(1/360*#REF!*mkrain!$G141*#REF!,5)","v":{"$error":"#REF!"}},{"$f":"ROUND(1/360*#REF!*mkrain!$G141*#REF!,5)","v":{"$error":"#REF!"}}]
["23:10:00",{"$f":"ROUND(1/360*#REF!*mkrain!$G142*#REF!,5)","v":{"$error":"#REF!"}},{"$f":"ROUND(1/360*#REF!*mkrain!$G142*#REF!,5)","v":{"$error":"#REF!"}}]
["23:20:00",{"$f":"ROUND(1/360*#REF!*mkrain!$G143*#REF!,5)","v":{"$error":"#REF!"}},{"$f":"ROUND(1/360*#REF!*mkrain!$G143*#REF!,5)","v":{"$error":"#REF!"}}]
["23:30:00",{"$f":"ROUND(1/360*#REF!*mkrain!$G144*#REF!,5)","v":{"$error":"#REF!"}},{"$f":"ROUND(1/360*#REF!*mkrain!$G144*#REF!,5)","v":{"$error":"#REF!"}}]
["23:40:00",{"$f":"ROUND(1/360*#REF!*mkrain!$G145*#REF!,5)","v":{"$error":"#REF!"}},{"$f":"ROUND(1/360*#REF!*mkrain!$G145*#REF!,5)","v":{"$error":"#REF!"}}]
["23:50:00",{"$f":"ROUND(1/360*#REF!*mkrain!$G146*#REF!,5)","v":{"$error":"#REF!"}},{"$f":"ROUND(1/360*#REF!*mkrain!$G146*#REF!,5)","v":{"$error":"#REF!"}}]
[1,{"$f":"ROUND(1/360*#REF!*mkrain!$G147*#REF!,5)","v":{"$error":"#REF!"}},{"$f":"ROUND(1/360*#REF!*mkrain!$G147*#REF!,5)","v":{"$error":"#REF!"}}]

{"sheet":"逐次計算（概算）","index":3,"n_rows":147,"n_cols":5,"rows_kept":147,"cut":false,"hidden":true,"merged":[]}
["時刻","行為後流入量","許容放流量","調整池水位","調節後放流量"]
[]
[{"$f":"runoff!A4","v":"00:00:00"},{"$f":"runoff!C4","v":0},{"$f":"runoff!$B$1","v":{"$error":"#REF!"}},0,0]
[{"$f":"runoff!A5","v":"00:10:00"},{"$f":"runoff!C5","v":{"$error":"#REF!"}},{"$f":"runoff!$B$1","v":{"$error":"#REF!"}},5.8061463155347952E-3,1.4881044245841906E-4]
[{"$f":"runoff!A6","v":"00:20:00"},{"$f":"runoff!C6","v":{"$error":"#REF!"}},{"$f":"runoff!$B$1","v":{"$error":"#REF!"}},1.6991200236171525E-2,7.4124812092531839E-4]
[{"$f":"runoff!A7","v":"00:30:00"},{"$f":"runoff!C7","v":{"$error":"#REF!"}},{"$f":"runoff!$B$1","v":{"$error":"#REF!"}},2.7345939053530111E-2,1.5001807190041115E-3]
[{"$f":"runoff!A8","v":"00:40:00"},{"$f":"runoff!C8","v":{"$error":"#REF!"}},{"$f":"runoff!$B$1","v":{"$error":"#REF!"}},3.6702662215248691E-2,2.3251631634127975E-3]
[{"$f":"runoff!A9","v":"00:50:00"},{"$f":"runoff!C9","v":{"$error":"#REF!"}},{"$f":"runoff!$B$1","v":{"$error":"#REF!"}},4.5007385529721874E-2,3.1589538405177239E-3]
[{"$f":"runoff!A10","v":"01:00:00"},{"$f":"runoff!C10","v":{"$error":"#REF!"}},{"$f":"runoff!$B$1","v":{"$error":"#REF!"}},5.2275778861396088E-2,3.9622074062273648E-3]
[{"$f":"runoff!A11","v":"01:10:00"},{"$f":"runoff!C11","v":{"$error":"#REF!"}},{"$f":"runoff!$B$1","v":{"$error":"#REF!"}},5.8439258075671054E-2,4.6911014166446845E-3]
[{"$f":"runoff!A12","v":"01:20:00"},{"$f":"runoff!C12","v":{"$error":"#REF!"}},{"$f":"runoff!$B$1","v":{"$error":"#REF!"}},6.374464286112777E-2,5.3520983475219977E-3]
[{"$f":"runoff!A13","v":"01:30:00"},{"$f":"runoff!C13","v":{"$error":"#REF!"}},{"$f":"runoff!$B$1","v":{"$error":"#REF!"}},6.8312282390152482E-2,5.9141081722304083E-3]
[{"$f":"runoff!A14","v":"01:40:00"},{"$f":"runoff!C14","v":{"$error":"#REF!"}},{"$f":"runoff!$B$1","v":{"$error":"#REF!"}},7.2235668646366408E-2,6.4454628858196224E-3]
[{"$f":"runoff!A15","v":"01:50:00"},{"$f":"runoff!C15","v":{"$error":"#REF!"}},{"$f":"runoff!$B$1","v":{"$error":"#REF!"}},7.5586459245310891E-2,6.9081074836440182E-3]
[{"$f":"runoff!A16","v":"02:00:00"},{"$f":"runoff!C16","v":{"$error":"#REF!"}},{"$f":"runoff!$B$1","v":{"$error":"#REF!"}},7.8468073903568386E-2,7.2960535235722518E-3]
[{"$f":"runoff!A17","v":"02:10:00"},{"$f":"runoff!C17","v":{"$error":"#REF!"}},{"$f":"runoff!$B$1","v":{"$error":"#REF!"}},8.0966765714913874E-2,7.6390938313620161E-3]
[{"$f":"runoff!A18","v":"02:20:00"},{"$f":"runoff!C18","v":{"$error":"#REF!"}},{"$f":"runoff!$B$1","v":{"$error":"#REF!"}},8.3136440698165323E-2,7.9522901918626428E-3]
[{"$f":"runoff!A19","v":"02:30:00"},{"$f":"runoff!C19","v":{"$error":"#REF!"}},{"$f":"runoff!$B$1","v":{"$error":"#REF!"}},8.5165423583087624E-2,8.2341868743784248E-3]
[{"$f":"runoff!A20","v":"02:40:00"},{"$f":"runoff!C20","v":{"$error":"#REF!"}},{"$f":"runoff!$B$1","v":{"$error":"#REF!"}},8.6942629176047004E-2,8.5014213700512226E-3]
[{"$f":"runoff!A21","v":"02:50:00"},{"$f":"runoff!C21","v":{"$error":"#REF!"}},{"$f":"runoff!$B$1","v":{"$error":"#REF!"}},8.8502675189456814E-2,8.7353148246871858E-3]
[{"$f":"runoff!A22","v":"03:00:00"},{"$f":"runoff!C22","v":{"$error":"#REF!"}},{"$f":"runoff!$B$1","v":{"$error":"#REF!"}},8.9881231877925211E-2,8.9530865673033023E-3]
[{"$f":"runoff!A23","v":"03:10:00"},{"$f":"runoff!C23","v":{"$error":"#REF!"}},{"$f":"runoff!$B$1","v":{"$error":"#REF!"}},9.1115118844055126E-2,9.1359235063298832E-3]
[{"$f":"runoff!A24","v":"03:20:00"},{"$f":"runoff!C24","v":{"$error":"#REF!"}},{"$f":"runoff!$B$1","v":{"$error":"#REF!"}},9.2372874690923104E-2,9.3199883860131914E-3]
[{"$f":"runoff!A25","v":"03:30:00"},{"$f":"runoff!C25","v":{"$error":"#REF!"}},{"$f":"runoff!$B$1","v":{"$error":"#REF!"}},9.3521904745940201E-2,9.4866899376964599E-3]
[{"$f":"runoff!A26","v":"03:40:00"},{"$f":"runoff!C26","v":{"$error":"#REF!"}},{"$f":"runoff!$B$1","v":{"$error":"#REF!"}},9.4574022310716016E-2,9.6543737058144025E-3]
[{"$f":"runoff!A27","v":"03:50:00"},{"$f":"runoff!C27","v":{"$error":"#REF!"}},{"$f":"runoff!$B$1","v":{"$error":"#REF!"}},9.5672045621191859E-2,9.8230339703257574E-3]
[{"$f":"runoff!A28","v":"04:00:00"},{"$f":"runoff!C28","v":{"$error":"#REF!"}},{"$f":"runoff!$B$1","v":{"$error":"#REF!"}},9.668396624326682E-2,9.9737694337302934E-3]
[{"$f":"runoff!A29","v":"04:10:00"},{"$f":"runoff!C29","v":{"$error":"#REF!"}},{"$f":"runoff!$B$1","v":{"$error":"#REF!"}},9.7622160313074219E-2,1.0125268122803439E-2]
[{"$f":"runoff!A30","v":"04:20:00"},{"$f":"runoff!C30","v":{"$error":"#REF!"}},{"$f":"runoff!$B$1","v":{"$error":"#REF!"}},9.862976055259183E-2,1.027752621173215E-2]
[{"$f":"runoff!A31","v":"04:30:00"},{"$f":"runoff!C31","v":{"$error":"#REF!"}},{"$f":"runoff!$B$1","v":{"$error":"#REF!"}},9.970567439148717E-2,1.0430539931666332E-2]
[{"$f":"runoff!A32","v":"04:40:00"},{"$f":"runoff!C32","v":{"$error":"#REF!"}},{"$f":"runoff!$B$1","v":{"$error":"#REF!"}},0.10082100806871892,1.0622864035905642E-2]
[{"$f":"runoff!A33","v":"04:50:00"},{"$f":"runoff!C33","v":{"$error":"#REF!"}},{"$f":"runoff!$B$1","v":{"$error":"#REF!"}},0.10196056211772503,1.0796954349472549E-2]
[{"$f":"runoff!A34","v":"05:00:00"},{"$f":"runoff!C34","v":{"$error":"#REF!"}},{"$f":"runoff!$B$1","v":{"$error":"#REF!"}},0.10312274082987598,1.0991491169678137E-2]
[{"$f":"runoff!A35","v":"05:10:00"},{"$f":"runoff!C35","v":{"$error":"#REF!"}},{"$f":"runoff!$B$1","v":{"$error":"#REF!"}},0.10429196652869069,1.118718252796547E-2]
[{"$f":"runoff!A36","v":"05:20:00"},{"$f":"runoff!C36","v":{"$error":"#REF!"}},{"$f":"runoff!$B$1","v":{"$error":"#REF!"}},0.10548081113749327,1.1364286281161613E-2]
[{"$f":"runoff!A37","v":"05:30:00"},{"$f":"runoff!C37","v":{"$error":"#REF!"}},{"$f":"runoff!$B$1","v":{"$error":"#REF!"}},0.10668770610085672,1.1562152702974424E-2]
[{"$f":"runoff!A38","v":"05:40:00"},{"$f":"runoff!C38","v":{"$error":"#REF!"}},{"$f":"runoff!$B$1","v":{"$error":"#REF!"}},0.10789685967101617,1.1761154346404451E-2]
[{"$f":"runoff!A39","v":"05:50:00"},{"$f":"runoff!C39","v":{"$error":"#REF!"}},{"$f":"runoff!$B$1","v":{"$error":"#REF!"}},0.10910663915290363,1.1961284772044962E-2]
[{"$f":"runoff!A40","v":"06:00:00"},{"$f":"runoff!C40","v":{"$error":"#REF!"}},{"$f":"runoff!$B$1","v":{"$error":"#REF!"}},0.11031542106091703,1.2162537648843109E-2]
[{"$f":"runoff!A41","v":"06:10:00"},{"$f":"runoff!C41","v":{"$error":"#REF!"}},{"$f":"runoff!$B$1","v":{"$error":"#REF!"}},0.11152159096480795,1.2364906751094829E-2]
[{"$f":"runoff!A42","v":"06:20:00"},{"$f":"runoff!C42","v":{"$error":"#REF!"}},{"$f":"runoff!$B$1","v":{"$error":"#REF!"}},0.11286777410905074,1.2568385955555157E-2]
[{"$f":"runoff!A43","v":"06:30:00"},{"$f":"runoff!C43","v":{"$error":"#REF!"}},{"$f":"runoff!$B$1","v":{"$error":"#REF!"}},0.11432277135636625,1.2814017861500672E-2]
[{"$f":"runoff!A44","v":"06:40:00"},{"$f":"runoff!C44","v":{"$error":"#REF!"}},{"$f":"runoff!$B$1","v":{"$error":"#REF!"}},0.1158401372935276,1.3081901372302255E-2]
[{"$f":"runoff!A45","v":"06:50:00"},{"$f":"runoff!C45","v":{"$error":"#REF!"}},{"$f":"runoff!$B$1","v":{"$error":"#REF!"}},0.11740249733056653,1.3351626043003755E-2]
[{"$f":"runoff!A46","v":"07:00:00"},{"$f":"runoff!C46","v":{"$error":"#REF!"}},{"$f":"runoff!$B$1","v":{"$error":"#REF!"}},0.11900720495067527,1.3623179390445456E-2]
[{"$f":"runoff!A47","v":"07:10:00"},{"$f":"runoff!C47","v":{"$error":"#REF!"}},{"$f":"runoff!$B$1","v":{"$error":"#REF!"}},0.12078064347721308,1.3917652519422112E-2]
[{"$f":"runoff!A48","v":"07:20:00"},{"$f":"runoff!C48","v":{"$error":"#REF!"}},{"$f":"runoff!$B$1","v":{"$error":"#REF!"}},0.12254521123926858,1.4235480183860925E-2]
[{"$f":"runoff!A49","v":"07:30:00"},{"$f":"runoff!C49","v":{"$error":"#REF!"}},{"$f":"runoff!$B$1","v":{"$error":"#REF!"}},0.12429779535743737,1.4534269838944994E-2]
[{"$f":"runoff!A50","v":"07:40:00"},{"$f":"runoff!C50","v":{"$error":"#REF!"}},{"$f":"runoff!$B$1","v":{"$error":"#REF!"}},0.1263079848426415,1.4878267408238626E-2]
[{"$f":"runoff!A51","v":"07:50:00"},{"$f":"runoff!C51","v":{"$error":"#REF!"}},{"$f":"runoff!$B$1","v":{"$error":"#REF!"}},0.12850986599236758,1.5268457397474549E-2]
[{"$f":"runoff!A52","v":"08:00:00"},{"$f":"runoff!C52","v":{"$error":"#REF!"}},{"$f":"runoff!$B$1","v":{"$error":"#REF!"}},0.13070764107045238,1.5683961160914531E-2]
[{"$f":"runoff!A53","v":"08:10:00"},{"$f":"runoff!C53","v":{"$error":"#REF!"}},{"$f":"runoff!$B$1","v":{"$error":"#REF!"}},0.13302461590193024,1.6103167072769497E-2]
[{"$f":"runoff!A54","v":"08:20:00"},{"$f":"runoff!C54","v":{"$error":"#REF!"}},{"$f":"runoff!$B$1","v":{"$error":"#REF!"}},0.1354393509061185,1.6548400388089465E-2]
[{"$f":"runoff!A55","v":"08:30:00"},{"$f":"runoff!C55","v":{"$error":"#REF!"}},{"$f":"runoff!$B$1","v":{"$error":"#REF!"}},0.13793017050528159,1.6997663101071037E-2]
[{"$f":"runoff!A56","v":"08:40:00"},{"$f":"runoff!C56","v":{"$error":"#REF!"}},{"$f":"runoff!$B$1","v":{"$error":"#REF!"}},0.14073047347608794,1.7519250112744182E-2]
[{"$f":"runoff!A57","v":"08:50:00"},{"$f":"runoff!C57","v":{"$error":"#REF!"}},{"$f":"runoff!$B$1","v":{"$error":"#REF!"}},0.14376772924920592,1.8069088548532241E-2]
[{"$f":"runoff!A58","v":"09:00:00"},{"$f":"runoff!C58","v":{"$error":"#REF!"}},{"$f":"runoff!$B$1","v":{"$error":"#REF!"}},0.14696714426497148,1.8694389296272831E-2]
[{"$f":"runoff!A59","v":"09:10:00"},{"$f":"runoff!C59","v":{"$error":"#REF!"}},{"$f":"runoff!$B$1","v":{"$error":"#REF!"}},0.15039645772493071,1.9350296039250352E-2]
[{"$f":"runoff!A60","v":"09:20:00"},{"$f":"runoff!C60","v":{"$error":"#REF!"}},{"$f":"runoff!$B$1","v":{"$error":"#REF!"}},0.15413804483535723,2.0061369834291558E-2]
[{"$f":"runoff!A61","v":"09:30:00"},{"$f":"runoff!C61","v":{"$error":"#REF!"}},{"$f":"runoff!$B$1","v":{"$error":"#REF!"}},0.15822057114970151,2.0877527009817716E-2]
[{"$f":"runoff!A62","v":"09:40:00"},{"$f":"runoff!C62","v":{"$error":"#REF!"}},{"$f":"runoff!$B$1","v":{"$error":"#REF!"}},0.16266939500826474,2.1753437239641227E-2]
[{"$f":"runoff!A63","v":"09:50:00"},{"$f":"runoff!C63","v":{"$error":"#REF!"}},{"$f":"runoff!$B$1","v":{"$error":"#REF!"}},0.1675053956431975,2.2740641879918713E-2]
[{"$f":"runoff!A64","v":"10:00:00"},{"$f":"runoff!C64","v":{"$error":"#REF!"}},{"$f":"runoff!$B$1","v":{"$error":"#REF!"}},0.17285351175703731,2.384330377555675E-2]
[{"$f":"runoff!A65","v":"10:10:00"},{"$f":"runoff!C65","v":{"$error":"#REF!"}},{"$f":"runoff!$B$1","v":{"$error":"#REF!"}},0.17881393296365972,2.5091578817926861E-2]
[{"$f":"runoff!A66","v":"10:20:00"},{"$f":"runoff!C66","v":{"$error":"#REF!"}},{"$f":"runoff!$B$1","v":{"$error":"#REF!"}},0.18546067796364896,2.6491601448754721E-2]
[{"$f":"runoff!A67","v":"10:30:00"},{"$f":"runoff!C67","v":{"$error":"#REF!"}},{"$f":"runoff!$B$1","v":{"$error":"#REF!"}},0.19308934829791358,2.8129975687731658E-2]
[{"$f":"runoff!A68","v":"10:40:00"},{"$f":"runoff!C68","v":{"$error":"#REF!"}},{"$f":"runoff!$B$1","v":{"$error":"#REF!"}},0.20186539258031203,3.0100576240675834E-2]
[{"$f":"runoff!A69","v":"10:50:00"},{"$f":"runoff!C69","v":{"$error":"#REF!"}},{"$f":"runoff!$B$1","v":{"$error":"#REF!"}},0.2120372126816589,3.2394499885456479E-2]
[{"$f":"runoff!A70","v":"11:00:00"},{"$f":"runoff!C70","v":{"$error":"#REF!"}},{"$f":"runoff!$B$1","v":{"$error":"#REF!"}},0.2241543481469255,3.5203072269373865E-2]
[{"$f":"runoff!A71","v":"11:10:00"},{"$f":"runoff!C71","v":{"$error":"#REF!"}},{"$f":"runoff!$B$1","v":{"$error":"#REF!"}},0.2390298723311938,3.8769534195107445E-2]
[{"$f":"runoff!A72","v":"11:20:00"},{"$f":"runoff!C72","v":{"$error":"#REF!"}},{"$f":"runoff!$B$1","v":{"$error":"#REF!"}},0.25896031045723683,4.179359160344627E-2]
[{"$f":"runoff!A73","v":"11:30:00"},{"$f":"runoff!C73","v":{"$error":"#REF!"}},{"$f":"runoff!$B$1","v":{"$error":"#REF!"}},0.28971264035226757,4.3163177608777789E-2]
[{"$f":"runoff!A74","v":"11:40:00"},{"$f":"runoff!C74","v":{"$error":"#REF!"}},{"$f":"runoff!$B$1","v":{"$error":"#REF!"}},0.34021435585413934,4.5407776895293336E-2]
[{"$f":"runoff!A75","v":"11:50:00"},{"$f":"runoff!C75","v":{"$error":"#REF!"}},{"$f":"runoff!$B$1","v":{"$error":"#REF!"}},0.42765553387793837,5.134045624503867E-2]
[{"$f":"runoff!A76","v":"12:00:00"},{"$f":"runoff!C76","v":{"$error":"#REF!"}},{"$f":"runoff!$B$1","v":{"$error":"#REF!"}},0.65957266134754455,6.7267793663774111E-2]
[{"$f":"runoff!A77","v":"12:10:00"},{"$f":"runoff!C77","v":{"$error":"#REF!"}},{"$f":"runoff!$B$1","v":{"$error":"#REF!"}},0.90280001428091505,8.0656943601952177E-2]
[{"$f":"runoff!A78","v":"12:20:00"},{"$f":"runoff!C78","v":{"$error":"#REF!"}},{"$f":"runoff!$B$1","v":{"$error":"#REF!"}},0.98447583966381014,8.4685911867099853E-2]
[{"$f":"runoff!A79","v":"12:30:00"},{"$f":"runoff!C79","v":{"$error":"#REF!"}},{"$f":"runoff!$B$1","v":{"$error":"#REF!"}},0.99355447375612371,8.5125048858225222E-2]
[{"$f":"runoff!A80","v":"12:40:00"},{"$f":"runoff!C80","v":{"$error":"#REF!"}},{"$f":"runoff!$B$1","v":{"$error":"#REF!"}},0.97317232386864683,8.4138198985742818E-2]
[{"$f":"runoff!A81","v":"12:50:00"},{"$f":"runoff!C81","v":{"$error":"#REF!"}},{"$f":"runoff!$B$1","v":{"$error":"#REF!"}},0.93745138257629901,8.239483960631272E-2]
[{"$f":"runoff!A82","v":"13:00:00"},{"$f":"runoff!C82","v":{"$error":"#REF!"}},{"$f":"runoff!$B$1","v":{"$error":"#REF!"}},0.89305471283764726,8.0168542431284351E-2]
[{"$f":"runoff!A83","v":"13:10:00"},{"$f":"runoff!C83","v":{"$error":"#REF!"}},{"$f":"runoff!$B$1","v":{"$error":"#REF!"}},0.84373398254548815,7.762287024050965E-2]
[{"$f":"runoff!A84","v":"13:20:00"},{"$f":"runoff!C84","v":{"$error":"#REF!"}},{"$f":"runoff!$B$1","v":{"$error":"#REF!"}},0.79176207250193809,7.4844845019879647E-2]
[{"$f":"runoff!A85","v":"13:30:00"},{"$f":"runoff!C85","v":{"$error":"#REF!"}},{"$f":"runoff!$B$1","v":{"$error":"#REF!"}},0.73886600859133544,7.1904363602822832E-2]
[{"$f":"runoff!A86","v":"13:40:00"},{"$f":"runoff!C86","v":{"$error":"#REF!"}},{"$f":"runoff!$B$1","v":{"$error":"#REF!"}},0.68624223232572157,6.8867272818828304E-2]
[{"$f":"runoff!A87","v":"13:50:00"},{"$f":"runoff!C87","v":{"$error":"#REF!"}},{"$f":"runoff!$B$1","v":{"$error":"#REF!"}},0.6346057561578039,6.5735307467350818E-2]
[{"$f":"runoff!A88","v":"14:00:00"},{"$f":"runoff!C88","v":{"$error":"#REF!"}},{"$f":"runoff!$B$1","v":{"$error":"#REF!"}},0.58462329640832389,6.2573703385261442E-2]
[{"$f":"runoff!A89","v":"14:10:00"},{"$f":"runoff!C89","v":{"$error":"#REF!"}},{"$f":"runoff!$B$1","v":{"$error":"#REF!"}},0.53677370764742349,5.937772636318709E-2]
[{"$f":"runoff!A90","v":"14:20:00"},{"$f":"runoff!C90","v":{"$error":"#REF!"}},{"$f":"runoff!$B$1","v":{"$error":"#REF!"}},0.49137372558476494,5.6176915430366119E-2]
[{"$f":"runoff!A91","v":"14:30:00"},{"$f":"runoff!C91","v":{"$error":"#REF!"}},{"$f":"runoff!$B$1","v":{"$error":"#REF!"}},0.44870588180008542,5.2989161284389533E-2]
[{"$f":"runoff!A92","v":"14:40:00"},{"$f":"runoff!C92","v":{"$error":"#REF!"}},{"$f":"runoff!$B$1","v":{"$error":"#REF!"}},0.40887937730922047,4.98369249429432E-2]
[{"$f":"runoff!A93","v":"14:50:00"},{"$f":"runoff!C93","v":{"$error":"#REF!"}},{"$f":"runoff!$B$1","v":{"$error":"#REF!"}},0.37205495305719682,4.6826276686529555E-2]
[{"$f":"runoff!A94","v":"15:00:00"},{"$f":"runoff!C94","v":{"$error":"#REF!"}},{"$f":"runoff!$B$1","v":{"$error":"#REF!"}},0.33722453337860797,4.5271905267780285E-2]
[{"$f":"runoff!A95","v":"15:10:00"},{"$f":"runoff!C95","v":{"$error":"#REF!"}},{"$f":"runoff!$B$1","v":{"$error":"#REF!"}},0.30330656363994296,4.3761012769835198E-2]
[{"$f":"runoff!A96","v":"15:20:00"},{"$f":"runoff!C96","v":{"$error":"#REF!"}},{"$f":"runoff!$B$1","v":{"$error":"#REF!"}},0.27037864525463284,4.229903405779481E-2]
[{"$f":"runoff!A97","v":"15:30:00"},{"$f":"runoff!C97","v":{"$error":"#REF!"}},{"$f":"runoff!$B$1","v":{"$error":"#REF!"}},0.2398906692609131,3.8977625986829939E-2]
[{"$f":"runoff!A98","v":"15:40:00"},{"$f":"runoff!C98","v":{"$error":"#REF!"}},{"$f":"runoff!$B$1","v":{"$error":"#REF!"}},0.21517384276276608,3.3096373423933886E-2]
[{"$f":"runoff!A99","v":"15:50:00"},{"$f":"runoff!C99","v":{"$error":"#REF!"}},{"$f":"runoff!$B$1","v":{"$error":"#REF!"}},0.19681489288629991,2.8961370404765856E-2]
[{"$f":"runoff!A100","v":"16:00:00"},{"$f":"runoff!C100","v":{"$error":"#REF!"}},{"$f":"runoff!$B$1","v":{"$error":"#REF!"}},0.1827671509179753,2.5918165124644302E-2]
[{"$f":"runoff!A101","v":"16:10:00"},{"$f":"runoff!C101","v":{"$error":"#REF!"}},{"$f":"runoff!$B$1","v":{"$error":"#REF!"}},0.1718346802415828,2.3641527546619957E-2]
[{"$f":"runoff!A102","v":"16:20:00"},{"$f":"runoff!C102","v":{"$error":"#REF!"}},{"$f":"runoff!$B$1","v":{"$error":"#REF!"}},0.16324028223942436,2.1876037683039733E-2]
[{"$f":"runoff!A103","v":"16:30:00"},{"$f":"runoff!C103","v":{"$error":"#REF!"}},{"$f":"runoff!$B$1","v":{"$error":"#REF!"}},0.15619595082356008,2.0492101880292053E-2]
[{"$f":"runoff!A104","v":"16:40:00"},{"$f":"runoff!C104","v":{"$error":"#REF!"}},{"$f":"runoff!$B$1","v":{"$error":"#REF!"}},0.15026890052023967,1.9326741206978908E-2]
[{"$f":"runoff!A105","v":"16:50:00"},{"$f":"runoff!C105","v":{"$error":"#REF!"}},{"$f":"runoff!$B$1","v":{"$error":"#REF!"}},0.14542334184761466,1.8392433485727784E-2]
[{"$f":"runoff!A106","v":"17:00:00"},{"$f":"runoff!C106","v":{"$error":"#REF!"}},{"$f":"runoff!$B$1","v":{"$error":"#REF!"}},0.14136629923899421,1.7633332264892554E-2]
[{"$f":"runoff!A107","v":"17:10:00"},{"$f":"runoff!C107","v":{"$error":"#REF!"}},{"$f":"runoff!$B$1","v":{"$error":"#REF!"}},0.13777070635427321,1.6952556535253908E-2]
[{"$f":"runoff!A108","v":"17:20:00"},{"$f":"runoff!C108","v":{"$error":"#REF!"}},{"$f":"runoff!$B$1","v":{"$error":"#REF!"}},0.13450937604342003,1.6369821495795828E-2]
[{"$f":"runoff!A109","v":"17:30:00"},{"$f":"runoff!C109","v":{"$error":"#REF!"}},{"$f":"runoff!$B$1","v":{"$error":"#REF!"}},0.13161913713162321,1.5837976461895793E-2]
[{"$f":"runoff!A110","v":"17:40:00"},{"$f":"runoff!C110","v":{"$error":"#REF!"}},{"$f":"runoff!$B$1","v":{"$error":"#REF!"}},0.12901186585624688,1.5377439706626025E-2]
[{"$f":"runoff!A111","v":"17:50:00"},{"$f":"runoff!C111","v":{"$error":"#REF!"}},{"$f":"runoff!$B$1","v":{"$error":"#REF!"}},0.12661727109287019,1.494306503192302E-2]
[{"$f":"runoff!A112","v":"18:00:00"},{"$f":"runoff!C112","v":{"$error":"#REF!"}},{"$f":"runoff!$B$1","v":{"$error":"#REF!"}},0.12451136647434159,1.4577122705769956E-2]
[{"$f":"runoff!A113","v":"18:10:00"},{"$f":"runoff!C113","v":{"$error":"#REF!"}},{"$f":"runoff!$B$1","v":{"$error":"#REF!"}},0.12262727785201163,1.4235480183860925E-2]
[{"$f":"runoff!A114","v":"18:20:00"},{"$f":"runoff!C114","v":{"$error":"#REF!"}},{"$f":"runoff!$B$1","v":{"$error":"#REF!"}},0.12077084993438483,1.3938766528581576E-2]
[{"$f":"runoff!A115","v":"18:30:00"},{"$f":"runoff!C115","v":{"$error":"#REF!"}},{"$f":"runoff!$B$1","v":{"$error":"#REF!"}},0.11893840337924719,1.360222602787595E-2]
[{"$f":"runoff!A116","v":"18:40:00"},{"$f":"runoff!C116","v":{"$error":"#REF!"}},{"$f":"runoff!$B$1","v":{"$error":"#REF!"}},0.11727092503898533,1.3310010603953835E-2]
[{"$f":"runoff!A117","v":"18:50:00"},{"$f":"runoff!C117","v":{"$error":"#REF!"}},{"$f":"runoff!$B$1","v":{"$error":"#REF!"}},0.11570512694407774,1.306122942098468E-2]
[{"$f":"runoff!A118","v":"19:00:00"},{"$f":"runoff!C118","v":{"$error":"#REF!"}},{"$f":"runoff!$B$1","v":{"$error":"#REF!"}},0.11420855438459313,1.2814017861500672E-2]
[{"$f":"runoff!A119","v":"19:10:00"},{"$f":"runoff!C119","v":{"$error":"#REF!"}},{"$f":"runoff!$B$1","v":{"$error":"#REF!"}},0.11277893624729324,1.2568385955555157E-2]
[{"$f":"runoff!A120","v":"19:20:00"},{"$f":"runoff!C120","v":{"$error":"#REF!"}},{"$f":"runoff!$B$1","v":{"$error":"#REF!"}},0.11141398681205397,1.2324343927976636E-2]
[{"$f":"runoff!A121","v":"19:30:00"},{"$f":"runoff!C121","v":{"$error":"#REF!"}},{"$f":"runoff!$B$1","v":{"$error":"#REF!"}},0.11008234630313952,1.2122197577718052E-2]
[{"$f":"runoff!A122","v":"19:40:00"},{"$f":"runoff!C122","v":{"$error":"#REF!"}},{"$f":"runoff!$B$1","v":{"$error":"#REF!"}},0.10876744840984637,1.1901127500981792E-2]
[{"$f":"runoff!A123","v":"19:50:00"},{"$f":"runoff!C123","v":{"$error":"#REF!"}},{"$f":"runoff!$B$1","v":{"$error":"#REF!"}},0.10759745489183521,1.1721263510660331E-2]
[{"$f":"runoff!A124","v":"20:00:00"},{"$f":"runoff!C124","v":{"$error":"#REF!"}},{"$f":"runoff!$B$1","v":{"$error":"#REF!"}},0.10654198971447322,1.1542314868614963E-2]
[{"$f":"runoff!A125","v":"20:10:00"},{"$f":"runoff!C125","v":{"$error":"#REF!"}},{"$f":"runoff!$B$1","v":{"$error":"#REF!"}},0.10545549850069205,1.1364286281161613E-2]
[{"$f":"runoff!A126","v":"20:20:00"},{"$f":"runoff!C126","v":{"$error":"#REF!"}},{"$f":"runoff!$B$1","v":{"$error":"#REF!"}},0.10433665080180232,1.118718252796547E-2]
[{"$f":"runoff!A127","v":"20:30:00"},{"$f":"runoff!C127","v":{"$error":"#REF!"}},{"$f":"runoff!$B$1","v":{"$error":"#REF!"}},0.10332833999031305,1.1011008463966342E-2]
[{"$f":"runoff!A128","v":"20:40:00"},{"$f":"runoff!C128","v":{"$error":"#REF!"}},{"$f":"runoff!$B$1","v":{"$error":"#REF!"}},0.10240119679904831,1.0874630094587411E-2]
[{"$f":"runoff!A129","v":"20:50:00"},{"$f":"runoff!C129","v":{"$error":"#REF!"}},{"$f":"runoff!$B$1","v":{"$error":"#REF!"}},0.10140978973054934,1.0700121040397836E-2]
[{"$f":"runoff!A130","v":"21:00:00"},{"$f":"runoff!C130","v":{"$error":"#REF!"}},{"$f":"runoff!$B$1","v":{"$error":"#REF!"}},0.10049741118961904,1.0565043869692193E-2]
[{"$f":"runoff!A131","v":"21:10:00"},{"$f":"runoff!C131","v":{"$error":"#REF!"}},{"$f":"runoff!$B$1","v":{"$error":"#REF!"}},9.9635211332870108E-2,1.0430539931666332E-2]
[{"$f":"runoff!A132","v":"21:20:00"},{"$f":"runoff!C132","v":{"$error":"#REF!"}},{"$f":"runoff!$B$1","v":{"$error":"#REF!"}},9.8691894402534661E-2,1.027752621173215E-2]
[{"$f":"runoff!A133","v":"21:30:00"},{"$f":"runoff!C133","v":{"$error":"#REF!"}},{"$f":"runoff!$B$1","v":{"$error":"#REF!"}},9.7810799346906258E-2,1.014425893207257E-2]
[{"$f":"runoff!A134","v":"21:40:00"},{"$f":"runoff!C134","v":{"$error":"#REF!"}},{"$f":"runoff!$B$1","v":{"$error":"#REF!"}},9.6977266917028279E-2,1.0011572704024902E-2]
[{"$f":"runoff!A135","v":"21:50:00"},{"$f":"runoff!C135","v":{"$error":"#REF!"}},{"$f":"runoff!$B$1","v":{"$error":"#REF!"}},9.6176873579432137E-2,9.8983060574417362E-3]
[{"$f":"runoff!A136","v":"22:00:00"},{"$f":"runoff!C136","v":{"$error":"#REF!"}},{"$f":"runoff!$B$1","v":{"$error":"#REF!"}},9.5395304442553508E-2,9.7854698123633205E-3]
[{"$f":"runoff!A137","v":"22:10:00"},{"$f":"runoff!C137","v":{"$error":"#REF!"}},{"$f":"runoff!$B$1","v":{"$error":"#REF!"}},9.4631937546511183E-2,9.6730656168153538E-3]
[{"$f":"runoff!A138","v":"22:20:00"},{"$f":"runoff!C138","v":{"$error":"#REF!"}},{"$f":"runoff!$B$1","v":{"$error":"#REF!"}},9.3899576036948346E-2,9.5424756764451238E-3]
[{"$f":"runoff!A139","v":"22:30:00"},{"$f":"runoff!C139","v":{"$error":"#REF!"}},{"$f":"runoff!$B$1","v":{"$error":"#REF!"}},9.318416564852286E-2,9.4495600621715536E-3]
[{"$f":"runoff!A140","v":"22:40:00"},{"$f":"runoff!C140","v":{"$error":"#REF!"}},{"$f":"runoff!$B$1","v":{"$error":"#REF!"}},9.2471649669066389E-2,9.338462096008077E-3]
[{"$f":"runoff!A141","v":"22:50:00"},{"$f":"runoff!C141","v":{"$error":"#REF!"}},{"$f":"runoff!$B$1","v":{"$error":"#REF!"}},9.1774823903186156E-2,9.2278029660125271E-3]
[{"$f":"runoff!A142","v":"23:00:00"},{"$f":"runoff!C142","v":{"$error":"#REF!"}},{"$f":"runoff!$B$1","v":{"$error":"#REF!"}},9.1093054154082961E-2,9.1175844194105703E-3]
[{"$f":"runoff!A143","v":"23:10:00"},{"$f":"runoff!C143","v":{"$error":"#REF!"}},{"$f":"runoff!$B$1","v":{"$error":"#REF!"}},9.0425703689749337E-2,9.007808224465402E-3]
[{"$f":"runoff!A144","v":"23:20:00"},{"$f":"runoff!C144","v":{"$error":"#REF!"}},{"$f":"runoff!$B$1","v":{"$error":"#REF!"}},8.9745887137244379E-2,8.9348707283414801E-3]
[{"$f":"runoff!A145","v":"23:30:00"},{"$f":"runoff!C145","v":{"$error":"#REF!"}},{"$f":"runoff!$B$1","v":{"$error":"#REF!"}},8.9053069947966315E-2,8.8258357741240936E-3]
[{"$f":"runoff!A146","v":"23:40:00"},{"$f":"runoff!C146","v":{"$error":"#REF!"}},{"$f":"runoff!$B$1","v":{"$error":"#REF!"}},8.8372961462018063E-2,8.7172479930574982E-3]
[{"$f":"runoff!A147","v":"23:50:00"},{"$f":"runoff!C147","v":{"$error":"#REF!"}},{"$f":"runoff!$B$1","v":{"$error":"#REF!"}},8.7704915384612975E-2,8.6091092342775559E-3]
[{"$f":"runoff!A148","v":1},{"$f":"runoff!C148","v":{"$error":"#REF!"}},{"$f":"runoff!$B$1","v":{"$error":"#REF!"}},8.7166663214081105E-2,8.5372671088599777E-3]

{"sheet":"浸透計算","index":4,"n_rows":149,"n_cols":7,"rows_kept":149,"cut":false,"hidden":true,"merged":[]}
[8,9,10]
[null,{"$f":"MAX(B5:B149)","v":0.31119999999999998},{"$f":"MAX(C5:C149)","v":0.31119999999999998}]
[]
["時刻","浸透考慮前","浸透考慮後","許容放流量"]
["00:00:00",0,0,{"$f":"#REF!","v":{"$error":"#REF!"}},null,null,0]
["00:10:00",8.2000000000000007E-3,8.2000000000000007E-3,{"$f":"D5","v":{"$error":"#REF!"}},null,null,{"$f":"G5+1/6","v":0.16666666666666666}]
["00:20:00",8.2000000000000007E-3,8.2000000000000007E-3,{"$f":"D6","v":{"$error":"#REF!"}},null,null,{"$f":"G6+1/6","v":0.33333333333333331}]
["00:30:00",8.3999999999999995E-3,8.3999999999999995E-3,{"$error":"#REF!"},null,null,0.5]
["00:40:00",8.3999999999999995E-3,8.3999999999999995E-3,{"$error":"#REF!"},null,null,0.66666666666666663]
["00:50:00",8.6E-3,8.6E-3,{"$error":"#REF!"},null,null,0.83333333333333326]
["01:00:00",8.6E-3,8.6E-3,{"$error":"#REF!"},null,null,0.99999999999999989]
["01:10:00",8.6E-3,8.6E-3,{"$error":"#REF!"},null,null,1.1666666666666665]
["01:20:00",8.8000000000000005E-3,8.8000000000000005E-3,{"$error":"#REF!"},null,null,1.3333333333333333]
["01:30:00",8.8000000000000005E-3,8.8000000000000005E-3,{"$error":"#REF!"},null,null,1.5]
["01:40:00",8.9999999999999993E-3,8.9999999999999993E-3,{"$error":"#REF!"},null,null,1.6666666666666667]
["01:50:00",8.9999999999999993E-3,8.9999999999999993E-3,{"$error":"#REF!"},null,null,1.8333333333333335]
["02:00:00",9.1999999999999998E-3,9.1999999999999998E-3,{"$error":"#REF!"},null,null,2]
["02:10:00",9.1999999999999998E-3,9.1999999999999998E-3,{"$error":"#REF!"},null,null,2.1666666666666665]
["02:20:00",9.4000000000000004E-3,9.4000000000000004E-3,{"$error":"#REF!"},null,null,2.333333333333333]
["02:30:00",9.5999999999999992E-3,9.5999999999999992E-3,{"$error":"#REF!"},null,null,2.4999999999999996]
["02:40:00",9.5999999999999992E-3,9.5999999999999992E-3,{"$error":"#REF!"},null,null,2.6666666666666661]
["02:50:00",9.7999999999999997E-3,9.7999999999999997E-3,{"$error":"#REF!"},null,null,2.8333333333333326]
["03:00:00",9.7999999999999997E-3,9.7999999999999997E-3,{"$error":"#REF!"},null,null,2.9999999999999991]
["03:10:00",0.01,0.01,{"$error":"#REF!"},null,null,3.1666666666666656]
["03:20:00",1.0200000000000001E-2,1.0200000000000001E-2,{"$error":"#REF!"},null,null,3.3333333333333321]
["03:30:00",1.0200000000000001E-2,1.0200000000000001E-2,{"$error":"#REF!"},null,null,3.4999999999999987]
["03:40:00",1.04E-2,1.04E-2,{"$error":"#REF!"},null,null,3.6666666666666652]
["03:50:00",1.06E-2,1.06E-2,{"$error":"#REF!"},null,null,3.8333333333333317]
["04:00:00",1.06E-2,1.06E-2,{"$error":"#REF!"},null,null,3.9999999999999982]
["04:10:00",1.0800000000000001E-2,1.0800000000000001E-2,{"$error":"#REF!"},null,null,4.1666666666666652]
["04:20:00",1.0999999999999999E-2,1.0999999999999999E-2,{"$error":"#REF!"},null,null,4.3333333333333321]
["04:30:00",1.12E-2,1.12E-2,{"$error":"#REF!"},null,null,4.4999999999999991]
["04:40:00",1.14E-2,1.14E-2,{"$error":"#REF!"},null,null,4.6666666666666661]
["04:50:00",1.1599999999999999E-2,1.1599999999999999E-2,{"$error":"#REF!"},null,null,4.833333333333333]
["05:00:00",1.18E-2,1.18E-2,{"$error":"#REF!"},null,null,5]
["05:10:00",1.2E-2,1.2E-2,{"$error":"#REF!"},null,null,5.166666666666667]
["05:20:00",1.2200000000000001E-2,1.2200000000000001E-2,{"$error":"#REF!"},null,null,5.3333333333333339]
["05:30:00",1.24E-2,1.24E-2,{"$error":"#REF!"},null,null,5.5000000000000009]
["05:40:00",1.26E-2,1.26E-2,{"$error":"#REF!"},null,null,5.6666666666666679]
["05:50:00",1.2800000000000001E-2,1.2800000000000001E-2,{"$error":"#REF!"},null,null,5.8333333333333348]
["06:00:00",1.2999999999999999E-2,1.2999999999999999E-2,{"$error":"#REF!"},null,null,6.0000000000000018]
["06:10:00",1.32E-2,1.32E-2,{"$error":"#REF!"},null,null,6.1666666666666687]
["06:20:00",1.3599999999999999E-2,1.3599999999999999E-2,{"$error":"#REF!"},null,null,6.3333333333333357]
["06:30:00",1.38E-2,1.38E-2,{"$error":"#REF!"},null,null,6.5000000000000027]
["06:40:00",1.4200000000000001E-2,1.4200000000000001E-2,{"$error":"#REF!"},null,null,6.6666666666666696]
["06:50:00",1.44E-2,1.44E-2,{"$error":"#REF!"},null,null,6.8333333333333366]
["07:00:00",1.4800000000000001E-2,1.4800000000000001E-2,{"$error":"#REF!"},null,null,7.0000000000000036]
["07:10:00",1.52E-2,1.52E-2,{"$error":"#REF!"},null,null,7.1666666666666705]
["07:20:00",1.54E-2,1.54E-2,{"$error":"#REF!"},null,null,7.3333333333333375]
["07:30:00",1.5800000000000002E-2,1.5800000000000002E-2,{"$error":"#REF!"},null,null,7.5000000000000044]
["07:40:00",1.6400000000000001E-2,1.6400000000000001E-2,{"$error":"#REF!"},null,null,7.6666666666666714]
["07:50:00",1.6799999999999999E-2,1.6799999999999999E-2,{"$error":"#REF!"},null,null,7.8333333333333384]
["08:00:00",1.72E-2,1.72E-2,{"$error":"#REF!"},null,null,8.0000000000000053]
["08:10:00",1.78E-2,1.78E-2,{"$error":"#REF!"},null,null,8.1666666666666714]
["08:20:00",1.8200000000000001E-2,1.8200000000000001E-2,{"$error":"#REF!"},null,null,8.3333333333333375]
["08:30:00",1.8800000000000001E-2,1.8800000000000001E-2,{"$error":"#REF!"},null,null,8.5000000000000036]
["08:40:00",1.9599999999999999E-2,1.9599999999999999E-2,{"$error":"#REF!"},null,null,8.6666666666666696]
["08:50:00",2.0199999999999999E-2,2.0199999999999999E-2,{"$error":"#REF!"},null,null,8.8333333333333357]
["09:00:00",2.1000000000000001E-2,2.1000000000000001E-2,{"$error":"#REF!"},null,null,9.0000000000000018]
["09:10:00",2.18E-2,2.18E-2,{"$error":"#REF!"},null,null,9.1666666666666679]
["09:20:00",2.2800000000000001E-2,2.2800000000000001E-2,{"$error":"#REF!"},null,null,9.3333333333333339]
["09:30:00",2.3800000000000002E-2,2.3800000000000002E-2,{"$error":"#REF!"},null,null,9.5]
["09:40:00",2.5000000000000001E-2,2.5000000000000001E-2,{"$error":"#REF!"},null,null,9.6666666666666661]
["09:50:00",2.6200000000000001E-2,2.6200000000000001E-2,{"$error":"#REF!"},null,null,9.8333333333333321]
["10:00:00",2.7799999999999998E-2,2.7799999999999998E-2,{"$error":"#REF!"},null,null,9.9999999999999982]
["10:10:00",2.9399999999999999E-2,2.9399999999999999E-2,{"$error":"#REF!"},null,null,10.166666666666664]
["10:20:00",3.1399999999999997E-2,3.1399999999999997E-2,{"$error":"#REF!"},null,null,10.33333333333333]
["10:30:00",3.3799999999999997E-2,3.3799999999999997E-2,{"$error":"#REF!"},null,null,10.499999999999996]
["10:40:00",3.6600000000000001E-2,3.6600000000000001E-2,{"$error":"#REF!"},null,null,10.666666666666663]
["10:50:00",0.04,0.04,{"$error":"#REF!"},null,null,10.833333333333329]
["11:00:00",4.4400000000000002E-2,4.4400000000000002E-2,{"$f":"D70","v":{"$error":"#REF!"}},null,null,{"$f":"G70+1/6","v":10.999999999999995}]
["11:10:00",5.0200000000000002E-2,5.0200000000000002E-2,{"$error":"#REF!"},null,null,11.166666666666661]
["11:20:00",5.8000000000000003E-2,5.8000000000000003E-2,{"$error":"#REF!"},null,null,11.333333333333327]
["11:30:00",6.9599999999999995E-2,6.9599999999999995E-2,{"$error":"#REF!"},null,null,11.499999999999993]
["11:40:00",8.8999999999999996E-2,8.8999999999999996E-2,{"$error":"#REF!"},null,null,11.666666666666659]
["11:50:00",0.129,0.129,{"$error":"#REF!"},null,null,11.833333333333325]
["12:00:00",0.31119999999999998,0.31119999999999998,{"$error":"#REF!"},null,null,11.999999999999991]
["12:10:00",0.17399999999999999,0.17399999999999999,{"$error":"#REF!"},null,null,12.166666666666657]
["12:20:00",0.1046,0.1046,{"$error":"#REF!"},null,null,12.333333333333323]
["12:30:00",7.7799999999999994E-2,7.7799999999999994E-2,{"$error":"#REF!"},null,null,12.499999999999989]
["12:40:00",6.3200000000000006E-2,6.3200000000000006E-2,{"$error":"#REF!"},null,null,12.666666666666655]
["12:50:00",5.3800000000000001E-2,5.3800000000000001E-2,{"$error":"#REF!"},null,null,12.833333333333321]
["13:00:00",4.7199999999999999E-2,4.7199999999999999E-2,{"$error":"#REF!"},null,null,12.999999999999988]
["13:10:00",4.2200000000000001E-2,4.2200000000000001E-2,{"$error":"#REF!"},null,null,13.166666666666654]
["13:20:00",3.8199999999999998E-2,3.8199999999999998E-2,{"$error":"#REF!"},null,null,13.33333333333332]
["13:30:00",3.5200000000000002E-2,3.5200000000000002E-2,{"$error":"#REF!"},null,null,13.499999999999986]
["13:40:00",3.2599999999999997E-2,3.2599999999999997E-2,{"$error":"#REF!"},null,null,13.666666666666652]
["13:50:00",3.04E-2,3.04E-2,{"$error":"#REF!"},null,null,13.833333333333318]
["14:00:00",2.86E-2,2.86E-2,{"$error":"#REF!"},null,null,13.999999999999984]
["14:10:00",2.7E-2,2.7E-2,{"$error":"#REF!"},null,null,14.16666666666665]
["14:20:00",2.5600000000000001E-2,2.5600000000000001E-2,{"$error":"#REF!"},null,null,14.333333333333316]
["14:30:00",2.4400000000000002E-2,2.4400000000000002E-2,{"$error":"#REF!"},null,null,14.499999999999982]
["14:40:00",2.3199999999999998E-2,2.3199999999999998E-2,{"$error":"#REF!"},null,null,14.666666666666648]
["14:50:00",2.24E-2,2.24E-2,{"$error":"#REF!"},null,null,14.833333333333314]
["15:00:00",2.1399999999999999E-2,2.1399999999999999E-2,{"$error":"#REF!"},null,null,14.99999999999998]
["15:10:00",2.06E-2,2.06E-2,{"$error":"#REF!"},null,null,15.166666666666647]
["15:20:00",1.9800000000000002E-2,1.9800000000000002E-2,{"$error":"#REF!"},null,null,15.333333333333313]
["15:30:00",1.9199999999999998E-2,1.9199999999999998E-2,{"$error":"#REF!"},null,null,15.499999999999979]
["15:40:00",1.8599999999999998E-2,1.8599999999999998E-2,{"$error":"#REF!"},null,null,15.666666666666645]
["15:50:00",1.7999999999999999E-2,1.7999999999999999E-2,{"$error":"#REF!"},null,null,15.833333333333311]
["16:00:00",1.7399999999999999E-2,1.7399999999999999E-2,{"$error":"#REF!"},null,null,15.999999999999977]
["16:10:00",1.7000000000000001E-2,1.7000000000000001E-2,{"$error":"#REF!"},null,null,16.166666666666643]
["16:20:00",1.66E-2,1.66E-2,{"$error":"#REF!"},null,null,16.333333333333311]
["16:30:00",1.6E-2,1.6E-2,{"$error":"#REF!"},null,null,16.499999999999979]
["16:40:00",1.5599999999999999E-2,1.5599999999999999E-2,{"$error":"#REF!"},null,null,16.666666666666647]
["16:50:00",1.54E-2,1.54E-2,{"$error":"#REF!"},null,null,16.833333333333314]
["17:00:00",1.4999999999999999E-2,1.4999999999999999E-2,{"$error":"#REF!"},null,null,16.999999999999982]
["17:10:00",1.46E-2,1.46E-2,{"$error":"#REF!"},null,null,17.16666666666665]
["17:20:00",1.4200000000000001E-2,1.4200000000000001E-2,{"$error":"#REF!"},null,null,17.333333333333318]
["17:30:00",1.4E-2,1.4E-2,{"$error":"#REF!"},null,null,17.499999999999986]
["17:40:00",1.3599999999999999E-2,1.3599999999999999E-2,{"$error":"#REF!"},null,null,17.666666666666654]
["17:50:00",1.34E-2,1.34E-2,{"$error":"#REF!"},null,null,17.833333333333321]
["18:00:00",1.32E-2,1.32E-2,{"$error":"#REF!"},null,null,17.999999999999989]
["18:10:00",1.2999999999999999E-2,1.2999999999999999E-2,{"$error":"#REF!"},null,null,18.166666666666657]
["18:20:00",1.26E-2,1.26E-2,{"$error":"#REF!"},null,null,18.333333333333325]
["18:30:00",1.24E-2,1.24E-2,{"$error":"#REF!"},null,null,18.499999999999993]
["18:40:00",1.2200000000000001E-2,1.2200000000000001E-2,{"$error":"#REF!"},null,null,18.666666666666661]
["18:50:00",1.2E-2,1.2E-2,{"$error":"#REF!"},null,null,18.833333333333329]
["19:00:00",1.18E-2,1.18E-2,{"$error":"#REF!"},null,null,18.999999999999996]
["19:10:00",1.1599999999999999E-2,1.1599999999999999E-2,{"$error":"#REF!"},null,null,19.166666666666664]
["19:20:00",1.14E-2,1.14E-2,{"$error":"#REF!"},null,null,19.333333333333332]
["19:30:00",1.12E-2,1.12E-2,{"$error":"#REF!"},null,null,19.5]
["19:40:00",1.0999999999999999E-2,1.0999999999999999E-2,{"$error":"#REF!"},null,null,19.666666666666668]
["19:50:00",1.0999999999999999E-2,1.0999999999999999E-2,{"$error":"#REF!"},null,null,19.833333333333336]
["20:00:00",1.0800000000000001E-2,1.0800000000000001E-2,{"$error":"#REF!"},null,null,20.000000000000004]
["20:10:00",1.06E-2,1.06E-2,{"$error":"#REF!"},null,null,20.166666666666671]
["20:20:00",1.04E-2,1.04E-2,{"$error":"#REF!"},null,null,20.333333333333339]
["20:30:00",1.04E-2,1.04E-2,{"$error":"#REF!"},null,null,20.500000000000007]
["20:40:00",1.0200000000000001E-2,1.0200000000000001E-2,{"$error":"#REF!"},null,null,20.666666666666675]
["20:50:00",0.01,0.01,{"$error":"#REF!"},null,null,20.833333333333343]
["21:00:00",0.01,0.01,{"$error":"#REF!"},null,null,21.000000000000011]
["21:10:00",9.7999999999999997E-3,9.7999999999999997E-3,{"$error":"#REF!"},null,null,21.166666666666679]
["21:20:00",9.5999999999999992E-3,9.5999999999999992E-3,{"$error":"#REF!"},null,null,21.333333333333346]
["21:30:00",9.5999999999999992E-3,9.5999999999999992E-3,{"$error":"#REF!"},null,null,21.500000000000014]
["21:40:00",9.4000000000000004E-3,9.4000000000000004E-3,{"$f":"D134","v":{"$error":"#REF!"}},null,null,{"$f":"G134+1/6","v":21.666666666666682}]
["21:50:00",9.4000000000000004E-3,9.4000000000000004E-3,{"$error":"#REF!"},null,null,21.83333333333335]
["22:00:00",9.1999999999999998E-3,9.1999999999999998E-3,{"$error":"#REF!"},null,null,22.000000000000018]
["22:10:00",9.1999999999999998E-3,9.1999999999999998E-3,{"$error":"#REF!"},null,null,22.166666666666686]
["22:20:00",8.9999999999999993E-3,8.9999999999999993E-3,{"$error":"#REF!"},null,null,22.333333333333353]
["22:30:00",8.9999999999999993E-3,8.9999999999999993E-3,{"$error":"#REF!"},null,null,22.500000000000021]
["22:40:00",8.8000000000000005E-3,8.8000000000000005E-3,{"$error":"#REF!"},null,null,22.666666666666689]
["22:50:00",8.8000000000000005E-3,8.8000000000000005E-3,{"$error":"#REF!"},null,null,22.833333333333357]
["23:00:00",8.6E-3,8.6E-3,{"$error":"#REF!"},null,null,23.000000000000025]
["23:10:00",8.6E-3,8.6E-3,{"$error":"#REF!"},null,null,23.166666666666693]
["23:20:00",8.3999999999999995E-3,8.3999999999999995E-3,{"$error":"#REF!"},null,null,23.333333333333361]
["23:30:00",8.3999999999999995E-3,8.3999999999999995E-3,{"$error":"#REF!"},null,null,23.500000000000028]
["23:40:00",8.2000000000000007E-3,8.2000000000000007E-3,{"$error":"#REF!"},null,null,23.666666666666696]
["23:50:00",8.2000000000000007E-3,8.2000000000000007E-3,{"$error":"#REF!"},null,null,23.833333333333364]
[1,8.2000000000000007E-3,8.2000000000000007E-3,{"$error":"#REF!"},null,null,24.000000000000032]

{"sheet":"逐次計算（浸透考慮）","index":5,"n_rows":148,"n_cols":8,"rows_kept":148,"cut":false,"hidden":true,"merged":[]}
["時刻","行為後流入量","許容放流量","調整池水位","調節後放流量"]
[null,null,null,null,{"$f":"MAX(E3:E147)","v":8.5125048858225222E-2}]
[{"$f":"runoff!A4","v":"00:00:00"},{"$f":"浸透計算!C5","v":0},{"$f":"runoff!$B$1","v":{"$error":"#REF!"}},0,0,null,null,0]
[{"$f":"runoff!A5","v":"00:10:00"},{"$f":"浸透計算!C6","v":8.2000000000000007E-3},{"$f":"runoff!$B$1","v":{"$error":"#REF!"}},0,0,null,null,{"$f":"H3+1/6","v":0.16666666666666666}]
[{"$f":"runoff!A6","v":"00:20:00"},{"$f":"浸透計算!C7","v":8.2000000000000007E-3},{"$f":"runoff!$B$1","v":{"$error":"#REF!"}},5.8061463155347952E-3,1.4881044245841906E-4,null,null,{"$f":"H4+1/6","v":0.33333333333333331}]
[{"$f":"runoff!A7","v":"00:30:00"},{"$f":"浸透計算!C8","v":8.3999999999999995E-3},{"$f":"runoff!$B$1","v":{"$error":"#REF!"}},1.6991200236171525E-2,7.4124812092531839E-4,null,null,0.5]
[{"$f":"runoff!A8","v":"00:40:00"},{"$f":"浸透計算!C9","v":8.3999999999999995E-3},{"$f":"runoff!$B$1","v":{"$error":"#REF!"}},2.7345939053530111E-2,1.5001807190041115E-3,null,null,0.66666666666666663]
[{"$f":"runoff!A9","v":"00:50:00"},{"$f":"浸透計算!C10","v":8.6E-3},{"$f":"runoff!$B$1","v":{"$error":"#REF!"}},3.6702662215248691E-2,2.3251631634127975E-3,null,null,0.83333333333333326]
[{"$f":"runoff!A10","v":"01:00:00"},{"$f":"浸透計算!C11","v":8.6E-3},{"$f":"runoff!$B$1","v":{"$error":"#REF!"}},4.5007385529721874E-2,3.1589538405177239E-3,null,null,0.99999999999999989]
[{"$f":"runoff!A11","v":"01:10:00"},{"$f":"浸透計算!C12","v":8.6E-3},{"$f":"runoff!$B$1","v":{"$error":"#REF!"}},5.2275778861396088E-2,3.9622074062273648E-3,null,null,1.1666666666666665]
[{"$f":"runoff!A12","v":"01:20:00"},{"$f":"浸透計算!C13","v":8.8000000000000005E-3},{"$f":"runoff!$B$1","v":{"$error":"#REF!"}},5.8439258075671054E-2,4.6911014166446845E-3,null,null,1.3333333333333333]
[{"$f":"runoff!A13","v":"01:30:00"},{"$f":"浸透計算!C14","v":8.8000000000000005E-3},{"$f":"runoff!$B$1","v":{"$error":"#REF!"}},6.374464286112777E-2,5.3520983475219977E-3,null,null,1.5]
[{"$f":"runoff!A14","v":"01:40:00"},{"$f":"浸透計算!C15","v":8.9999999999999993E-3},{"$f":"runoff!$B$1","v":{"$error":"#REF!"}},6.8312282390152482E-2,5.9141081722304083E-3,null,null,1.6666666666666667]
[{"$f":"runoff!A15","v":"01:50:00"},{"$f":"浸透計算!C16","v":8.9999999999999993E-3},{"$f":"runoff!$B$1","v":{"$error":"#REF!"}},7.2235668646366408E-2,6.4454628858196224E-3,null,null,1.8333333333333335]
[{"$f":"runoff!A16","v":"02:00:00"},{"$f":"浸透計算!C17","v":9.1999999999999998E-3},{"$f":"runoff!$B$1","v":{"$error":"#REF!"}},7.5586459245310891E-2,6.9081074836440182E-3,null,null,2]
[{"$f":"runoff!A17","v":"02:10:00"},{"$f":"浸透計算!C18","v":9.1999999999999998E-3},{"$f":"runoff!$B$1","v":{"$error":"#REF!"}},7.8468073903568386E-2,7.2960535235722518E-3,null,null,2.1666666666666665]
[{"$f":"runoff!A18","v":"02:20:00"},{"$f":"浸透計算!C19","v":9.4000000000000004E-3},{"$f":"runoff!$B$1","v":{"$error":"#REF!"}},8.0966765714913874E-2,7.6390938313620161E-3,null,null,2.333333333333333]
[{"$f":"runoff!A19","v":"02:30:00"},{"$f":"浸透計算!C20","v":9.5999999999999992E-3},{"$f":"runoff!$B$1","v":{"$error":"#REF!"}},8.3136440698165323E-2,7.9522901918626428E-3,null,null,2.4999999999999996]
[{"$f":"runoff!A20","v":"02:40:00"},{"$f":"浸透計算!C21","v":9.5999999999999992E-3},{"$f":"runoff!$B$1","v":{"$error":"#REF!"}},8.5165423583087624E-2,8.2341868743784248E-3,null,null,2.6666666666666661]
[{"$f":"runoff!A21","v":"02:50:00"},{"$f":"浸透計算!C22","v":9.7999999999999997E-3},{"$f":"runoff!$B$1","v":{"$error":"#REF!"}},8.6942629176047004E-2,8.5014213700512226E-3,null,null,2.8333333333333326]
[{"$f":"runoff!A22","v":"03:00:00"},{"$f":"浸透計算!C23","v":9.7999999999999997E-3},{"$f":"runoff!$B$1","v":{"$error":"#REF!"}},8.8502675189456814E-2,8.7353148246871858E-3,null,null,2.9999999999999991]
[{"$f":"runoff!A23","v":"03:10:00"},{"$f":"浸透計算!C24","v":0.01},{"$f":"runoff!$B$1","v":{"$error":"#REF!"}},8.9881231877925211E-2,8.9530865673033023E-3,null,null,3.1666666666666656]
[{"$f":"runoff!A24","v":"03:20:00"},{"$f":"浸透計算!C25","v":1.0200000000000001E-2},{"$f":"runoff!$B$1","v":{"$error":"#REF!"}},9.1115118844055126E-2,9.1359235063298832E-3,null,null,3.3333333333333321]
[{"$f":"runoff!A25","v":"03:30:00"},{"$f":"浸透計算!C26","v":1.0200000000000001E-2},{"$f":"runoff!$B$1","v":{"$error":"#REF!"}},9.2372874690923104E-2,9.3199883860131914E-3,null,null,3.4999999999999987]
[{"$f":"runoff!A26","v":"03:40:00"},{"$f":"浸透計算!C27","v":1.04E-2},{"$f":"runoff!$B$1","v":{"$error":"#REF!"}},9.3521904745940201E-2,9.4866899376964599E-3,null,null,3.6666666666666652]
[{"$f":"runoff!A27","v":"03:50:00"},{"$f":"浸透計算!C28","v":1.06E-2},{"$f":"runoff!$B$1","v":{"$error":"#REF!"}},9.4574022310716016E-2,9.6543737058144025E-3,null,null,3.8333333333333317]
[{"$f":"runoff!A28","v":"04:00:00"},{"$f":"浸透計算!C29","v":1.06E-2},{"$f":"runoff!$B$1","v":{"$error":"#REF!"}},9.5672045621191859E-2,9.8230339703257574E-3,null,null,3.9999999999999982]
[{"$f":"runoff!A29","v":"04:10:00"},{"$f":"浸透計算!C30","v":1.0800000000000001E-2},{"$f":"runoff!$B$1","v":{"$error":"#REF!"}},9.668396624326682E-2,9.9737694337302934E-3,null,null,4.1666666666666652]
[{"$f":"runoff!A30","v":"04:20:00"},{"$f":"浸透計算!C31","v":1.0999999999999999E-2},{"$f":"runoff!$B$1","v":{"$error":"#REF!"}},9.7622160313074219E-2,1.0125268122803439E-2,null,null,4.3333333333333321]
[{"$f":"runoff!A31","v":"04:30:00"},{"$f":"浸透計算!C32","v":1.12E-2},{"$f":"runoff!$B$1","v":{"$error":"#REF!"}},9.862976055259183E-2,1.027752621173215E-2,null,null,4.4999999999999991]
[{"$f":"runoff!A32","v":"04:40:00"},{"$f":"浸透計算!C33","v":1.14E-2},{"$f":"runoff!$B$1","v":{"$error":"#REF!"}},9.970567439148717E-2,1.0430539931666332E-2,null,null,4.6666666666666661]
[{"$f":"runoff!A33","v":"04:50:00"},{"$f":"浸透計算!C34","v":1.1599999999999999E-2},{"$f":"runoff!$B$1","v":{"$error":"#REF!"}},0.10082100806871892,1.0622864035905642E-2,null,null,4.833333333333333]
[{"$f":"runoff!A34","v":"05:00:00"},{"$f":"浸透計算!C35","v":1.18E-2},{"$f":"runoff!$B$1","v":{"$error":"#REF!"}},0.10196056211772503,1.0796954349472549E-2,null,null,5]
[{"$f":"runoff!A35","v":"05:10:00"},{"$f":"浸透計算!C36","v":1.2E-2},{"$f":"runoff!$B$1","v":{"$error":"#REF!"}},0.10312274082987598,1.0991491169678137E-2,null,null,5.166666666666667]
[{"$f":"runoff!A36","v":"05:20:00"},{"$f":"浸透計算!C37","v":1.2200000000000001E-2},{"$f":"runoff!$B$1","v":{"$error":"#REF!"}},0.10429196652869069,1.118718252796547E-2,null,null,5.3333333333333339]
[{"$f":"runoff!A37","v":"05:30:00"},{"$f":"浸透計算!C38","v":1.24E-2},{"$f":"runoff!$B$1","v":{"$error":"#REF!"}},0.10548081113749327,1.1364286281161613E-2,null,null,5.5000000000000009]
[{"$f":"runoff!A38","v":"05:40:00"},{"$f":"浸透計算!C39","v":1.26E-2},{"$f":"runoff!$B$1","v":{"$error":"#REF!"}},0.10668770610085672,1.1562152702974424E-2,null,null,5.6666666666666679]
[{"$f":"runoff!A39","v":"05:50:00"},{"$f":"浸透計算!C40","v":1.2800000000000001E-2},{"$f":"runoff!$B$1","v":{"$error":"#REF!"}},0.10789685967101617,1.1761154346404451E-2,null,null,5.8333333333333348]
[{"$f":"runoff!A40","v":"06:00:00"},{"$f":"浸透計算!C41","v":1.2999999999999999E-2},{"$f":"runoff!$B$1","v":{"$error":"#REF!"}},0.10910663915290363,1.1961284772044962E-2,null,null,6.0000000000000018]
[{"$f":"runoff!A41","v":"06:10:00"},{"$f":"浸透計算!C42","v":1.32E-2},{"$f":"runoff!$B$1","v":{"$error":"#REF!"}},0.11031542106091703,1.2162537648843109E-2,null,null,6.1666666666666687]
[{"$f":"runoff!A42","v":"06:20:00"},{"$f":"浸透計算!C43","v":1.3599999999999999E-2},{"$f":"runoff!$B$1","v":{"$error":"#REF!"}},0.11152159096480795,1.2364906751094829E-2,null,null,6.3333333333333357]
[{"$f":"runoff!A43","v":"06:30:00"},{"$f":"浸透計算!C44","v":1.38E-2},{"$f":"runoff!$B$1","v":{"$error":"#REF!"}},0.11286777410905074,1.2568385955555157E-2,null,null,6.5000000000000027]
[{"$f":"runoff!A44","v":"06:40:00"},{"$f":"浸透計算!C45","v":1.4200000000000001E-2},{"$f":"runoff!$B$1","v":{"$error":"#REF!"}},0.11432277135636625,1.2814017861500672E-2,null,null,6.6666666666666696]
[{"$f":"runoff!A45","v":"06:50:00"},{"$f":"浸透計算!C46","v":1.44E-2},{"$f":"runoff!$B$1","v":{"$error":"#REF!"}},0.1158401372935276,1.3081901372302255E-2,null,null,6.8333333333333366]
[{"$f":"runoff!A46","v":"07:00:00"},{"$f":"浸透計算!C47","v":1.4800000000000001E-2},{"$f":"runoff!$B$1","v":{"$error":"#REF!"}},0.11740249733056653,1.3351626043003755E-2,null,null,7.0000000000000036]
[{"$f":"runoff!A47","v":"07:10:00"},{"$f":"浸透計算!C48","v":1.52E-2},{"$f":"runoff!$B$1","v":{"$error":"#REF!"}},0.11900720495067527,1.3623179390445456E-2,null,null,7.1666666666666705]
[{"$f":"runoff!A48","v":"07:20:00"},{"$f":"浸透計算!C49","v":1.54E-2},{"$f":"runoff!$B$1","v":{"$error":"#REF!"}},0.12078064347721308,1.3917652519422112E-2,null,null,7.3333333333333375]
[{"$f":"runoff!A49","v":"07:30:00"},{"$f":"浸透計算!C50","v":1.5800000000000002E-2},{"$f":"runoff!$B$1","v":{"$error":"#REF!"}},0.12254521123926858,1.4235480183860925E-2,null,null,7.5000000000000044]
[{"$f":"runoff!A50","v":"07:40:00"},{"$f":"浸透計算!C51","v":1.6400000000000001E-2},{"$f":"runoff!$B$1","v":{"$error":"#REF!"}},0.12429779535743737,1.4534269838944994E-2,null,null,7.6666666666666714]
[{"$f":"runoff!A51","v":"07:50:00"},{"$f":"浸透計算!C52","v":1.6799999999999999E-2},{"$f":"runoff!$B$1","v":{"$error":"#REF!"}},0.1263079848426415,1.4878267408238626E-2,null,null,7.8333333333333384]
[{"$f":"runoff!A52","v":"08:00:00"},{"$f":"浸透計算!C53","v":1.72E-2},{"$f":"runoff!$B$1","v":{"$error":"#REF!"}},0.12850986599236758,1.5268457397474549E-2,null,null,8.0000000000000053]
[{"$f":"runoff!A53","v":"08:10:00"},{"$f":"浸透計算!C54","v":1.78E-2},{"$f":"runoff!$B$1","v":{"$error":"#REF!"}},0.13070764107045238,1.5683961160914531E-2,null,null,8.1666666666666714]
[{"$f":"runoff!A54","v":"08:20:00"},{"$f":"浸透計算!C55","v":1.8200000000000001E-2},{"$f":"runoff!$B$1","v":{"$error":"#REF!"}},0.13302461590193024,1.6103167072769497E-2,null,null,8.3333333333333375]
[{"$f":"runoff!A55","v":"08:30:00"},{"$f":"浸透計算!C56","v":1.8800000000000001E-2},{"$f":"runoff!$B$1","v":{"$error":"#REF!"}},0.1354393509061185,1.6548400388089465E-2,null,null,8.5000000000000036]
[{"$f":"runoff!A56","v":"08:40:00"},{"$f":"浸透計算!C57","v":1.9599999999999999E-2},{"$f":"runoff!$B$1","v":{"$error":"#REF!"}},0.13793017050528159,1.6997663101071037E-2,null,null,8.6666666666666696]
[{"$f":"runoff!A57","v":"08:50:00"},{"$f":"浸透計算!C58","v":2.0199999999999999E-2},{"$f":"runoff!$B$1","v":{"$error":"#REF!"}},0.14073047347608794,1.7519250112744182E-2,null,null,8.8333333333333357]
[{"$f":"runoff!A58","v":"09:00:00"},{"$f":"浸透計算!C59","v":2.1000000000000001E-2},{"$f":"runoff!$B$1","v":{"$error":"#REF!"}},0.14376772924920592,1.8069088548532241E-2,null,null,9.0000000000000018]
[{"$f":"runoff!A59","v":"09:10:00"},{"$f":"浸透計算!C60","v":2.18E-2},{"$f":"runoff!$B$1","v":{"$error":"#REF!"}},0.14696714426497148,1.8694389296272831E-2,null,null,9.1666666666666679]
[{"$f":"runoff!A60","v":"09:20:00"},{"$f":"浸透計算!C61","v":2.2800000000000001E-2},{"$f":"runoff!$B$1","v":{"$error":"#REF!"}},0.15039645772493071,1.9350296039250352E-2,null,null,9.3333333333333339]
[{"$f":"runoff!A61","v":"09:30:00"},{"$f":"浸透計算!C62","v":2.3800000000000002E-2},{"$f":"runoff!$B$1","v":{"$error":"#REF!"}},0.15413804483535723,2.0061369834291558E-2,null,null,9.5]
[{"$f":"runoff!A62","v":"09:40:00"},{"$f":"浸透計算!C63","v":2.5000000000000001E-2},{"$f":"runoff!$B$1","v":{"$error":"#REF!"}},0.15822057114970151,2.0877527009817716E-2,null,null,9.6666666666666661]
[{"$f":"runoff!A63","v":"09:50:00"},{"$f":"浸透計算!C64","v":2.6200000000000001E-2},{"$f":"runoff!$B$1","v":{"$error":"#REF!"}},0.16266939500826474,2.1753437239641227E-2,null,null,9.8333333333333321]
[{"$f":"runoff!A64","v":"10:00:00"},{"$f":"浸透計算!C65","v":2.7799999999999998E-2},{"$f":"runoff!$B$1","v":{"$error":"#REF!"}},0.1675053956431975,2.2740641879918713E-2,null,null,9.9999999999999982]
[{"$f":"runoff!A65","v":"10:10:00"},{"$f":"浸透計算!C66","v":2.9399999999999999E-2},{"$f":"runoff!$B$1","v":{"$error":"#REF!"}},0.17285351175703731,2.384330377555675E-2,null,null,10.166666666666664]
[{"$f":"runoff!A66","v":"10:20:00"},{"$f":"浸透計算!C67","v":3.1399999999999997E-2},{"$f":"runoff!$B$1","v":{"$error":"#REF!"}},0.17881393296365972,2.5091578817926861E-2,null,null,10.33333333333333]
[{"$f":"runoff!A67","v":"10:30:00"},{"$f":"浸透計算!C68","v":3.3799999999999997E-2},{"$f":"runoff!$B$1","v":{"$error":"#REF!"}},0.18546067796364896,2.6491601448754721E-2,null,null,10.499999999999996]
[{"$f":"runoff!A68","v":"10:40:00"},{"$f":"浸透計算!C69","v":3.6600000000000001E-2},{"$f":"runoff!$B$1","v":{"$error":"#REF!"}},0.19308934829791358,2.8129975687731658E-2,null,null,10.666666666666663]
[{"$f":"runoff!A69","v":"10:50:00"},{"$f":"浸透計算!C70","v":0.04},{"$f":"runoff!$B$1","v":{"$error":"#REF!"}},0.20186539258031203,3.0100576240675834E-2,null,null,10.833333333333329]
[{"$f":"runoff!A70","v":"11:00:00"},{"$f":"浸透計算!C71","v":4.4400000000000002E-2},{"$f":"runoff!$B$1","v":{"$error":"#REF!"}},0.2120372126816589,3.2394499885456479E-2,null,null,{"$f":"H68+1/6","v":10.999999999999995}]
[{"$f":"runoff!A71","v":"11:10:00"},{"$f":"浸透計算!C72","v":5.0200000000000002E-2},{"$f":"runoff!$B$1","v":{"$error":"#REF!"}},0.2241543481469255,3.5203072269373865E-2,null,null,11.166666666666661]
[{"$f":"runoff!A72","v":"11:20:00"},{"$f":"浸透計算!C73","v":5.8000000000000003E-2},{"$f":"runoff!$B$1","v":{"$error":"#REF!"}},0.2390298723311938,3.8769534195107445E-2,null,null,11.333333333333327]
[{"$f":"runoff!A73","v":"11:30:00"},{"$f":"浸透計算!C74","v":6.9599999999999995E-2},{"$f":"runoff!$B$1","v":{"$error":"#REF!"}},0.25896031045723683,4.179359160344627E-2,null,null,11.499999999999993]
[{"$f":"runoff!A74","v":"11:40:00"},{"$f":"浸透計算!C75","v":8.8999999999999996E-2},{"$f":"runoff!$B$1","v":{"$error":"#REF!"}},0.28971264035226757,4.3163177608777789E-2,null,null,11.666666666666659]
[{"$f":"runoff!A75","v":"11:50:00"},{"$f":"浸透計算!C76","v":0.129},{"$f":"runoff!$B$1","v":{"$error":"#REF!"}},0.34021435585413934,4.5407776895293336E-2,null,null,11.833333333333325]
[{"$f":"runoff!A76","v":"12:00:00"},{"$f":"浸透計算!C77","v":0.31119999999999998},{"$f":"runoff!$B$1","v":{"$error":"#REF!"}},0.42765553387793837,5.134045624503867E-2,null,null,11.999999999999991]
[{"$f":"runoff!A77","v":"12:10:00"},{"$f":"浸透計算!C78","v":0.17399999999999999},{"$f":"runoff!$B$1","v":{"$error":"#REF!"}},0.65957266134754455,6.7267793663774111E-2,null,null,12.166666666666657]
[{"$f":"runoff!A78","v":"12:20:00"},{"$f":"浸透計算!C79","v":0.1046},{"$f":"runoff!$B$1","v":{"$error":"#REF!"}},0.90280001428091505,8.0656943601952177E-2,null,null,12.333333333333323]
[{"$f":"runoff!A79","v":"12:30:00"},{"$f":"浸透計算!C80","v":7.7799999999999994E-2},{"$f":"runoff!$B$1","v":{"$error":"#REF!"}},0.98447583966381014,8.4685911867099853E-2,null,null,12.499999999999989]
[{"$f":"runoff!A80","v":"12:40:00"},{"$f":"浸透計算!C81","v":6.3200000000000006E-2},{"$f":"runoff!$B$1","v":{"$error":"#REF!"}},0.99355447375612371,8.5125048858225222E-2,null,null,12.666666666666655]
[{"$f":"runoff!A81","v":"12:50:00"},{"$f":"浸透計算!C82","v":5.3800000000000001E-2},{"$f":"runoff!$B$1","v":{"$error":"#REF!"}},0.97317232386864683,8.4138198985742818E-2,null,null,12.833333333333321]
[{"$f":"runoff!A82","v":"13:00:00"},{"$f":"浸透計算!C83","v":4.7199999999999999E-2},{"$f":"runoff!$B$1","v":{"$error":"#REF!"}},0.93745138257629901,8.239483960631272E-2,null,null,12.999999999999988]
[{"$f":"runoff!A83","v":"13:10:00"},{"$f":"浸透計算!C84","v":4.2200000000000001E-2},{"$f":"runoff!$B$1","v":{"$error":"#REF!"}},0.89305471283764726,8.0168542431284351E-2,null,null,13.166666666666654]
[{"$f":"runoff!A84","v":"13:20:00"},{"$f":"浸透計算!C85","v":3.8199999999999998E-2},{"$f":"runoff!$B$1","v":{"$error":"#REF!"}},0.84373398254548815,7.762287024050965E-2,null,null,13.33333333333332]
[{"$f":"runoff!A85","v":"13:30:00"},{"$f":"浸透計算!C86","v":3.5200000000000002E-2},{"$f":"runoff!$B$1","v":{"$error":"#REF!"}},0.79176207250193809,7.4844845019879647E-2,null,null,13.499999999999986]
[{"$f":"runoff!A86","v":"13:40:00"},{"$f":"浸透計算!C87","v":3.2599999999999997E-2},{"$f":"runoff!$B$1","v":{"$error":"#REF!"}},0.73886600859133544,7.1904363602822832E-2,null,null,13.666666666666652]
[{"$f":"runoff!A87","v":"13:50:00"},{"$f":"浸透計算!C88","v":3.04E-2},{"$f":"runoff!$B$1","v":{"$error":"#REF!"}},0.68624223232572157,6.8867272818828304E-2,null,null,13.833333333333318]
[{"$f":"runoff!A88","v":"14:00:00"},{"$f":"浸透計算!C89","v":2.86E-2},{"$f":"runoff!$B$1","v":{"$error":"#REF!"}},0.6346057561578039,6.5735307467350818E-2,null,null,13.999999999999984]
[{"$f":"runoff!A89","v":"14:10:00"},{"$f":"浸透計算!C90","v":2.7E-2},{"$f":"runoff!$B$1","v":{"$error":"#REF!"}},0.58462329640832389,6.2573703385261442E-2,null,null,14.16666666666665]
[{"$f":"runoff!A90","v":"14:20:00"},{"$f":"浸透計算!C91","v":2.5600000000000001E-2},{"$f":"runoff!$B$1","v":{"$error":"#REF!"}},0.53677370764742349,5.937772636318709E-2,null,null,14.333333333333316]
[{"$f":"runoff!A91","v":"14:30:00"},{"$f":"浸透計算!C92","v":2.4400000000000002E-2},{"$f":"runoff!$B$1","v":{"$error":"#REF!"}},0.49137372558476494,5.6176915430366119E-2,null,null,14.499999999999982]
[{"$f":"runoff!A92","v":"14:40:00"},{"$f":"浸透計算!C93","v":2.3199999999999998E-2},{"$f":"runoff!$B$1","v":{"$error":"#REF!"}},0.44870588180008542,5.2989161284389533E-2,null,null,14.666666666666648]
[{"$f":"runoff!A93","v":"14:50:00"},{"$f":"浸透計算!C94","v":2.24E-2},{"$f":"runoff!$B$1","v":{"$error":"#REF!"}},0.40887937730922047,4.98369249429432E-2,null,null,14.833333333333314]
[{"$f":"runoff!A94","v":"15:00:00"},{"$f":"浸透計算!C95","v":2.1399999999999999E-2},{"$f":"runoff!$B$1","v":{"$error":"#REF!"}},0.37205495305719682,4.6826276686529555E-2,null,null,14.99999999999998]
[{"$f":"runoff!A95","v":"15:10:00"},{"$f":"浸透計算!C96","v":2.06E-2},{"$f":"runoff!$B$1","v":{"$error":"#REF!"}},0.33722453337860797,4.5271905267780285E-2,null,null,15.166666666666647]
[{"$f":"runoff!A96","v":"15:20:00"},{"$f":"浸透計算!C97","v":1.9800000000000002E-2},{"$f":"runoff!$B$1","v":{"$error":"#REF!"}},0.30330656363994296,4.3761012769835198E-2,null,null,15.333333333333313]
[{"$f":"runoff!A97","v":"15:30:00"},{"$f":"浸透計算!C98","v":1.9199999999999998E-2},{"$f":"runoff!$B$1","v":{"$error":"#REF!"}},0.27037864525463284,4.229903405779481E-2,null,null,15.499999999999979]
[{"$f":"runoff!A98","v":"15:40:00"},{"$f":"浸透計算!C99","v":1.8599999999999998E-2},{"$f":"runoff!$B$1","v":{"$error":"#REF!"}},0.2398906692609131,3.8977625986829939E-2,null,null,15.666666666666645]
[{"$f":"runoff!A99","v":"15:50:00"},{"$f":"浸透計算!C100","v":1.7999999999999999E-2},{"$f":"runoff!$B$1","v":{"$error":"#REF!"}},0.21517384276276608,3.3096373423933886E-2,null,null,15.833333333333311]
[{"$f":"runoff!A100","v":"16:00:00"},{"$f":"浸透計算!C101","v":1.7399999999999999E-2},{"$f":"runoff!$B$1","v":{"$error":"#REF!"}},0.19681489288629991,2.8961370404765856E-2,null,null,15.999999999999977]
[{"$f":"runoff!A101","v":"16:10:00"},{"$f":"浸透計算!C102","v":1.7000000000000001E-2},{"$f":"runoff!$B$1","v":{"$error":"#REF!"}},0.1827671509179753,2.5918165124644302E-2,null,null,16.166666666666643]
[{"$f":"runoff!A102","v":"16:20:00"},{"$f":"浸透計算!C103","v":1.66E-2},{"$f":"runoff!$B$1","v":{"$error":"#REF!"}},0.1718346802415828,2.3641527546619957E-2,null,null,16.333333333333311]
[{"$f":"runoff!A103","v":"16:30:00"},{"$f":"浸透計算!C104","v":1.6E-2},{"$f":"runoff!$B$1","v":{"$error":"#REF!"}},0.16324028223942436,2.1876037683039733E-2,null,null,16.499999999999979]
[{"$f":"runoff!A104","v":"16:40:00"},{"$f":"浸透計算!C105","v":1.5599999999999999E-2},{"$f":"runoff!$B$1","v":{"$error":"#REF!"}},0.15619595082356008,2.0492101880292053E-2,null,null,16.666666666666647]
[{"$f":"runoff!A105","v":"16:50:00"},{"$f":"浸透計算!C106","v":1.54E-2},{"$f":"runoff!$B$1","v":{"$error":"#REF!"}},0.15026890052023967,1.9326741206978908E-2,null,null,16.833333333333314]
[{"$f":"runoff!A106","v":"17:00:00"},{"$f":"浸透計算!C107","v":1.4999999999999999E-2},{"$f":"runoff!$B$1","v":{"$error":"#REF!"}},0.14542334184761466,1.8392433485727784E-2,null,null,16.999999999999982]
[{"$f":"runoff!A107","v":"17:10:00"},{"$f":"浸透計算!C108","v":1.46E-2},{"$f":"runoff!$B$1","v":{"$error":"#REF!"}},0.14136629923899421,1.7633332264892554E-2,null,null,17.16666666666665]
[{"$f":"runoff!A108","v":"17:20:00"},{"$f":"浸透計算!C109","v":1.4200000000000001E-2},{"$f":"runoff!$B$1","v":{"$error":"#REF!"}},0.13777070635427321,1.6952556535253908E-2,null,null,17.333333333333318]
[{"$f":"runoff!A109","v":"17:30:00"},{"$f":"浸透計算!C110","v":1.4E-2},{"$f":"runoff!$B$1","v":{"$error":"#REF!"}},0.13450937604342003,1.6369821495795828E-2,null,null,17.499999999999986]
[{"$f":"runoff!A110","v":"17:40:00"},{"$f":"浸透計算!C111","v":1.3599999999999999E-2},{"$f":"runoff!$B$1","v":{"$error":"#REF!"}},0.13161913713162321,1.5837976461895793E-2,null,null,17.666666666666654]
[{"$f":"runoff!A111","v":"17:50:00"},{"$f":"浸透計算!C112","v":1.34E-2},{"$f":"runoff!$B$1","v":{"$error":"#REF!"}},0.12901186585624688,1.5377439706626025E-2,null,null,17.833333333333321]
[{"$f":"runoff!A112","v":"18:00:00"},{"$f":"浸透計算!C113","v":1.32E-2},{"$f":"runoff!$B$1","v":{"$error":"#REF!"}},0.12661727109287019,1.494306503192302E-2,null,null,17.999999999999989]
[{"$f":"runoff!A113","v":"18:10:00"},{"$f":"浸透計算!C114","v":1.2999999999999999E-2},{"$f":"runoff!$B$1","v":{"$error":"#REF!"}},0.12451136647434159,1.4577122705769956E-2,null,null,18.166666666666657]
[{"$f":"runoff!A114","v":"18:20:00"},{"$f":"浸透計算!C115","v":1.26E-2},{"$f":"runoff!$B$1","v":{"$error":"#REF!"}},0.12262727785201163,1.4235480183860925E-2,null,null,18.333333333333325]
[{"$f":"runoff!A115","v":"18:30:00"},{"$f":"浸透計算!C116","v":1.24E-2},{"$f":"runoff!$B$1","v":{"$error":"#REF!"}},0.12077084993438483,1.3938766528581576E-2,null,null,18.499999999999993]
[{"$f":"runoff!A116","v":"18:40:00"},{"$f":"浸透計算!C117","v":1.2200000000000001E-2},{"$f":"runoff!$B$1","v":{"$error":"#REF!"}},0.11893840337924719,1.360222602787595E-2,null,null,18.666666666666661]
[{"$f":"runoff!A117","v":"18:50:00"},{"$f":"浸透計算!C118","v":1.2E-2},{"$f":"runoff!$B$1","v":{"$error":"#REF!"}},0.11727092503898533,1.3310010603953835E-2,null,null,18.833333333333329]
[{"$f":"runoff!A118","v":"19:00:00"},{"$f":"浸透計算!C119","v":1.18E-2},{"$f":"runoff!$B$1","v":{"$error":"#REF!"}},0.11570512694407774,1.306122942098468E-2,null,null,18.999999999999996]
[{"$f":"runoff!A119","v":"19:10:00"},{"$f":"浸透計算!C120","v":1.1599999999999999E-2},{"$f":"runoff!$B$1","v":{"$error":"#REF!"}},0.11420855438459313,1.2814017861500672E-2,null,null,19.166666666666664]
[{"$f":"runoff!A120","v":"19:20:00"},{"$f":"浸透計算!C121","v":1.14E-2},{"$f":"runoff!$B$1","v":{"$error":"#REF!"}},0.11277893624729324,1.2568385955555157E-2,null,null,19.333333333333332]
[{"$f":"runoff!A121","v":"19:30:00"},{"$f":"浸透計算!C122","v":1.12E-2},{"$f":"runoff!$B$1","v":{"$error":"#REF!"}},0.11141398681205397,1.2324343927976636E-2,null,null,19.5]
[{"$f":"runoff!A122","v":"19:40:00"},{"$f":"浸透計算!C123","v":1.0999999999999999E-2},{"$f":"runoff!$B$1","v":{"$error":"#REF!"}},0.11008234630313952,1.2122197577718052E-2,null,null,19.666666666666668]
[{"$f":"runoff!A123","v":"19:50:00"},{"$f":"浸透計算!C124","v":1.0999999999999999E-2},{"$f":"runoff!$B$1","v":{"$error":"#REF!"}},0.10876744840984637,1.1901127500981792E-2,null,null,19.833333333333336]
[{"$f":"runoff!A124","v":"20:00:00"},{"$f":"浸透計算!C125","v":1.0800000000000001E-2},{"$f":"runoff!$B$1","v":{"$error":"#REF!"}},0.10759745489183521,1.1721263510660331E-2,null,null,20.000000000000004]
[{"$f":"runoff!A125","v":"20:10:00"},{"$f":"浸透計算!C126","v":1.06E-2},{"$f":"runoff!$B$1","v":{"$error":"#REF!"}},0.10654198971447322,1.1542314868614963E-2,null,null,20.166666666666671]
[{"$f":"runoff!A126","v":"20:20:00"},{"$f":"浸透計算!C127","v":1.04E-2},{"$f":"runoff!$B$1","v":{"$error":"#REF!"}},0.10545549850069205,1.1364286281161613E-2,null,null,20.333333333333339]
[{"$f":"runoff!A127","v":"20:30:00"},{"$f":"浸透計算!C128","v":1.04E-2},{"$f":"runoff!$B$1","v":{"$error":"#REF!"}},0.10433665080180232,1.118718252796547E-2,null,null,20.500000000000007]
[{"$f":"runoff!A128","v":"20:40:00"},{"$f":"浸透計算!C129","v":1.0200000000000001E-2},{"$f":"runoff!$B$1","v":{"$error":"#REF!"}},0.10332833999031305,1.1011008463966342E-2,null,null,20.666666666666675]
[{"$f":"runoff!A129","v":"20:50:00"},{"$f":"浸透計算!C130","v":0.01},{"$f":"runoff!$B$1","v":{"$error":"#REF!"}},0.10240119679904831,1.0874630094587411E-2,null,null,20.833333333333343]
[{"$f":"runoff!A130","v":"21:00:00"},{"$f":"浸透計算!C131","v":0.01},{"$f":"runoff!$B$1","v":{"$error":"#REF!"}},0.10140978973054934,1.0700121040397836E-2,null,null,21.000000000000011]
[{"$f":"runoff!A131","v":"21:10:00"},{"$f":"浸透計算!C132","v":9.7999999999999997E-3},{"$f":"runoff!$B$1","v":{"$error":"#REF!"}},0.10049741118961904,1.0565043869692193E-2,null,null,21.166666666666679]
[{"$f":"runoff!A132","v":"21:20:00"},{"$f":"浸透計算!C133","v":9.5999999999999992E-3},{"$f":"runoff!$B$1","v":{"$error":"#REF!"}},9.9635211332870108E-2,1.0430539931666332E-2,null,null,21.333333333333346]
[{"$f":"runoff!A133","v":"21:30:00"},{"$f":"浸透計算!C134","v":9.5999999999999992E-3},{"$f":"runoff!$B$1","v":{"$error":"#REF!"}},9.8691894402534661E-2,1.027752621173215E-2,null,null,21.500000000000014]
[{"$f":"runoff!A134","v":"21:40:00"},{"$f":"浸透計算!C135","v":9.4000000000000004E-3},{"$f":"runoff!$B$1","v":{"$error":"#REF!"}},9.7810799346906258E-2,1.014425893207257E-2,null,null,{"$f":"H132+1/6","v":21.666666666666682}]
[{"$f":"runoff!A135","v":"21:50:00"},{"$f":"浸透計算!C136","v":9.4000000000000004E-3},{"$f":"runoff!$B$1","v":{"$error":"#REF!"}},9.6977266917028279E-2,1.0011572704024902E-2,null,null,21.83333333333335]
[{"$f":"runoff!A136","v":"22:00:00"},{"$f":"浸透計算!C137","v":9.1999999999999998E-3},{"$f":"runoff!$B$1","v":{"$error":"#REF!"}},9.6176873579432137E-2,9.8983060574417362E-3,null,null,22.000000000000018]
[{"$f":"runoff!A137","v":"22:10:00"},{"$f":"浸透計算!C138","v":9.1999999999999998E-3},{"$f":"runoff!$B$1","v":{"$error":"#REF!"}},9.5395304442553508E-2,9.7854698123633205E-3,null,null,22.166666666666686]
[{"$f":"runoff!A138","v":"22:20:00"},{"$f":"浸透計算!C139","v":8.9999999999999993E-3},{"$f":"runoff!$B$1","v":{"$error":"#REF!"}},9.4631937546511183E-2,9.6730656168153538E-3,null,null,22.333333333333353]
[{"$f":"runoff!A139","v":"22:30:00"},{"$f":"浸透計算!C140","v":8.9999999999999993E-3},{"$f":"runoff!$B$1","v":{"$error":"#REF!"}},9.3899576036948346E-2,9.5424756764451238E-3,null,null,22.500000000000021]
[{"$f":"runoff!A140","v":"22:40:00"},{"$f":"浸透計算!C141","v":8.8000000000000005E-3},{"$f":"runoff!$B$1","v":{"$error":"#REF!"}},9.318416564852286E-2,9.4495600621715536E-3,null,null,22.666666666666689]
[{"$f":"runoff!A141","v":"22:50:00"},{"$f":"浸透計算!C142","v":8.8000000000000005E-3},{"$f":"runoff!$B$1","v":{"$error":"#REF!"}},9.2471649669066389E-2,9.338462096008077E-3,null,null,22.833333333333357]
[{"$f":"runoff!A142","v":"23:00:00"},{"$f":"浸透計算!C143","v":8.6E-3},{"$f":"runoff!$B$1","v":{"$error":"#REF!"}},9.1774823903186156E-2,9.2278029660125271E-3,null,null,23.000000000000025]
[{"$f":"runoff!A143","v":"23:10:00"},{"$f":"浸透計算!C144","v":8.6E-3},{"$f":"runoff!$B$1","v":{"$error":"#REF!"}},9.1093054154082961E-2,9.1175844194105703E-3,null,null,23.166666666666693]
[{"$f":"runoff!A144","v":"23:20:00"},{"$f":"浸透計算!C145","v":8.3999999999999995E-3},{"$f":"runoff!$B$1","v":{"$error":"#REF!"}},9.0425703689749337E-2,9.007808224465402E-3,null,null,23.333333333333361]
[{"$f":"runoff!A145","v":"23:30:00"},{"$f":"浸透計算!C146","v":8.3999999999999995E-3},{"$f":"runoff!$B$1","v":{"$error":"#REF!"}},8.9745887137244379E-2,8.9348707283414801E-3,null,null,23.500000000000028]
[{"$f":"runoff!A146","v":"23:40:00"},{"$f":"浸透計算!C147","v":8.2000000000000007E-3},{"$f":"runoff!$B$1","v":{"$error":"#REF!"}},8.9053069947966315E-2,8.8258357741240936E-3,null,null,23.666666666666696]
[{"$f":"runoff!A147","v":"23:50:00"},{"$f":"浸透計算!C148","v":8.2000000000000007E-3},{"$f":"runoff!$B$1","v":{"$error":"#REF!"}},8.8372961462018063E-2,8.7172479930574982E-3,null,null,23.833333333333364]
[{"$f":"runoff!A148","v":1},{"$f":"浸透計算!C149","v":8.2000000000000007E-3},{"$f":"runoff!$B$1","v":{"$error":"#REF!"}},8.7704915384612975E-2,8.6091092342775559E-3,null,null,24.000000000000032]
[null,null,null,8.7166663214081105E-2,8.5372671088599777E-3]

{"sheet":"調節計算（自然調節方式）","index":6,"n_rows":151,"n_cols":8,"rows_kept":151,"cut":false,"hidden":true,"merged":[]}
[]
[null,null,null,null,{"$f":"MAX(E7:E151)","v":7.397032644480878E-3}]
[]
[]
[]
["時刻","行為後流入量","浸透考慮後流入量","許容放流量","調節後放流量","調整池水位"]
["00:00:00",0,0,3.6499999999999998E-2,0,0,0,0]
["00:10:00",8.2000000000000007E-3,8.2000000000000007E-3,3.6499999999999998E-2,0,1.9528459156942131E-2,2.4600000000000004,{"$f":"H7+1/6","v":0.16666666666666666}]
["00:20:00",8.2000000000000007E-3,8.2000000000000007E-3,3.6499999999999998E-2,1.2569877483742287E-3,5.5591836750716307E-2,7.0029036754877332,{"$f":"H8+1/6","v":0.33333333333333331}]
["00:30:00",8.3999999999999995E-3,8.3999999999999995E-3,3.6499999999999998E-2,1.9554284559824067E-3,8.7474627404784816E-2,11.019178814180743,0.5]
["00:40:00",8.3999999999999995E-3,8.3999999999999995E-3,3.6499999999999998E-2,2.2223320382654997E-3,0.11753473577761665,14.80585066590637,0.66666666666666663]
["00:50:00",8.6E-3,8.6E-3,3.6499999999999998E-2,2.5646785902052141E-3,0.14662020701250422,18.469747477365157,0.83333333333333326]
["01:00:00",8.6E-3,8.6E-3,3.6499999999999998E-2,2.8568000598787886E-3,0.17467098422116342,22.003303882339956,0.99999999999999989]
["01:10:00",8.6E-3,8.6E-3,3.6499999999999998E-2,3.1095487244320761E-3,0.20142414262956815,25.373399247046699,1.1666666666666665]
["01:20:00",8.8000000000000005E-3,8.8000000000000005E-3,3.6499999999999998E-2,3.3380909270577189E-3,0.22750740137810402,28.659107351599761,1.3333333333333333]
["01:30:00",8.8000000000000005E-3,8.8000000000000005E-3,3.6499999999999998E-2,3.5461379134526082E-3,0.25302721838093722,31.873838699446665,1.5]
["01:40:00",8.9999999999999993E-3,8.9999999999999993E-3,3.6499999999999998E-2,3.7407974547179991E-3,0.27806428585373888,35.027758088995483,1.6666666666666667]
["01:50:00",8.9999999999999993E-3,8.9999999999999993E-3,3.6499999999999998E-2,3.9223072237368995E-3,0.30268180269476075,38.128826685459011,1.8333333333333335]
["02:00:00",9.1999999999999998E-3,9.1999999999999998E-3,3.6499999999999998E-2,4.092417278539426E-3,0.32693823398250466,41.184409334776113,2]
["02:10:00",9.1999999999999998E-3,9.1999999999999998E-3,3.6499999999999998E-2,4.2541148125168297E-3,0.35088076293926518,44.200449707459235,2.1666666666666665]
["02:20:00",9.4000000000000004E-3,9.4000000000000004E-3,3.6499999999999998E-2,4.4083256375340336E-3,0.37454725388937027,47.181717572443972,2.333333333333333]
["02:30:00",9.5999999999999992E-3,9.5999999999999992E-3,3.6499999999999998E-2,4.5588319318578636E-3,0.39844066286914664,50.191570301626399,2.4999999999999996]
["02:40:00",9.5999999999999992E-3,9.5999999999999992E-3,3.6499999999999998E-2,4.7030618400560756E-3,0.42210845574384548,53.173002170052214,2.6666666666666661]
["02:50:00",9.7999999999999997E-3,9.7999999999999997E-3,3.6499999999999998E-2,4.8415763127244065E-3,0.4455791912694933,56.129610724218068,2.8333333333333326]
["03:00:00",9.7999999999999997E-3,9.7999999999999997E-3,3.6499999999999998E-2,4.9755447871077723E-3,0.46887730724988819,59.064474394268416,2.9999999999999991]
["03:10:00",0.01,0.01,3.6499999999999998E-2,5.1053251494038486E-3,0.4920236041384054,61.980213413314928,3.1666666666666656]
["03:20:00",1.0200000000000001E-2,1.0200000000000001E-2,3.6499999999999998E-2,5.2332031683929355E-3,0.51550889035465508,64.938654917975896,3.3333333333333321]
["03:30:00",1.0200000000000001E-2,1.0200000000000001E-2,3.6499999999999998E-2,5.3580300411830732E-3,0.53886865884816304,67.881284955103098,3.4999999999999987]
["03:40:00",1.04E-2,1.04E-2,3.6499999999999998E-2,5.4787576032199478E-3,0.562119938570947,70.810248661782197,3.6666666666666652]
["03:50:00",1.06E-2,1.06E-2,3.6499999999999998E-2,5.5993416544541314E-3,0.58574913776676962,73.78681888447997,3.8333333333333317]
["04:00:00",1.06E-2,1.06E-2,3.6499999999999998E-2,5.7161785734743762E-3,0.60928921819561344,76.752162816101418,3.9999999999999982]
["04:10:00",1.0800000000000001E-2,1.0800000000000001E-2,3.6499999999999998E-2,5.8306747469216609E-3,0.63275467825658971,79.708106819982603,4.1666666666666652]
["04:20:00",1.0999999999999999E-2,1.0999999999999999E-2,3.6499999999999998E-2,5.9452823028664529E-3,0.65662713110300996,82.71531970504617,4.3333333333333321]
["04:30:00",1.12E-2,1.12E-2,3.6499999999999998E-2,6.0594267607627346E-3,0.68090741435228552,85.77390698595741,4.4999999999999991]
["04:40:00",1.14E-2,1.14E-2,3.6499999999999998E-2,6.17313380943598E-3,0.70559767257996187,88.884138814897796,4.6666666666666661]
["04:50:00",1.1599999999999999E-2,1.1599999999999999E-2,3.6499999999999998E-2,6.2869748309660198E-3,0.73069862842563471,92.046106222777198,4.833333333333333]
["05:00:00",1.18E-2,1.18E-2,3.6499999999999998E-2,6.4004047819713975E-3,0.75621094180277815,95.259892338895966,5]
["05:10:00",1.2E-2,1.2E-2,3.6499999999999998E-2,6.5139736994256504E-3,0.78213526073253048,98.525578794476857,5.166666666666667]
["05:20:00",1.2200000000000001E-2,1.2200000000000001E-2,3.6499999999999998E-2,6.6266354138777061E-3,0.808473414785154,101.84339606048584,5.3333333333333339]
["05:30:00",1.24E-2,1.24E-2,3.6499999999999998E-2,6.7394572182002798E-3,0.83522718322507306,105.21356827086245,5.5000000000000009]
["05:40:00",1.26E-2,1.26E-2,3.6499999999999998E-2,6.851928752937309E-3,0.86239701896897014,108.63615247952117,5.6666666666666679]
["05:50:00",1.2800000000000001E-2,1.2800000000000001E-2,3.6499999999999998E-2,6.9645613509072375E-3,0.88998337261544669,112.11120544836781,5.8333333333333348]
["06:00:00",1.2999999999999999E-2,1.2999999999999999E-2,3.6499999999999998E-2,7.0773473223812661E-3,0.91798549532731011,115.63863284638126,6.0000000000000018]
["06:10:00",1.32E-2,1.32E-2,3.6499999999999998E-2,7.1898006081230941E-3,0.94640381414011232,119.21848846722995,6.1666666666666687]
["06:20:00",1.3599999999999999E-2,1.3599999999999999E-2,3.6499999999999998E-2,7.3038223510190356E-3,0.975711689922103,122.91040157948731,6.3333333333333357]
["06:30:00",1.38E-2,1.38E-2,3.6499999999999998E-2,7.397032644480878E-3,1,125.97,6.5000000000000027]
["06:40:00",1.4200000000000001E-2,1.4200000000000001E-2,3.6499999999999998E-2,7.397032644480878E-3,1,125.97,6.6666666666666696]
["06:50:00",1.44E-2,1.44E-2,3.6499999999999998E-2,7.397032644480878E-3,1,125.97,6.8333333333333366]
["07:00:00",1.4800000000000001E-2,1.4800000000000001E-2,3.6499999999999998E-2,7.397032644480878E-3,1,125.97,7.0000000000000036]
["07:10:00",1.52E-2,1.52E-2,3.6499999999999998E-2,7.397032644480878E-3,1,125.97,7.1666666666666705]
["07:20:00",1.54E-2,1.54E-2,3.6499999999999998E-2,7.397032644480878E-3,1,125.97,7.3333333333333375]
["07:30:00",1.5800000000000002E-2,1.5800000000000002E-2,3.6499999999999998E-2,7.397032644480878E-3,1,125.97,7.5000000000000044]
["07:40:00",1.6400000000000001E-2,1.6400000000000001E-2,3.6499999999999998E-2,7.397032644480878E-3,1,125.97,7.6666666666666714]
["07:50:00",1.6799999999999999E-2,1.6799999999999999E-2,3.6499999999999998E-2,7.397032644480878E-3,1,125.97,7.8333333333333384]
["08:00:00",1.72E-2,1.72E-2,3.6499999999999998E-2,7.397032644480878E-3,1,125.97,8.0000000000000053]
["08:10:00",1.78E-2,1.78E-2,3.6499999999999998E-2,7.397032644480878E-3,1,125.97,8.1666666666666714]
["08:20:00",1.8200000000000001E-2,1.8200000000000001E-2,3.6499999999999998E-2,7.397032644480878E-3,1,125.97,8.3333333333333375]
["08:30:00",1.8800000000000001E-2,1.8800000000000001E-2,3.6499999999999998E-2,7.397032644480878E-3,1,125.97,8.5000000000000036]
["08:40:00",1.9599999999999999E-2,1.9599999999999999E-2,3.6499999999999998E-2,7.397032644480878E-3,1,125.97,8.6666666666666696]
["08:50:00",2.0199999999999999E-2,2.0199999999999999E-2,3.6499999999999998E-2,7.397032644480878E-3,1,125.97,8.8333333333333357]
["09:00:00",2.1000000000000001E-2,2.1000000000000001E-2,3.6499999999999998E-2,7.397032644480878E-3,1,125.97,9.0000000000000018]
["09:10:00",2.18E-2,2.18E-2,3.6499999999999998E-2,7.397032644480878E-3,1,125.97,9.1666666666666679]
["09:20:00",2.2800000000000001E-2,2.2800000000000001E-2,3.6499999999999998E-2,7.397032644480878E-3,1,125.97,9.3333333333333339]
["09:30:00",2.3800000000000002E-2,2.3800000000000002E-2,3.6499999999999998E-2,7.397032644480878E-3,1,125.97,9.5]
["09:40:00",2.5000000000000001E-2,2.5000000000000001E-2,3.6499999999999998E-2,7.397032644480878E-3,1,125.97,9.6666666666666661]
["09:50:00",2.6200000000000001E-2,2.6200000000000001E-2,3.6499999999999998E-2,7.397032644480878E-3,1,125.97,9.8333333333333321]
["10:00:00",2.7799999999999998E-2,2.7799999999999998E-2,3.6499999999999998E-2,7.397032644480878E-3,1,125.97,9.9999999999999982]
["10:10:00",2.9399999999999999E-2,2.9399999999999999E-2,3.6499999999999998E-2,7.397032644480878E-3,1,125.97,10.166666666666664]
["10:20:00",3.1399999999999997E-2,3.1399999999999997E-2,3.6499999999999998E-2,7.397032644480878E-3,1,125.97,10.33333333333333]
["10:30:00",3.3799999999999997E-2,3.3799999999999997E-2,3.6499999999999998E-2,7.397032644480878E-3,1,125.97,10.499999999999996]
["10:40:00",3.6600000000000001E-2,3.6600000000000001E-2,3.6499999999999998E-2,7.397032644480878E-3,1,125.97,10.666666666666663]
["10:50:00",0.04,0.04,3.6499999999999998E-2,7.397032644480878E-3,1,125.97,10.833333333333329]
["11:00:00",4.4400000000000002E-2,4.4400000000000002E-2,3.6499999999999998E-2,7.397032644480878E-3,1,125.97,{"$f":"H72+1/6","v":10.999999999999995}]
["11:10:00",5.0200000000000002E-2,5.0200000000000002E-2,3.6499999999999998E-2,7.397032644480878E-3,1,125.97,11.166666666666661]
["11:20:00",5.8000000000000003E-2,5.8000000000000003E-2,3.6499999999999998E-2,7.397032644480878E-3,1,125.97,11.333333333333327]
["11:30:00",6.9599999999999995E-2,6.9599999999999995E-2,3.6499999999999998E-2,7.397032644480878E-3,1,125.97,11.499999999999993]
["11:40:00",8.8999999999999996E-2,8.8999999999999996E-2,3.6499999999999998E-2,7.397032644480878E-3,1,125.97,11.666666666666659]
["11:50:00",0.129,0.129,3.6499999999999998E-2,7.397032644480878E-3,1,125.97,11.833333333333325]
["12:00:00",0.31119999999999998,0.31119999999999998,3.6499999999999998E-2,7.397032644480878E-3,1,125.97,11.999999999999991]
["12:10:00",0.17399999999999999,0.17399999999999999,3.6499999999999998E-2,7.397032644480878E-3,1,125.97,12.166666666666657]
["12:20:00",0.1046,0.1046,3.6499999999999998E-2,7.397032644480878E-3,1,125.97,12.333333333333323]
["12:30:00",7.7799999999999994E-2,7.7799999999999994E-2,3.6499999999999998E-2,7.397032644480878E-3,1,125.97,12.499999999999989]
["12:40:00",6.3200000000000006E-2,6.3200000000000006E-2,3.6499999999999998E-2,7.397032644480878E-3,1,125.97,12.666666666666655]
["12:50:00",5.3800000000000001E-2,5.3800000000000001E-2,3.6499999999999998E-2,7.397032644480878E-3,1,125.97,12.833333333333321]
["13:00:00",4.7199999999999999E-2,4.7199999999999999E-2,3.6499999999999998E-2,7.397032644480878E-3,1,125.97,12.999999999999988]
["13:10:00",4.2200000000000001E-2,4.2200000000000001E-2,3.6499999999999998E-2,7.397032644480878E-3,1,125.97,13.166666666666654]
["13:20:00",3.8199999999999998E-2,3.8199999999999998E-2,3.6499999999999998E-2,7.397032644480878E-3,1,125.97,13.33333333333332]
["13:30:00",3.5200000000000002E-2,3.5200000000000002E-2,3.6499999999999998E-2,7.397032644480878E-3,1,125.97,13.499999999999986]
["13:40:00",3.2599999999999997E-2,3.2599999999999997E-2,3.6499999999999998E-2,7.397032644480878E-3,1,125.97,13.666666666666652]
["13:50:00",3.04E-2,3.04E-2,3.6499999999999998E-2,7.397032644480878E-3,1,125.97,13.833333333333318]
["14:00:00",2.86E-2,2.86E-2,3.6499999999999998E-2,7.397032644480878E-3,1,125.97,13.999999999999984]
["14:10:00",2.7E-2,2.7E-2,3.6499999999999998E-2,7.397032644480878E-3,1,125.97,14.16666666666665]
["14:20:00",2.5600000000000001E-2,2.5600000000000001E-2,3.6499999999999998E-2,7.397032644480878E-3,1,125.97,14.333333333333316]
["14:30:00",2.4400000000000002E-2,2.4400000000000002E-2,3.6499999999999998E-2,7.397032644480878E-3,1,125.97,14.499999999999982]
["14:40:00",2.3199999999999998E-2,2.3199999999999998E-2,3.6499999999999998E-2,7.397032644480878E-3,1,125.97,14.666666666666648]
["14:50:00",2.24E-2,2.24E-2,3.6499999999999998E-2,7.397032644480878E-3,1,125.97,14.833333333333314]
["15:00:00",2.1399999999999999E-2,2.1399999999999999E-2,3.6499999999999998E-2,7.397032644480878E-3,1,125.97,14.99999999999998]
["15:10:00",2.06E-2,2.06E-2,3.6499999999999998E-2,7.397032644480878E-3,1,125.97,15.166666666666647]
["15:20:00",1.9800000000000002E-2,1.9800000000000002E-2,3.6499999999999998E-2,7.397032644480878E-3,1,125.97,15.333333333333313]
["15:30:00",1.9199999999999998E-2,1.9199999999999998E-2,3.6499999999999998E-2,7.397032644480878E-3,1,125.97,15.499999999999979]
["15:40:00",1.8599999999999998E-2,1.8599999999999998E-2,3.6499999999999998E-2,7.397032644480878E-3,1,125.97,15.666666666666645]
["15:50:00",1.7999999999999999E-2,1.7999999999999999E-2,3.6499999999999998E-2,7.397032644480878E-3,1,125.97,15.833333333333311]
["16:00:00",1.7399999999999999E-2,1.7399999999999999E-2,3.6499999999999998E-2,7.397032644480878E-3,1,125.97,15.999999999999977]
["16:10:00",1.7000000000000001E-2,1.7000000000000001E-2,3.6499999999999998E-2,7.397032644480878E-3,1,125.97,16.166666666666643]
["16:20:00",1.66E-2,1.66E-2,3.6499999999999998E-2,7.397032644480878E-3,1,125.97,16.333333333333311]
["16:30:00",1.6E-2,1.6E-2,3.6499999999999998E-2,7.397032644480878E-3,1,125.97,16.499999999999979]
["16:40:00",1.5599999999999999E-2,1.5599999999999999E-2,3.6499999999999998E-2,7.397032644480878E-3,1,125.97,16.666666666666647]
["16:50:00",1.54E-2,1.54E-2,3.6499999999999998E-2,7.397032644480878E-3,1,125.97,16.833333333333314]
["17:00:00",1.4999999999999999E-2,1.4999999999999999E-2,3.6499999999999998E-2,7.397032644480878E-3,1,125.97,16.999999999999982]
["17:10:00",1.46E-2,1.46E-2,3.6499999999999998E-2,7.397032644480878E-3,1,125.97,17.16666666666665]
["17:20:00",1.4200000000000001E-2,1.4200000000000001E-2,3.6499999999999998E-2,7.397032644480878E-3,1,125.97,17.333333333333318]
["17:30:00",1.4E-2,1.4E-2,3.6499999999999998E-2,7.397032644480878E-3,1,125.97,17.499999999999986]
["17:40:00",1.3599999999999999E-2,1.3599999999999999E-2,3.6499999999999998E-2,7.397032644480878E-3,1,125.97,17.666666666666654]
["17:50:00",1.34E-2,1.34E-2,3.6499999999999998E-2,7.397032644480878E-3,1,125.97,17.833333333333321]
["18:00:00",1.32E-2,1.32E-2,3.6499999999999998E-2,7.397032644480878E-3,1,125.97,17.999999999999989]
["18:10:00",1.2999999999999999E-2,1.2999999999999999E-2,3.6499999999999998E-2,7.397032644480878E-3,1,125.97,18.166666666666657]
["18:20:00",1.26E-2,1.26E-2,3.6499999999999998E-2,7.397032644480878E-3,1,125.97,18.333333333333325]
["18:30:00",1.24E-2,1.24E-2,3.6499999999999998E-2,7.397032644480878E-3,1,125.97,18.499999999999993]
["18:40:00",1.2200000000000001E-2,1.2200000000000001E-2,3.6499999999999998E-2,7.397032644480878E-3,1,125.97,18.666666666666661]
["18:50:00",1.2E-2,1.2E-2,3.6499999999999998E-2,7.397032644480878E-3,1,125.97,18.833333333333329]
["19:00:00",1.18E-2,1.18E-2,3.6499999999999998E-2,7.397032644480878E-3,1,125.97,18.999999999999996]
["19:10:00",1.1599999999999999E-2,1.1599999999999999E-2,3.6499999999999998E-2,7.397032644480878E-3,1,125.97,19.166666666666664]
["19:20:00",1.14E-2,1.14E-2,3.6499999999999998E-2,7.397032644480878E-3,1,125.97,19.333333333333332]
["19:30:00",1.12E-2,1.12E-2,3.6499999999999998E-2,7.397032644480878E-3,1,125.97,19.5]
["19:40:00",1.0999999999999999E-2,1.0999999999999999E-2,3.6499999999999998E-2,7.397032644480878E-3,1,125.97,19.666666666666668]
["19:50:00",1.0999999999999999E-2,1.0999999999999999E-2,3.6499999999999998E-2,7.397032644480878E-3,1,125.97,19.833333333333336]
["20:00:00",1.0800000000000001E-2,1.0800000000000001E-2,3.6499999999999998E-2,7.397032644480878E-3,1,125.97,20.000000000000004]
["20:10:00",1.06E-2,1.06E-2,3.6499999999999998E-2,7.397032644480878E-3,1,125.97,20.166666666666671]
["20:20:00",1.04E-2,1.04E-2,3.6499999999999998E-2,7.397032644480878E-3,1,125.97,20.333333333333339]
["20:30:00",1.04E-2,1.04E-2,3.6499999999999998E-2,7.397032644480878E-3,1,125.97,20.500000000000007]
["20:40:00",1.0200000000000001E-2,1.0200000000000001E-2,3.6499999999999998E-2,7.397032644480878E-3,1,125.97,20.666666666666675]
["20:50:00",0.01,0.01,3.6499999999999998E-2,7.397032644480878E-3,1,125.97,20.833333333333343]
["21:00:00",0.01,0.01,3.6499999999999998E-2,7.397032644480878E-3,1,125.97,21.000000000000011]
["21:10:00",9.7999999999999997E-3,9.7999999999999997E-3,3.6499999999999998E-2,7.397032644480878E-3,1,125.97,21.166666666666679]
["21:20:00",9.5999999999999992E-3,9.5999999999999992E-3,3.6499999999999998E-2,7.397032644480878E-3,1,125.97,21.333333333333346]
["21:30:00",9.5999999999999992E-3,9.5999999999999992E-3,3.6499999999999998E-2,7.397032644480878E-3,1,125.97,21.500000000000014]
["21:40:00",9.4000000000000004E-3,9.4000000000000004E-3,3.6499999999999998E-2,7.397032644480878E-3,1,125.97,{"$f":"H136+1/6","v":21.666666666666682}]
["21:50:00",9.4000000000000004E-3,9.4000000000000004E-3,3.6499999999999998E-2,7.397032644480878E-3,1,125.97,21.83333333333335]
["22:00:00",9.1999999999999998E-3,9.1999999999999998E-3,3.6499999999999998E-2,7.397032644480878E-3,1,125.97,22.000000000000018]
["22:10:00",9.1999999999999998E-3,9.1999999999999998E-3,3.6499999999999998E-2,7.397032644480878E-3,1,125.97,22.166666666666686]
["22:20:00",8.9999999999999993E-3,8.9999999999999993E-3,3.6499999999999998E-2,7.397032644480878E-3,1,125.97,22.333333333333353]
["22:30:00",8.9999999999999993E-3,8.9999999999999993E-3,3.6499999999999998E-2,7.397032644480878E-3,1,125.97,22.500000000000021]
["22:40:00",8.8000000000000005E-3,8.8000000000000005E-3,3.6499999999999998E-2,7.397032644480878E-3,1,125.97,22.666666666666689]
["22:50:00",8.8000000000000005E-3,8.8000000000000005E-3,3.6499999999999998E-2,7.397032644480878E-3,1,125.97,22.833333333333357]
["23:00:00",8.6E-3,8.6E-3,3.6499999999999998E-2,7.397032644480878E-3,1,125.97,23.000000000000025]
["23:10:00",8.6E-3,8.6E-3,3.6499999999999998E-2,7.397032644480878E-3,1,125.97,23.166666666666693]
["23:20:00",8.3999999999999995E-3,8.3999999999999995E-3,3.6499999999999998E-2,7.397032644480878E-3,1,125.97,23.333333333333361]
["23:30:00",8.3999999999999995E-3,8.3999999999999995E-3,3.6499999999999998E-2,7.397032644480878E-3,1,125.97,23.500000000000028]
["23:40:00",8.2000000000000007E-3,8.2000000000000007E-3,3.6499999999999998E-2,7.397032644480878E-3,1,125.97,23.666666666666696]
["23:50:00",8.2000000000000007E-3,8.2000000000000007E-3,3.6499999999999998E-2,7.397032644480878E-3,1,125.97,23.833333333333364]
[1,8.2000000000000007E-3,8.2000000000000007E-3,3.6499999999999998E-2,7.397032644480878E-3,1,125.97,24.000000000000032]

{"sheet":"調節計算（自然調節方式_2段）","index":7,"n_rows":151,"n_cols":8,"rows_kept":151,"cut":false,"hidden":true,"merged":[]}
[]
[null,null,null,null,{"$f":"MAX(E7:E151)","v":7.397032644480878E-3}]
[]
[]
[]
["時刻","行為後流入量","浸透考慮後流入量","許容放流量","調節後放流量","調整池水位"]
["00:00:00",0,0,3.6499999999999998E-2,0,0,0,0]
["00:10:00",8.2000000000000007E-3,8.2000000000000007E-3,3.6499999999999998E-2,2.4910435945327822E-4,1.8935212289942181E-2,2.3852686921640167,{"$f":"H7+1/6","v":0.16666666666666666}]
["00:20:00",8.2000000000000007E-3,8.2000000000000007E-3,3.6499999999999998E-2,1.2199585228342589E-3,5.4493528836054267E-2,6.8645498274777559,{"$f":"H8+1/6","v":0.33333333333333331}]
["00:30:00",8.3999999999999995E-3,8.3999999999999995E-3,3.6499999999999998E-2,1.9495312227203012E-3,8.6478549684935999E-2,10.893702903811388,0.5]
["00:40:00",8.3999999999999995E-3,8.3999999999999995E-3,3.6499999999999998E-2,2.2099034858138089E-3,0.11658230127213744,14.685872491251153,0.66666666666666663]
["00:50:00",8.6E-3,8.6E-3,3.6499999999999998E-2,2.5539165999240725E-3,0.14572300123465737,18.356726465529789,0.83333333333333326]
["01:00:00",8.6E-3,8.6E-3,3.6499999999999998E-2,2.8483514696040126E-3,0.17381952881377602,21.896046044671365,0.99999999999999989]
["01:10:00",8.6E-3,8.6E-3,3.6499999999999998E-2,3.102898413717439E-3,0.20060864554794736,25.27067107967493,1.1666666666666665]
["01:20:00",8.8000000000000005E-3,8.8000000000000005E-3,3.6499999999999998E-2,3.3318968071562646E-3,0.2267224935572979,28.560232513412817,1.3333333333333333]
["01:30:00",8.8000000000000005E-3,8.8000000000000005E-3,3.6499999999999998E-2,3.5403078111174275E-3,0.25227094647877041,31.778571127930711,1.5]
["01:40:00",8.9999999999999993E-3,8.9999999999999993E-3,3.6499999999999998E-2,3.735271194097921E-3,0.27733505935036995,34.935897426366104,1.6666666666666667]
["01:50:00",8.9999999999999993E-3,8.9999999999999993E-3,3.6499999999999998E-2,3.917037050324099E-3,0.30197828810859328,38.040204953039499,1.8333333333333335]
["02:00:00",9.1999999999999998E-3,9.1999999999999998E-3,3.6499999999999998E-2,4.0873664477168049E-3,0.32625929906824819,41.098883903627225,2]
["02:10:00",9.1999999999999998E-3,9.1999999999999998E-3,3.6499999999999998E-2,4.2500663428079932E-3,0.3502234981858362,44.117654066469782,2.1666666666666665]
["02:20:00",9.4000000000000004E-3,9.4000000000000004E-3,3.6499999999999998E-2,4.4044189181700289E-3,0.37390893457312352,47.101308488176372,2.333333333333333]
["02:30:00",9.5999999999999992E-3,9.5999999999999992E-3,3.6499999999999998E-2,4.5550542985919613E-3,0.39782064398783662,50.113466523147778,2.4999999999999996]
["02:40:00",9.5999999999999992E-3,9.5999999999999992E-3,3.6499999999999998E-2,4.6994001480599465E-3,0.42150615376003975,53.097130189152203,2.6666666666666661]
["02:50:00",9.7999999999999997E-3,9.7999999999999997E-3,3.6499999999999998E-2,4.8380194576012475E-3,0.44499408039575966,56.055904307453844,2.8333333333333326]
["03:00:00",9.7999999999999997E-3,9.7999999999999997E-3,3.6499999999999998E-2,4.9727761655508577E-3,0.46830726062164174,58.992665620508212,2.9999999999999991]
["03:10:00",0.01,0.01,3.6499999999999998E-2,5.1019521716034969E-3,0.49146818384823293,61.910247119361905,3.1666666666666656]
["03:20:00",1.0200000000000001E-2,1.0200000000000001E-2,3.6499999999999998E-2,5.2299126648417422E-3,0.51496933927465538,64.870687668428332,3.3333333333333321]
["03:30:00",1.0200000000000001E-2,1.0200000000000001E-2,3.6499999999999998E-2,5.3548162435712483E-3,0.53834459788762745,67.815268995904432,3.4999999999999987]
["03:40:00",1.04E-2,1.04E-2,3.6499999999999998E-2,5.4756146645864876E-3,0.56161101630115984,70.746139723457105,3.6666666666666652]
["03:50:00",1.06E-2,1.06E-2,3.6499999999999998E-2,5.5962664378583103E-3,0.5852550241543516,73.724575392723665,3.8333333333333317]
["04:00:00",1.06E-2,1.06E-2,3.6499999999999998E-2,5.7143713680477643E-3,0.60880673216600656,76.691384050951839,3.9999999999999982]
["04:10:00",1.0800000000000001E-2,1.0800000000000001E-2,3.6499999999999998E-2,5.828903040238918E-3,0.6322807154756358,79.648401728465842,4.1666666666666652]
["04:20:00",1.0999999999999999E-2,1.0999999999999999E-2,3.6499999999999998E-2,5.9435447595600349E-3,0.65616152566901775,82.656667388526159,4.3333333333333321]
["04:30:00",1.12E-2,1.12E-2,3.6499999999999998E-2,6.0571535834253809E-3,0.680451360527352,85.716457885630533,4.4999999999999991]
["04:40:00",1.14E-2,1.14E-2,3.6499999999999998E-2,6.1709025185427242E-3,0.7051523462335485,88.828041055040103,4.6666666666666661]
["04:50:00",1.1599999999999999E-2,1.1599999999999999E-2,3.6499999999999998E-2,6.2847839572538677E-3,0.73026383355006053,91.99133511230113,4.833333333333333]
["05:00:00",1.18E-2,1.18E-2,3.6499999999999998E-2,6.3987908249292583E-3,0.75578520820549489,95.206262677646194,5]
["05:10:00",1.2E-2,1.2E-2,3.6499999999999998E-2,6.5118591984904316E-3,0.78171840653028724,98.473067670620281,5.166666666666667]
["05:20:00",1.2200000000000001E-2,1.2200000000000001E-2,3.6499999999999998E-2,6.6250765698650359E-3,0.80806530872520166,101.79198694011365,5.3333333333333339]
["05:30:00",1.24E-2,1.24E-2,3.6499999999999998E-2,6.7379244759843051E-3,0.83482643983772997,105.16308662635885,5.5000000000000009]
["05:40:00",1.26E-2,1.26E-2,3.6499999999999998E-2,6.850923738256522E-3,0.86200231929893301,108.5864321620866,5.6666666666666679]
["05:50:00",1.2800000000000001E-2,1.2800000000000001E-2,3.6499999999999998E-2,6.963572591897677E-3,0.88959342115615092,112.06208326304034,5.8333333333333348]
["06:00:00",1.2999999999999999E-2,1.2999999999999999E-2,3.6499999999999998E-2,7.0758877725507919E-3,0.91760137456303714,115.59024515370579,6.0000000000000018]
["06:10:00",1.32E-2,1.32E-2,3.6499999999999998E-2,7.1883638912261334E-3,0.94602659089126551,119.17096965457272,6.1666666666666687]
["06:20:00",1.3599999999999999E-2,1.3599999999999999E-2,3.6499999999999998E-2,7.3024080674365058E-3,0.97534125638623426,122.86373806697392,6.3333333333333357]
["06:30:00",1.38E-2,1.38E-2,3.6499999999999998E-2,7.397032644480878E-3,1,125.97,6.5000000000000027]
["06:40:00",1.4200000000000001E-2,1.4200000000000001E-2,3.6499999999999998E-2,7.397032644480878E-3,1,125.97,6.6666666666666696]
["06:50:00",1.44E-2,1.44E-2,3.6499999999999998E-2,7.397032644480878E-3,1,125.97,6.8333333333333366]
["07:00:00",1.4800000000000001E-2,1.4800000000000001E-2,3.6499999999999998E-2,7.397032644480878E-3,1,125.97,7.0000000000000036]
["07:10:00",1.52E-2,1.52E-2,3.6499999999999998E-2,7.397032644480878E-3,1,125.97,7.1666666666666705]
["07:20:00",1.54E-2,1.54E-2,3.6499999999999998E-2,7.397032644480878E-3,1,125.97,7.3333333333333375]
["07:30:00",1.5800000000000002E-2,1.5800000000000002E-2,3.6499999999999998E-2,7.397032644480878E-3,1,125.97,7.5000000000000044]
["07:40:00",1.6400000000000001E-2,1.6400000000000001E-2,3.6499999999999998E-2,7.397032644480878E-3,1,125.97,7.6666666666666714]
["07:50:00",1.6799999999999999E-2,1.6799999999999999E-2,3.6499999999999998E-2,7.397032644480878E-3,1,125.97,7.8333333333333384]
["08:00:00",1.72E-2,1.72E-2,3.6499999999999998E-2,7.397032644480878E-3,1,125.97,8.0000000000000053]
["08:10:00",1.78E-2,1.78E-2,3.6499999999999998E-2,7.397032644480878E-3,1,125.97,8.1666666666666714]
["08:20:00",1.8200000000000001E-2,1.8200000000000001E-2,3.6499999999999998E-2,7.397032644480878E-3,1,125.97,8.3333333333333375]
["08:30:00",1.8800000000000001E-2,1.8800000000000001E-2,3.6499999999999998E-2,7.397032644480878E-3,1,125.97,8.5000000000000036]
["08:40:00",1.9599999999999999E-2,1.9599999999999999E-2,3.6499999999999998E-2,7.397032644480878E-3,1,125.97,8.6666666666666696]
["08:50:00",2.0199999999999999E-2,2.0199999999999999E-2,3.6499999999999998E-2,7.397032644480878E-3,1,125.97,8.8333333333333357]
["09:00:00",2.1000000000000001E-2,2.1000000000000001E-2,3.6499999999999998E-2,7.397032644480878E-3,1,125.97,9.0000000000000018]
["09:10:00",2.18E-2,2.18E-2,3.6499999999999998E-2,7.397032644480878E-3,1,125.97,9.1666666666666679]
["09:20:00",2.2800000000000001E-2,2.2800000000000001E-2,3.6499999999999998E-2,7.397032644480878E-3,1,125.97,9.3333333333333339]
["09:30:00",2.3800000000000002E-2,2.3800000000000002E-2,3.6499999999999998E-2,7.397032644480878E-3,1,125.97,9.5]
["09:40:00",2.5000000000000001E-2,2.5000000000000001E-2,3.6499999999999998E-2,7.397032644480878E-3,1,125.97,9.6666666666666661]
["09:50:00",2.6200000000000001E-2,2.6200000000000001E-2,3.6499999999999998E-2,7.397032644480878E-3,1,125.97,9.8333333333333321]
["10:00:00",2.7799999999999998E-2,2.7799999999999998E-2,3.6499999999999998E-2,7.397032644480878E-3,1,125.97,9.9999999999999982]
["10:10:00",2.9399999999999999E-2,2.9399999999999999E-2,3.6499999999999998E-2,7.397032644480878E-3,1,125.97,10.166666666666664]
["10:20:00",3.1399999999999997E-2,3.1399999999999997E-2,3.6499999999999998E-2,7.397032644480878E-3,1,125.97,10.33333333333333]
["10:30:00",3.3799999999999997E-2,3.3799999999999997E-2,3.6499999999999998E-2,7.397032644480878E-3,1,125.97,10.499999999999996]
["10:40:00",3.6600000000000001E-2,3.6600000000000001E-2,3.6499999999999998E-2,7.397032644480878E-3,1,125.97,10.666666666666663]
["10:50:00",0.04,0.04,3.6499999999999998E-2,7.397032644480878E-3,1,125.97,10.833333333333329]
["11:00:00",4.4400000000000002E-2,4.4400000000000002E-2,3.6499999999999998E-2,7.397032644480878E-3,1,125.97,{"$f":"H72+1/6","v":10.999999999999995}]
["11:10:00",5.0200000000000002E-2,5.0200000000000002E-2,3.6499999999999998E-2,7.397032644480878E-3,1,125.97,11.166666666666661]
["11:20:00",5.8000000000000003E-2,5.8000000000000003E-2,3.6499999999999998E-2,7.397032644480878E-3,1,125.97,11.333333333333327]
["11:30:00",6.9599999999999995E-2,6.9599999999999995E-2,3.6499999999999998E-2,7.397032644480878E-3,1,125.97,11.499999999999993]
["11:40:00",8.8999999999999996E-2,8.8999999999999996E-2,3.6499999999999998E-2,7.397032644480878E-3,1,125.97,11.666666666666659]
["11:50:00",0.129,0.129,3.6499999999999998E-2,7.397032644480878E-3,1,125.97,11.833333333333325]
["12:00:00",0.31119999999999998,0.31119999999999998,3.6499999999999998E-2,7.397032644480878E-3,1,125.97,11.999999999999991]
["12:10:00",0.17399999999999999,0.17399999999999999,3.6499999999999998E-2,7.397032644480878E-3,1,125.97,12.166666666666657]
["12:20:00",0.1046,0.1046,3.6499999999999998E-2,7.397032644480878E-3,1,125.97,12.333333333333323]
["12:30:00",7.7799999999999994E-2,7.7799999999999994E-2,3.6499999999999998E-2,7.397032644480878E-3,1,125.97,12.499999999999989]
["12:40:00",6.3200000000000006E-2,6.3200000000000006E-2,3.6499999999999998E-2,7.397032644480878E-3,1,125.97,12.666666666666655]
["12:50:00",5.3800000000000001E-2,5.3800000000000001E-2,3.6499999999999998E-2,7.397032644480878E-3,1,125.97,12.833333333333321]
["13:00:00",4.7199999999999999E-2,4.7199999999999999E-2,3.6499999999999998E-2,7.397032644480878E-3,1,125.97,12.999999999999988]
["13:10:00",4.2200000000000001E-2,4.2200000000000001E-2,3.6499999999999998E-2,7.397032644480878E-3,1,125.97,13.166666666666654]
["13:20:00",3.8199999999999998E-2,3.8199999999999998E-2,3.6499999999999998E-2,7.397032644480878E-3,1,125.97,13.33333333333332]
["13:30:00",3.5200000000000002E-2,3.5200000000000002E-2,3.6499999999999998E-2,7.397032644480878E-3,1,125.97,13.499999999999986]
["13:40:00",3.2599999999999997E-2,3.2599999999999997E-2,3.6499999999999998E-2,7.397032644480878E-3,1,125.97,13.666666666666652]
["13:50:00",3.04E-2,3.04E-2,3.6499999999999998E-2,7.397032644480878E-3,1,125.97,13.833333333333318]
["14:00:00",2.86E-2,2.86E-2,3.6499999999999998E-2,7.397032644480878E-3,1,125.97,13.999999999999984]
["14:10:00",2.7E-2,2.7E-2,3.6499999999999998E-2,7.397032644480878E-3,1,125.97,14.16666666666665]
["14:20:00",2.5600000000000001E-2,2.5600000000000001E-2,3.6499999999999998E-2,7.397032644480878E-3,1,125.97,14.333333333333316]
["14:30:00",2.4400000000000002E-2,2.4400000000000002E-2,3.6499999999999998E-2,7.397032644480878E-3,1,125.97,14.499999999999982]
["14:40:00",2.3199999999999998E-2,2.3199999999999998E-2,3.6499999999999998E-2,7.397032644480878E-3,1,125.97,14.666666666666648]
["14:50:00",2.24E-2,2.24E-2,3.6499999999999998E-2,7.397032644480878E-3,1,125.97,14.833333333333314]
["15:00:00",2.1399999999999999E-2,2.1399999999999999E-2,3.6499999999999998E-2,7.397032644480878E-3,1,125.97,14.99999999999998]
["15:10:00",2.06E-2,2.06E-2,3.6499999999999998E-2,7.397032644480878E-3,1,125.97,15.166666666666647]
["15:20:00",1.9800000000000002E-2,1.9800000000000002E-2,3.6499999999999998E-2,7.397032644480878E-3,1,125.97,15.333333333333313]
["15:30:00",1.9199999999999998E-2,1.9199999999999998E-2,3.6499999999999998E-2,7.397032644480878E-3,1,125.97,15.499999999999979]
["15:40:00",1.8599999999999998E-2,1.8599999999999998E-2,3.6499999999999998E-2,7.397032644480878E-3,1,125.97,15.666666666666645]
["15:50:00",1.7999999999999999E-2,1.7999999999999999E-2,3.6499999999999998E-2,7.397032644480878E-3,1,125.97,15.833333333333311]
["16:00:00",1.7399999999999999E-2,1.7399999999999999E-2,3.6499999999999998E-2,7.397032644480878E-3,1,125.97,15.999999999999977]
["16:10:00",1.7000000000000001E-2,1.7000000000000001E-2,3.6499999999999998E-2,7.397032644480878E-3,1,125.97,16.166666666666643]
["16:20:00",1.66E-2,1.66E-2,3.6499999999999998E-2,7.397032644480878E-3,1,125.97,16.333333333333311]
["16:30:00",1.6E-2,1.6E-2,3.6499999999999998E-2,7.397032644480878E-3,1,125.97,16.499999999999979]
["16:40:00",1.5599999999999999E-2,1.5599999999999999E-2,3.6499999999999998E-2,7.397032644480878E-3,1,125.97,16.666666666666647]
["16:50:00",1.54E-2,1.54E-2,3.6499999999999998E-2,7.397032644480878E-3,1,125.97,16.833333333333314]
["17:00:00",1.4999999999999999E-2,1.4999999999999999E-2,3.6499999999999998E-2,7.397032644480878E-3,1,125.97,16.999999999999982]
["17:10:00",1.46E-2,1.46E-2,3.6499999999999998E-2,7.397032644480878E-3,1,125.97,17.16666666666665]
["17:20:00",1.4200000000000001E-2,1.4200000000000001E-2,3.6499999999999998E-2,7.397032644480878E-3,1,125.97,17.333333333333318]
["17:30:00",1.4E-2,1.4E-2,3.6499999999999998E-2,7.397032644480878E-3,1,125.97,17.499999999999986]
["17:40:00",1.3599999999999999E-2,1.3599999999999999E-2,3.6499999999999998E-2,7.397032644480878E-3,1,125.97,17.666666666666654]
["17:50:00",1.34E-2,1.34E-2,3.6499999999999998E-2,7.397032644480878E-3,1,125.97,17.833333333333321]
["18:00:00",1.32E-2,1.32E-2,3.6499999999999998E-2,7.397032644480878E-3,1,125.97,17.999999999999989]
["18:10:00",1.2999999999999999E-2,1.2999999999999999E-2,3.6499999999999998E-2,7.397032644480878E-3,1,125.97,18.166666666666657]
["18:20:00",1.26E-2,1.26E-2,3.6499999999999998E-2,7.397032644480878E-3,1,125.97,18.333333333333325]
["18:30:00",1.24E-2,1.24E-2,3.6499999999999998E-2,7.397032644480878E-3,1,125.97,18.499999999999993]
["18:40:00",1.2200000000000001E-2,1.2200000000000001E-2,3.6499999999999998E-2,7.397032644480878E-3,1,125.97,18.666666666666661]
["18:50:00",1.2E-2,1.2E-2,3.6499999999999998E-2,7.397032644480878E-3,1,125.97,18.833333333333329]
["19:00:00",1.18E-2,1.18E-2,3.6499999999999998E-2,7.397032644480878E-3,1,125.97,18.999999999999996]
["19:10:00",1.1599999999999999E-2,1.1599999999999999E-2,3.6499999999999998E-2,7.397032644480878E-3,1,125.97,19.166666666666664]
["19:20:00",1.14E-2,1.14E-2,3.6499999999999998E-2,7.397032644480878E-3,1,125.97,19.333333333333332]
["19:30:00",1.12E-2,1.12E-2,3.6499999999999998E-2,7.397032644480878E-3,1,125.97,19.5]
["19:40:00",1.0999999999999999E-2,1.0999999999999999E-2,3.6499999999999998E-2,7.397032644480878E-3,1,125.97,19.666666666666668]
["19:50:00",1.0999999999999999E-2,1.0999999999999999E-2,3.6499999999999998E-2,7.397032644480878E-3,1,125.97,19.833333333333336]
["20:00:00",1.0800000000000001E-2,1.0800000000000001E-2,3.6499999999999998E-2,7.397032644480878E-3,1,125.97,20.000000000000004]
["20:10:00",1.06E-2,1.06E-2,3.6499999999999998E-2,7.397032644480878E-3,1,125.97,20.166666666666671]
["20:20:00",1.04E-2,1.04E-2,3.6499999999999998E-2,7.397032644480878E-3,1,125.97,20.333333333333339]
["20:30:00",1.04E-2,1.04E-2,3.6499999999999998E-2,7.397032644480878E-3,1,125.97,20.500000000000007]
["20:40:00",1.0200000000000001E-2,1.0200000000000001E-2,3.6499999999999998E-2,7.397032644480878E-3,1,125.97,20.666666666666675]
["20:50:00",0.01,0.01,3.6499999999999998E-2,7.397032644480878E-3,1,125.97,20.833333333333343]
["21:00:00",0.01,0.01,3.6499999999999998E-2,7.397032644480878E-3,1,125.97,21.000000000000011]
["21:10:00",9.7999999999999997E-3,9.7999999999999997E-3,3.6499999999999998E-2,7.397032644480878E-3,1,125.97,21.166666666666679]
["21:20:00",9.5999999999999992E-3,9.5999999999999992E-3,3.6499999999999998E-2,7.397032644480878E-3,1,125.97,21.333333333333346]
["21:30:00",9.5999999999999992E-3,9.5999999999999992E-3,3.6499999999999998E-2,7.397032644480878E-3,1,125.97,21.500000000000014]
["21:40:00",9.4000000000000004E-3,9.4000000000000004E-3,3.6499999999999998E-2,7.397032644480878E-3,1,125.97,{"$f":"H136+1/6","v":21.666666666666682}]
["21:50:00",9.4000000000000004E-3,9.4000000000000004E-3,3.6499999999999998E-2,7.397032644480878E-3,1,125.97,21.83333333333335]
["22:00:00",9.1999999999999998E-3,9.1999999999999998E-3,3.6499999999999998E-2,7.397032644480878E-3,1,125.97,22.000000000000018]
["22:10:00",9.1999999999999998E-3,9.1999999999999998E-3,3.6499999999999998E-2,7.397032644480878E-3,1,125.97,22.166666666666686]
["22:20:00",8.9999999999999993E-3,8.9999999999999993E-3,3.6499999999999998E-2,7.397032644480878E-3,1,125.97,22.333333333333353]
["22:30:00",8.9999999999999993E-3,8.9999999999999993E-3,3.6499999999999998E-2,7.397032644480878E-3,1,125.97,22.500000000000021]
["22:40:00",8.8000000000000005E-3,8.8000000000000005E-3,3.6499999999999998E-2,7.397032644480878E-3,1,125.97,22.666666666666689]
["22:50:00",8.8000000000000005E-3,8.8000000000000005E-3,3.6499999999999998E-2,7.397032644480878E-3,1,125.97,22.833333333333357]
["23:00:00",8.6E-3,8.6E-3,3.6499999999999998E-2,7.397032644480878E-3,1,125.97,23.000000000000025]
["23:10:00",8.6E-3,8.6E-3,3.6499999999999998E-2,7.397032644480878E-3,1,125.97,23.166666666666693]
["23:20:00",8.3999999999999995E-3,8.3999999999999995E-3,3.6499999999999998E-2,7.397032644480878E-3,1,125.97,23.333333333333361]
["23:30:00",8.3999999999999995E-3,8.3999999999999995E-3,3.6499999999999998E-2,7.397032644480878E-3,1,125.97,23.500000000000028]
["23:40:00",8.2000000000000007E-3,8.2000000000000007E-3,3.6499999999999998E-2,7.397032644480878E-3,1,125.97,23.666666666666696]
["23:50:00",8.2000000000000007E-3,8.2000000000000007E-3,3.6499999999999998E-2,7.397032644480878E-3,1,125.97,23.833333333333364]
[1,8.2000000000000007E-3,8.2000000000000007E-3,3.6499999999999998E-2,7.397032644480878E-3,1,125.97,24.000000000000032]

{"sheet":"調節計算（ポンプ）","index":8,"n_rows":151,"n_cols":8,"rows_kept":151,"cut":false,"hidden":true,"merged":[]}
[]
[null,null,null,null,{"$f":"MAX(E7:E151)","v":3.6499999999999998E-2}]
[]
[]
[]
["時刻","行為後流入量","浸透考慮後流入量","許容放流量","調節後放流量","調整池水位"]
["00:00:00",0,0,3.6499999999999998E-2,0,0,null,0]
["00:10:00",8.2000000000000007E-3,8.2000000000000007E-3,3.6499999999999998E-2,0,2.9567307692307697E-3,null,{"$f":"H7+1/6","v":0.16666666666666666}]
["00:20:00",8.2000000000000007E-3,8.2000000000000007E-3,3.6499999999999998E-2,4.1000000000000003E-3,7.3918269230769237E-3,null,{"$f":"H8+1/6","v":0.33333333333333331}]
["00:30:00",8.3999999999999995E-3,8.3999999999999995E-3,3.6499999999999998E-2,1.025E-2,8.2031250000000003E-3,null,0.5]
["00:40:00",8.3999999999999995E-3,8.3999999999999995E-3,3.6499999999999998E-2,1.1375E-2,6.463341346153847E-3,null,0.66666666666666663]
["00:50:00",8.6E-3,8.6E-3,3.6499999999999998E-2,8.9625E-3,5.259915865384616E-3,null,0.83333333333333326]
["01:00:00",8.6E-3,8.6E-3,3.6499999999999998E-2,7.2937500000000008E-3,5.6002103365384625E-3,null,0.99999999999999989]
["01:10:00",8.6E-3,8.6E-3,3.6499999999999998E-2,7.7656250000000008E-3,6.3720703125000003E-3,null,1.1666666666666665]
["01:20:00",8.8000000000000005E-3,8.8000000000000005E-3,3.6499999999999998E-2,8.8359375E-3,6.6599684495192305E-3,null,1.3333333333333333]
["01:30:00",8.8000000000000005E-3,8.8000000000000005E-3,3.6499999999999998E-2,9.2351562499999994E-3,6.4901029146634624E-3,null,1.5]
["01:40:00",8.9999999999999993E-3,8.9999999999999993E-3,3.6499999999999998E-2,8.9996093750000002E-3,6.3333364633413472E-3,null,1.6666666666666667]
["01:50:00",8.9999999999999993E-3,8.9999999999999993E-3,3.6499999999999998E-2,8.7822265625000021E-3,6.4120013897235578E-3,null,1.8333333333333335]
["02:00:00",9.1999999999999998E-3,9.1999999999999998E-3,3.6499999999999998E-2,8.8913085937499994E-3,6.6018324631911046E-3,null,2]
["02:10:00",9.1999999999999998E-3,9.1999999999999998E-3,3.6499999999999998E-2,9.1545410156249982E-3,6.7295309213491594E-3,null,2.1666666666666665]
["02:20:00",9.4000000000000004E-3,9.4000000000000004E-3,3.6499999999999998E-2,9.331616210937501E-3,6.7705799983097947E-3,null,2.333333333333333]
["02:30:00",9.5999999999999992E-3,9.5999999999999992E-3,3.6499999999999998E-2,9.388537597656248E-3,6.8714860769418561E-3,null,2.4999999999999996]
["02:40:00",9.5999999999999992E-3,9.5999999999999992E-3,3.6499999999999998E-2,9.5284606933593741E-3,6.9735299623929535E-3,null,2.6666666666666661]
["02:50:00",9.7999999999999997E-3,9.7999999999999997E-3,3.6499999999999998E-2,9.6699615478515622E-3,7.0462142504178569E-3,null,2.8333333333333326]
["03:00:00",9.7999999999999997E-3,9.7999999999999997E-3,3.6499999999999998E-2,9.7707504272460943E-3,7.1036498363201452E-3,null,2.9999999999999991]
["03:10:00",0.01,0.01,3.6499999999999998E-2,9.8503944396972683E-3,7.1681408698742195E-3,null,3.1666666666666656]
["03:20:00",1.0200000000000001E-2,1.0200000000000001E-2,3.6499999999999998E-2,9.9398220062255852E-3,7.315899362930884E-3,null,3.3333333333333321]
["03:30:00",1.0200000000000001E-2,1.0200000000000001E-2,3.6499999999999998E-2,1.0144713783264158E-2,7.4296484772975631E-3,null,3.4999999999999987]
["03:40:00",1.04E-2,1.04E-2,3.6499999999999998E-2,1.0302445888519286E-2,7.4847591725679553E-3,null,3.6666666666666652]
["03:50:00",1.06E-2,1.06E-2,3.6499999999999998E-2,1.0378866052627566E-2,7.5996707322505807E-3,null,3.8333333333333317]
["04:00:00",1.06E-2,1.06E-2,3.6499999999999998E-2,1.0538210082054139E-2,7.7016865490720822E-3,null,3.9999999999999982]
["04:10:00",1.0800000000000001E-2,1.0800000000000001E-2,3.6499999999999998E-2,1.0679672014713287E-2,7.7673540622569042E-3,null,4.1666666666666652]
["04:20:00",1.0999999999999999E-2,1.0999999999999999E-2,3.6499999999999998E-2,1.0770730966329575E-2,7.8934106796693347E-3,null,4.3333333333333321]
["04:30:00",1.12E-2,1.12E-2,3.6499999999999998E-2,1.0945529475808144E-2,8.0678360010139061E-3,null,4.4999999999999991]
["04:40:00",1.14E-2,1.14E-2,3.6499999999999998E-2,1.1187399254739282E-2,8.2362511222107485E-3,null,4.6666666666666661]
["04:50:00",1.1599999999999999E-2,1.1599999999999999E-2,3.6499999999999998E-2,1.1420934889465571E-2,8.377476791367652E-3,null,4.833333333333333]
["05:00:00",1.18E-2,1.18E-2,3.6499999999999998E-2,1.1616767817363144E-2,8.5081128345784515E-3,null,5]
["05:10:00",1.2E-2,1.2E-2,3.6499999999999998E-2,1.1797916463948786E-2,8.64704879083617E-3,null,5.166666666666667]
["05:20:00",1.2200000000000001E-2,1.2200000000000001E-2,3.6499999999999998E-2,1.1990574323292823E-2,8.7954295165903976E-3,null,5.3333333333333339]
["05:30:00",1.24E-2,1.24E-2,3.6499999999999998E-2,1.2196328929672018E-2,8.9443826705694219E-3,null,5.5000000000000009]
["05:40:00",1.26E-2,1.26E-2,3.6499999999999998E-2,1.2402877303189598E-2,9.08889965391259E-3,null,5.6666666666666679]
["05:50:00",1.2800000000000001E-2,1.2800000000000001E-2,3.6499999999999998E-2,1.260327418675879E-2,9.2309123378254299E-3,null,5.8333333333333348]
["06:00:00",1.2999999999999999E-2,1.2999999999999999E-2,3.6499999999999998E-2,1.2800198441784595E-2,9.3738909573410339E-3,null,6.0000000000000018]
["06:10:00",1.32E-2,1.32E-2,3.6499999999999998E-2,1.2998462127512902E-2,9.5186046943731874E-3,null,6.1666666666666687]
["06:20:00",1.3599999999999999E-2,1.3599999999999999E-2,3.6499999999999998E-2,1.3199131842864153E-2,9.7358184069776133E-3,null,6.3333333333333357]
["06:30:00",1.38E-2,1.38E-2,3.6499999999999998E-2,1.3500334857675622E-2,9.988414548609905E-3,null,6.5000000000000027]
["06:40:00",1.4200000000000001E-2,1.4200000000000001E-2,3.6499999999999998E-2,1.3850601507405734E-2,1.0222451916969992E-2,null,6.6666666666666696]
["06:50:00",1.44E-2,1.44E-2,3.6499999999999998E-2,1.4175133324865054E-2,1.0429518684180043E-2,null,6.8333333333333366]
["07:00:00",1.4800000000000001E-2,1.4800000000000001E-2,3.6499999999999998E-2,1.4462265908729659E-2,1.063237953745118E-2,null,7.0000000000000036]
["07:10:00",1.52E-2,1.52E-2,3.6499999999999998E-2,1.4743566291932303E-2,1.0918738118943259E-2,null,7.1666666666666705]
["07:20:00",1.54E-2,1.54E-2,3.6499999999999998E-2,1.514065019160132E-2,1.1176833136899888E-2,null,7.3333333333333375]
["07:30:00",1.5800000000000002E-2,1.5800000000000002E-2,3.6499999999999998E-2,1.5498541949834511E-2,1.1379047508978316E-2,null,7.5000000000000044]
["07:40:00",1.6400000000000001E-2,1.6400000000000001E-2,3.6499999999999998E-2,1.5778945879116598E-2,1.171168410911614E-2,null,7.6666666666666714]
["07:50:00",1.6799999999999999E-2,1.6799999999999999E-2,3.6499999999999998E-2,1.6240201964641047E-2,1.2137472146222758E-2,null,7.8333333333333384]
["08:00:00",1.72E-2,1.72E-2,3.6499999999999998E-2,1.6830628042762225E-2,1.2472509403168696E-2,null,8.0000000000000053]
["08:10:00",1.78E-2,1.78E-2,3.6499999999999998E-2,1.7295213039060592E-2,1.278771093616528E-2,null,8.1666666666666714]
["08:20:00",1.8200000000000001E-2,1.8200000000000001E-2,3.6499999999999998E-2,1.7732292498149185E-2,1.3138369997267526E-2,null,8.3333333333333375]
["08:30:00",1.8800000000000001E-2,1.8800000000000001E-2,3.6499999999999998E-2,1.8218539729544302E-2,1.3516675684397277E-2,null,8.5000000000000036]
["08:40:00",1.9599999999999999E-2,1.9599999999999999E-2,3.6499999999999998E-2,1.8743123615697559E-2,1.4035306689718722E-2,null,8.6666666666666696]
["08:50:00",2.0199999999999999E-2,2.0199999999999999E-2,3.6499999999999998E-2,1.9462291943076627E-2,1.4610277041122261E-2,null,8.8333333333333357]
["09:00:00",2.1000000000000001E-2,2.1000000000000001E-2,3.6499999999999998E-2,2.0259584163689538E-2,1.5143254406470999E-2,null,9.0000000000000018]
["09:10:00",2.18E-2,2.18E-2,3.6499999999999998E-2,2.0998646110306451E-2,1.5699180990366678E-2,null,9.1666666666666679]
["09:20:00",2.2800000000000001E-2,2.2800000000000001E-2,3.6499999999999998E-2,2.176953097330846E-2,1.6359694061178608E-2,null,9.3333333333333339]
["09:30:00",2.3800000000000002E-2,2.3800000000000002E-2,3.6499999999999998E-2,2.2685442431501005E-2,1.7133141150790582E-2,null,9.5]
["09:40:00",2.5000000000000001E-2,2.5000000000000001E-2,3.6499999999999998E-2,2.3757955729096274E-2,1.7982877390959832E-2,null,9.6666666666666661]
["09:50:00",2.6200000000000001E-2,2.6200000000000001E-2,3.6499999999999998E-2,2.4936256648797634E-2,1.8886406581623084E-2,null,9.8333333333333321]
["10:00:00",2.7799999999999998E-2,2.7799999999999998E-2,3.6499999999999998E-2,2.618915045985068E-2,1.9922918441485474E-2,null,9.9999999999999982]
["10:10:00",2.9399999999999999E-2,2.9399999999999999E-2,3.6499999999999998E-2,2.7626446905526524E-2,2.1143255929931194E-2,null,10.166666666666664]
["10:20:00",3.1399999999999997E-2,3.1399999999999997E-2,3.6499999999999998E-2,2.9318648222837921E-2,2.2533245667299782E-2,null,10.33333333333333]
["10:30:00",3.3799999999999997E-2,3.3799999999999997E-2,3.6499999999999998E-2,3.1246100658655695E-2,2.4204610253299674E-2,null,10.499999999999996]
["10:40:00",3.6600000000000001E-2,3.6600000000000001E-2,3.6499999999999998E-2,3.3563726217908881E-2,2.6220297677615332E-2,null,10.666666666666663]
["10:50:00",0.04,0.04,3.6499999999999998E-2,3.635881277962659E-2,2.8628036019850138E-2,null,10.833333333333329]
["11:00:00",4.4400000000000002E-2,4.4400000000000002E-2,3.6499999999999998E-2,3.6499999999999998E-2,3.2789521796427093E-2,null,{"$f":"H72+1/6","v":10.999999999999995}]
["11:10:00",5.0200000000000002E-2,5.0200000000000002E-2,3.6499999999999998E-2,3.6499999999999998E-2,4.0577983334888636E-2,null,11.166666666666661]
["11:20:00",5.8000000000000003E-2,5.8000000000000003E-2,3.6499999999999998E-2,3.6499999999999998E-2,5.3270291027196333E-2,null,11.333333333333327]
["11:30:00",6.9599999999999995E-2,6.9599999999999995E-2,3.6499999999999998E-2,3.6499999999999998E-2,7.2957791027196336E-2,null,11.499999999999993]
["11:40:00",8.8999999999999996E-2,8.8999999999999996E-2,3.6499999999999998E-2,3.6499999999999998E-2,0.10382317564258094,null,11.666666666666659]
["11:50:00",0.129,0.129,3.6499999999999998E-2,3.6499999999999998E-2,0.15610682948873478,null,11.833333333333325]
["12:00:00",0.31119999999999998,0.31119999999999998,3.6499999999999998E-2,3.6499999999999998E-2,0.28851067564258093,null,11.999999999999991]
["12:10:00",0.17399999999999999,0.17399999999999999,3.6499999999999998E-2,3.6499999999999998E-2,0.43714048333488859,null,12.166666666666657]
["12:20:00",0.1046,0.1046,3.6499999999999998E-2,3.6499999999999998E-2,0.5,null,12.333333333333323]
["12:30:00",7.7799999999999994E-2,7.7799999999999994E-2,3.6499999999999998E-2,3.6499999999999998E-2,0.5,null,12.499999999999989]
["12:40:00",6.3200000000000006E-2,6.3200000000000006E-2,3.6499999999999998E-2,3.6499999999999998E-2,0.5,null,12.666666666666655]
["12:50:00",5.3800000000000001E-2,5.3800000000000001E-2,3.6499999999999998E-2,3.6499999999999998E-2,0.5,null,12.833333333333321]
["13:00:00",4.7199999999999999E-2,4.7199999999999999E-2,3.6499999999999998E-2,3.6499999999999998E-2,0.5,null,12.999999999999988]
["13:10:00",4.2200000000000001E-2,4.2200000000000001E-2,3.6499999999999998E-2,3.6499999999999998E-2,0.5,null,13.166666666666654]
["13:20:00",3.8199999999999998E-2,3.8199999999999998E-2,3.6499999999999998E-2,3.6499999999999998E-2,0.5,null,13.33333333333332]
["13:30:00",3.5200000000000002E-2,3.5200000000000002E-2,3.6499999999999998E-2,3.6499999999999998E-2,0.49953125000000004,null,13.499999999999986]
["13:40:00",3.2599999999999997E-2,3.2599999999999997E-2,3.6499999999999998E-2,3.6499999999999998E-2,0.49765625000000002,null,13.666666666666652]
["13:50:00",3.04E-2,3.04E-2,3.6499999999999998E-2,3.6499999999999998E-2,0.4940504807692308,null,13.833333333333318]
["14:00:00",2.86E-2,2.86E-2,3.6499999999999998E-2,3.6499999999999998E-2,0.4890024038461539,null,13.999999999999984]
["14:10:00",2.7E-2,2.7E-2,3.6499999999999998E-2,3.6499999999999998E-2,0.48272836538461539,null,14.16666666666665]
["14:20:00",2.5600000000000001E-2,2.5600000000000001E-2,3.6499999999999998E-2,3.6499999999999998E-2,0.47537259615384614,null,14.333333333333316]
["14:30:00",2.4400000000000002E-2,2.4400000000000002E-2,3.6499999999999998E-2,3.6499999999999998E-2,0.46707932692307697,null,14.499999999999982]
["14:40:00",2.3199999999999998E-2,2.3199999999999998E-2,3.6499999999999998E-2,3.6499999999999998E-2,0.45792067307692308,null,14.666666666666648]
["14:50:00",2.24E-2,2.24E-2,3.6499999999999998E-2,3.6499999999999998E-2,0.44804086538461535,null,14.833333333333314]
["15:00:00",2.1399999999999999E-2,2.1399999999999999E-2,3.6499999999999998E-2,3.6499999999999998E-2,0.43751201923076921,null,14.99999999999998]
["15:10:00",2.06E-2,2.06E-2,3.6499999999999998E-2,3.6499999999999998E-2,0.42633413461538461,null,15.166666666666647]
["15:20:00",1.9800000000000002E-2,1.9800000000000002E-2,3.6499999999999998E-2,3.6499999999999998E-2,0.41457932692307692,null,15.333333333333313]
["15:30:00",1.9199999999999998E-2,1.9199999999999998E-2,3.6499999999999998E-2,3.6499999999999998E-2,0.40231971153846158,null,15.499999999999979]
["15:40:00",1.8599999999999998E-2,1.8599999999999998E-2,3.6499999999999998E-2,3.6499999999999998E-2,0.38962740384615385,null,15.666666666666645]
["15:50:00",1.7999999999999999E-2,1.7999999999999999E-2,3.6499999999999998E-2,3.6499999999999998E-2,0.37650240384615385,null,15.833333333333311]
["16:00:00",1.7399999999999999E-2,1.7399999999999999E-2,3.6499999999999998E-2,3.6499999999999998E-2,0.36294471153846158,null,15.999999999999977]
["16:10:00",1.7000000000000001E-2,1.7000000000000001E-2,3.6499999999999998E-2,3.6499999999999998E-2,0.34902644230769236,null,16.166666666666643]
["16:20:00",1.66E-2,1.66E-2,3.6499999999999998E-2,3.6499999999999998E-2,0.33481971153846157,null,16.333333333333311]
["16:30:00",1.6E-2,1.6E-2,3.6499999999999998E-2,3.6499999999999998E-2,0.32025240384615389,null,16.499999999999979]
["16:40:00",1.5599999999999999E-2,1.5599999999999999E-2,3.6499999999999998E-2,3.6499999999999998E-2,0.30532451923076931,null,16.666666666666647]
["16:50:00",1.54E-2,1.54E-2,3.6499999999999998E-2,3.6499999999999998E-2,0.29018028846153854,null,16.833333333333314]
["17:00:00",1.4999999999999999E-2,1.4999999999999999E-2,3.6499999999999998E-2,3.6499999999999998E-2,0.27481971153846163,null,16.999999999999982]
["17:10:00",1.46E-2,1.46E-2,3.6499999999999998E-2,3.6499999999999998E-2,0.25917067307692315,null,17.16666666666665]
["17:20:00",1.4200000000000001E-2,1.4200000000000001E-2,3.6499999999999998E-2,3.6499999999999998E-2,0.24323317307692316,null,17.333333333333318]
["17:30:00",1.4E-2,1.4E-2,3.6499999999999998E-2,3.6499999999999998E-2,0.227079326923077,null,17.499999999999986]
["17:40:00",1.3599999999999999E-2,1.3599999999999999E-2,3.6499999999999998E-2,3.6499999999999998E-2,0.21070913461538468,null,17.666666666666654]
["17:50:00",1.34E-2,1.34E-2,3.6499999999999998E-2,3.6499999999999998E-2,0.19412259615384622,null,17.833333333333321]
["18:00:00",1.32E-2,1.32E-2,3.6499999999999998E-2,3.6499999999999998E-2,0.17739182692307701,null,17.999999999999989]
["18:10:00",1.2999999999999999E-2,1.2999999999999999E-2,3.6499999999999998E-2,3.6499999999999998E-2,0.16051682692307701,null,18.166666666666657]
["18:20:00",1.26E-2,1.26E-2,3.6499999999999998E-2,3.6499999999999998E-2,0.14342548076923084,null,18.333333333333325]
["18:30:00",1.24E-2,1.24E-2,3.6499999999999998E-2,3.6499999999999998E-2,0.12611778846153854,null,18.499999999999993]
["18:40:00",1.2200000000000001E-2,1.2200000000000001E-2,3.6499999999999998E-2,3.6499999999999998E-2,0.10866586538461546,null,18.666666666666661]
["18:50:00",1.2E-2,1.2E-2,3.6499999999999998E-2,3.6499999999999998E-2,9.106971153846162E-2,null,18.833333333333329]
["19:00:00",1.18E-2,1.18E-2,3.6499999999999998E-2,3.6499999999999998E-2,7.3329326923077004E-2,null,18.999999999999996]
["19:10:00",1.1599999999999999E-2,1.1599999999999999E-2,3.6499999999999998E-2,3.6499999999999998E-2,5.5444711538461616E-2,null,19.166666666666664]
["19:20:00",1.14E-2,1.14E-2,3.6499999999999998E-2,3.6499999999999998E-2,3.7415865384615464E-2,null,19.333333333333332]
["19:30:00",1.12E-2,1.12E-2,3.6499999999999998E-2,3.6499999999999998E-2,1.9242788461538544E-2,null,19.5]
["19:40:00",1.0999999999999999E-2,1.0999999999999999E-2,3.6499999999999998E-2,2.219429016113281E-2,6.0837896053608466E-3,null,19.666666666666668]
["19:50:00",1.0999999999999999E-2,1.0999999999999999E-2,3.6499999999999998E-2,8.4361882527670407E-3,2.9718382541950345E-3,null,19.833333333333336]
["20:00:00",1.0800000000000001E-2,1.0800000000000001E-2,3.6499999999999998E-2,4.1209490458171145E-3,6.3046012474940166E-3,null,20.000000000000004]
["20:10:00",1.06E-2,1.06E-2,3.6499999999999998E-2,8.742380396525036E-3,9.3827276504956456E-3,null,20.166666666666671]
["20:20:00",1.04E-2,1.04E-2,3.6499999999999998E-2,1.3010715675353961E-2,9.1111785861161983E-3,null,20.333333333333339]
["20:30:00",1.04E-2,1.04E-2,3.6499999999999998E-2,1.2634167639414462E-2,7.3642254678102769E-3,null,20.500000000000007]
["20:40:00",1.0200000000000001E-2,1.0200000000000001E-2,3.6499999999999998E-2,1.021172598203025E-2,6.5544080562316542E-3,null,20.666666666666675]
["20:50:00",0.01,0.01,3.6499999999999998E-2,9.0887791713078932E-3,6.8787451403645354E-3,null,20.833333333333343]
["21:00:00",0.01,0.01,3.6499999999999998E-2,9.5385265946388229E-3,7.3737070036049021E-3,null,21.000000000000011]
["21:10:00",9.7999999999999997E-3,9.7999999999999997E-3,3.6499999999999998E-2,1.0224873711665465E-2,7.3869040085432595E-3,null,21.166666666666679]
["21:20:00",9.5999999999999992E-3,9.5999999999999992E-3,3.6499999999999998E-2,1.024317355851332E-2,7.0017908101614864E-3,null,21.333333333333346]
["21:30:00",9.5999999999999992E-3,9.5999999999999992E-3,3.6499999999999998E-2,9.7091499234239279E-3,6.7305203238860363E-3,null,21.500000000000014]
["21:40:00",9.4000000000000004E-3,9.4000000000000004E-3,3.6499999999999998E-2,9.332988182455303E-3,6.7153262953238138E-3,null,{"$f":"H136+1/6","v":21.666666666666682}]
["21:50:00",9.4000000000000004E-3,9.4000000000000004E-3,3.6499999999999998E-2,9.3119191295156882E-3,6.7712491395650427E-3,null,21.83333333333335]
["22:00:00",9.1999999999999998E-3,9.1999999999999998E-3,3.6499999999999998E-2,9.3894654735301921E-3,6.734692191351384E-3,null,22.000000000000018]
["22:10:00",9.1999999999999998E-3,9.1999999999999998E-3,3.6499999999999998E-2,9.3387731720072521E-3,6.6163369105085561E-3,null,22.166666666666686]
["22:20:00",8.9999999999999993E-3,8.9999999999999993E-3,3.6499999999999998E-2,9.1746538492385298E-3,6.5033223595785863E-3,null,22.333333333333353]
["22:30:00",8.9999999999999993E-3,8.9999999999999993E-3,3.6499999999999998E-2,9.0179403386156393E-3,6.4338773399196308E-3,null,22.500000000000021]
["22:40:00",8.8000000000000005E-3,8.8000000000000005E-3,3.6499999999999998E-2,8.9216432446885558E-3,6.3835467209397527E-3,null,22.666666666666689]
["22:50:00",8.8000000000000005E-3,8.8000000000000005E-3,3.6499999999999998E-2,8.8518514530364582E-3,6.3209885366639074E-3,null,22.833333333333357]
["23:00:00",8.6E-3,8.6E-3,3.6499999999999998E-2,8.7651041041739517E-3,6.2427593694005384E-3,null,23.000000000000025]
["23:10:00",8.6E-3,8.6E-3,3.6499999999999998E-2,8.6566263255687462E-3,6.1628084932913935E-3,null,23.166666666666693]
["23:20:00",8.3999999999999995E-3,8.3999999999999995E-3,3.6499999999999998E-2,8.5457611106973981E-3,6.089832254253121E-3,null,23.333333333333361]
["23:30:00",8.3999999999999995E-3,8.3999999999999995E-3,3.6499999999999998E-2,8.4445673925643283E-3,6.021204188173172E-3,null,23.500000000000028]
["23:40:00",8.2000000000000007E-3,8.2000000000000007E-3,3.6499999999999998E-2,8.3494031409334646E-3,5.9512628900369475E-3,null,23.666666666666696]
["23:50:00",8.2000000000000007E-3,8.2000000000000007E-3,3.6499999999999998E-2,8.2524178741845682E-3,5.8784908893934262E-3,null,23.833333333333364]
[1,8.2000000000000007E-3,8.2000000000000007E-3,3.6499999999999998E-2,8.1515073666255516E-3,5.8770755381397774E-3,null,24.000000000000032]